Workbook
Name Méry: #REF!
Name POINT1: #REF!

Sheet série A
C1: VAL D'OISE TROPHY UFOLEP JEUNES 2026
AF2: =IF(F7=1,SUM(H11:H90),IF(F7=2,SUM(K11:K90),IF(F7=3,SUM(N11:N90),IF(F7=4,SUM(Q11:Q90),IF(F7=5,SUM(T11:T90),IF(F7=6,SUM(W11:W90),IF(F7=7,SUM(Z11:Z90)))))))) -> 5 | AI2: Achères | AJ2: CLASSEMENTS DE CHAQUE MANCHE
AF3: =IF(F7=1,SUM(#REF!),IF(F7=2,SUM(#REF!),IF(F7=3,SUM(#REF!),IF(F7=4,SUM(#REF!),IF(F7=5,SUM(#REF!),IF(F7=6,SUM(#REF!),IF(F7=7,SUM(#REF!)))))))) -> #REF! | AI3: Osny
D4: garçons et filles | F4: 2020 | AI4: Cergy
D5: dossards de 1 à 99 | AI5: Méry
F6: manque 1 | AI6: Bonnières
D7: Manche | E7: N° | F7: 1 | H7: Manche N°1 | K7: Manche N°2 | N7: Manche N°3 | Q7: Manche N°4 | T7: Manche N°5 | W7: Manche N°6 | Z7: Manche N°7 | AC7: Manche N°8 | AI7: Survilliers
C8: =IF(F7<8,AF2,IF(F7=8,SUM(AC11:AC90))) -> 5 | D8: Inscrits | H8: Achères | K8: Osny | N8: Cergy | Q8: Méry | T8: Bonnières | W8: Survilliers | Z8: Marines | AC8: Marly la ville | AI8: Marines
H9: 46053 | K9: 46067 | N9: 46095 | Q9: 46102 | T9: 46109 | W9: 46165 | Z9: 46179 | AC9: 46186 | AI9: Marly la ville
A10: classement | B10: total points | C10: doss | D10: noms+prénoms | E10: Sexe | F10: club | G10: fédé | H10: inscription n° 1 | I10: place épreuve n° 1 | J10: points épreuve n° 1 | K10: inscription n° 2 | L10: place épreuve n° 2 | M10: points épreuve n° 2 | N10: inscription n° 3 | O10: place épreuve n° 3 | P10: points épreuve n° 3 | Q10: inscription n° 4 | R10: place épreuve n° 4 | S10: points épreuve n° 4 | T10: inscription n° 5 | U10: place épreuve n° 5 | V10: points épreuve n° 5 | W10: inscription n° 6 | X10: place épreuve n° 6 | Y10: points épreuve n° 6 | Z10: inscription n° 7 | AA10: place épreuve n° 7 | AB10: points épreuve n° 7 | AC10: inscription n° 8 | AD10: place épreuve n° 8 | AE10: points épreuve n° 8 | AF10: total points | AG10: classement | AH10: total points modulé | AJ10: place épreuve n° 1 | AK10: dossards épreuve n° 1 | AM10: place épreuve n° 2 | AN10: dossards épreuve n° 2 | AP10: place épreuve n° 3 | AQ10: dossards épreuve n° 3 | AS10: place épreuve n° 4 | AT10: dossards épreuve n° 4 | AV10: place épreuve n° 5 | AW10: dossards épreuve n° 5 | AY10: place épreuve n° 6 | AZ10: dossards épreuve n° 6 | BB10: place épreuve n° 7 | BC10: dossards épreuve n° 7 | BE10: place épreuve n° 8 | BF10: dossards épreuve n° 8
A11: 1 | B11: =AF11 -> 50 | C11: 6 | D11: Jules LE BEUVANT | E11: H | F11: ORC epone | H11: 1 | I11: 1 | J11: =IF(I11=" ",0,IF(I11=1,50,IF(I11=2,48,IF(I11=3,46,IF(I11=4,44,IF(I11=5,42,IF(AND(I11>5,I11<45),46-I11,2))))))) -> 50 | L11: =IF(SUMIF(AN$11:AN$97,$C11,AM$11:AM$97)=0," ",SUMIF(AN$11:AN$97,$C11,AM$11:AM$97)) | M11: =IF(L11=" ",0,IF(L11=1,50,IF(L11=2,48,IF(L11=3,46,IF(L11=4,44,IF(L11=5,42,IF(AND(L11>5,L11<45),46-L11,2))))))) -> 0 | O11: =IF(SUMIF(AQ$11:AQ$97,$C11,AP$11:AP$97)=0," ",SUMIF(AQ$11:AQ$97,$C11,AP$11:AP$97)) | P11: =IF(O11=" ",0,IF(O11=1,50,IF(O11=2,48,IF(O11=3,46,IF(O11=4,44,IF(O11=5,42,IF(AND(O11>5,O11<45),46-O11,2))))))) -> 0 | R11: =IF(SUMIF(AT$11:AT$97,$C11,AS$11:AS$97)=0," ",SUMIF(AT$11:AT$97,$C11,AS$11:AS$97)) | S11: =IF(R11=" ",0,IF(R11=1,50,IF(R11=2,48,IF(R11=3,46,IF(R11=4,44,IF(R11=5,42,IF(AND(R11>5,R11<45),46-R11,2))))))) -> 0 | U11: =IF(SUMIF(AW$11:AW$97,$C11,AV$11:AV$97)=0," ",SUMIF(AW$11:AW$97,$C11,AV$11:AV$97)) | V11: =IF(U11=" ",0,IF(U11=1,50,IF(U11=2,48,IF(U11=3,46,IF(U11=4,44,IF(U11=5,42,IF(AND(U11>5,U11<45),46-U11,2))))))) -> 0 | X11: =IF(SUMIF(AZ$11:AZ$97,$C11,AY$11:AY$97)=0," ",SUMIF(AZ$11:AZ$97,$C11,AY$11:AY$97)) | Y11: =IF(X11=" ",0,IF(X11=1,50,IF(X11=2,48,IF(X11=3,46,IF(X11=4,44,IF(X11=5,42,IF(AND(X11>5,X11<45),46-X11,2))))))) -> 0 | AA11: =IF(SUMIF(BC$11:BC$97,$C11,BB$11:BB$97)=0," ",SUMIF(BC$11:BC$97,$C11,BB$11:BB$97)) | AB11: =IF(AA11=" ",0,IF(AA11=1,50,IF(AA11=2,48,IF(AA11=3,46,IF(AA11=4,44,IF(AA11=5,42,IF(AND(AA11>5,AA11<45),46-AA11,2))))))) -> 0 | AD11: =IF(SUMIF(BF$11:BF$97,$C11,BE$11:BE$97)=0," ",SUMIF(BF$11:BF$97,$C11,BE$11:BE$97)) | AE11: =IF(AD11=" ",0,IF(AD11=1,50,IF(AD11=2,48,IF(AD11=3,46,IF(AD11=4,44,IF(AD11=5,42,IF(AND(AD11>5,AD11<45),46-AD11,2))))))) -> 0 | AF11: =J11+M11+P11+S11+V11+Y11+AB11+AE11 -> 50 | AG11: =A11 -> 1 | AH11: =AF11-MIN(J11,M11,P11,S11,V11,Y11,AB11,AE11) -> 50 | AJ11: 1 | AK11: 6 | AM11: 1 | AP11: 1 | AS11: 1 | AV11: 1 | AY11: 1 | BB11: 1 | BE11: 1
A12: 2 | B12: =AF12 -> 48 | C12: 2 | D12: Jonathan BUTLER | E12: H | F12: OGVTT | H12: 1 | I12: 2 | J12: =IF(I12=" ",0,IF(I12=1,50,IF(I12=2,48,IF(I12=3,46,IF(I12=4,44,IF(I12=5,42,IF(AND(I12>5,I12<45),46-I12,2))))))) -> 48 | L12: =IF(SUMIF(AN$11:AN$97,$C12,AM$11:AM$97)=0," ",SUMIF(AN$11:AN$97,$C12,AM$11:AM$97)) | M12: =IF(L12=" ",0,IF(L12=1,50,IF(L12=2,48,IF(L12=3,46,IF(L12=4,44,IF(L12=5,42,IF(AND(L12>5,L12<45),46-L12,2))))))) -> 0 | O12: =IF(SUMIF(AQ$11:AQ$97,$C12,AP$11:AP$97)=0," ",SUMIF(AQ$11:AQ$97,$C12,AP$11:AP$97)) | P12: =IF(O12=" ",0,IF(O12=1,50,IF(O12=2,48,IF(O12=3,46,IF(O12=4,44,IF(O12=5,42,IF(AND(O12>5,O12<45),46-O12,2))))))) -> 0 | R12: =IF(SUMIF(AT$11:AT$97,$C12,AS$11:AS$97)=0," ",SUMIF(AT$11:AT$97,$C12,AS$11:AS$97)) | S12: =IF(R12=" ",0,IF(R12=1,50,IF(R12=2,48,IF(R12=3,46,IF(R12=4,44,IF(R12=5,42,IF(AND(R12>5,R12<45),46-R12,2))))))) -> 0 | U12: =IF(SUMIF(AW$11:AW$97,$C12,AV$11:AV$97)=0," ",SUMIF(AW$11:AW$97,$C12,AV$11:AV$97)) | V12: =IF(U12=" ",0,IF(U12=1,50,IF(U12=2,48,IF(U12=3,46,IF(U12=4,44,IF(U12=5,42,IF(AND(U12>5,U12<45),46-U12,2))))))) -> 0 | X12: =IF(SUMIF(AZ$11:AZ$97,$C12,AY$11:AY$97)=0," ",SUMIF(AZ$11:AZ$97,$C12,AY$11:AY$97)) | Y12: =IF(X12=" ",0,IF(X12=1,50,IF(X12=2,48,IF(X12=3,46,IF(X12=4,44,IF(X12=5,42,IF(AND(X12>5,X12<45),46-X12,2))))))) -> 0 | AA12: =IF(SUMIF(BC$11:BC$97,$C12,BB$11:BB$97)=0," ",SUMIF(BC$11:BC$97,$C12,BB$11:BB$97)) | AB12: =IF(AA12=" ",0,IF(AA12=1,50,IF(AA12=2,48,IF(AA12=3,46,IF(AA12=4,44,IF(AA12=5,42,IF(AND(AA12>5,AA12<45),46-AA12,2))))))) -> 0 | AD12: =IF(SUMIF(BF$11:BF$97,$C12,BE$11:BE$97)=0," ",SUMIF(BF$11:BF$97,$C12,BE$11:BE$97)) | AE12: =IF(AD12=" ",0,IF(AD12=1,50,IF(AD12=2,48,IF(AD12=3,46,IF(AD12=4,44,IF(AD12=5,42,IF(AND(AD12>5,AD12<45),46-AD12,2))))))) -> 0 | AF12: =J12+M12+P12+S12+V12+Y12+AB12+AE12 -> 48 | AG12: =A12 -> 2 | AH12: =AF12-MIN(J12,M12,P12,S12,V12,Y12,AB12,AE12) -> 48 | AJ12: 2 | AK12: 2 | AM12: 2 | AP12: 2 | AS12: 2 | AV12: 2 | AY12: 2 | BB12: 2 | BE12: 2
A13: 3 | B13: =AF13 -> 46 | C13: 3 | D13: Maxence DELAHAYE | E13: H | F13: Les Sangliers du Vexin | H13: 1 | I13: 3 | J13: =IF(I13=" ",0,IF(I13=1,50,IF(I13=2,48,IF(I13=3,46,IF(I13=4,44,IF(I13=5,42,IF(AND(I13>5,I13<45),46-I13,2))))))) -> 46 | L13: =IF(SUMIF(AN$11:AN$97,$C13,AM$11:AM$97)=0," ",SUMIF(AN$11:AN$97,$C13,AM$11:AM$97)) | M13: =IF(L13=" ",0,IF(L13=1,50,IF(L13=2,48,IF(L13=3,46,IF(L13=4,44,IF(L13=5,42,IF(AND(L13>5,L13<45),46-L13,2))))))) -> 0 | O13: =IF(SUMIF(AQ$11:AQ$97,$C13,AP$11:AP$97)=0," ",SUMIF(AQ$11:AQ$97,$C13,AP$11:AP$97)) | P13: =IF(O13=" ",0,IF(O13=1,50,IF(O13=2,48,IF(O13=3,46,IF(O13=4,44,IF(O13=5,42,IF(AND(O13>5,O13<45),46-O13,2))))))) -> 0 | R13: =IF(SUMIF(AT$11:AT$97,$C13,AS$11:AS$97)=0," ",SUMIF(AT$11:AT$97,$C13,AS$11:AS$97)) | S13: =IF(R13=" ",0,IF(R13=1,50,IF(R13=2,48,IF(R13=3,46,IF(R13=4,44,IF(R13=5,42,IF(AND(R13>5,R13<45),46-R13,2))))))) -> 0 | U13: =IF(SUMIF(AW$11:AW$97,$C13,AV$11:AV$97)=0," ",SUMIF(AW$11:AW$97,$C13,AV$11:AV$97)) | V13: =IF(U13=" ",0,IF(U13=1,50,IF(U13=2,48,IF(U13=3,46,IF(U13=4,44,IF(U13=5,42,IF(AND(U13>5,U13<45),46-U13,2))))))) -> 0 | X13: =IF(SUMIF(AZ$11:AZ$97,$C13,AY$11:AY$97)=0," ",SUMIF(AZ$11:AZ$97,$C13,AY$11:AY$97)) | Y13: =IF(X13=" ",0,IF(X13=1,50,IF(X13=2,48,IF(X13=3,46,IF(X13=4,44,IF(X13=5,42,IF(AND(X13>5,X13<45),46-X13,2))))))) -> 0 | AA13: =IF(SUMIF(BC$11:BC$97,$C13,BB$11:BB$97)=0," ",SUMIF(BC$11:BC$97,$C13,BB$11:BB$97)) | AB13: =IF(AA13=" ",0,IF(AA13=1,50,IF(AA13=2,48,IF(AA13=3,46,IF(AA13=4,44,IF(AA13=5,42,IF(AND(AA13>5,AA13<45),46-AA13,2))))))) -> 0 | AD13: =IF(SUMIF(BF$11:BF$97,$C13,BE$11:BE$97)=0," ",SUMIF(BF$11:BF$97,$C13,BE$11:BE$97)) | AE13: =IF(AD13=" ",0,IF(AD13=1,50,IF(AD13=2,48,IF(AD13=3,46,IF(AD13=4,44,IF(AD13=5,42,IF(AND(AD13>5,AD13<45),46-AD13,2))))))) -> 0 | AF13: =J13+M13+P13+S13+V13+Y13+AB13+AE13 -> 46 | AG13: =A13 -> 3 | AH13: =AF13-MIN(J13,M13,P13,S13,V13,Y13,AB13,AE13) -> 46 | AJ13: 3 | AK13: 3 | AM13: 3 | AP13: 3 | AS13: 3 | AV13: 3 | AY13: 3 | BB13: 3 | BE13: 3
A14: 4 | B14: =AF14 -> 44 | C14: 4 | D14: Timothee CANCHON | E14: H | F14: ASELB 95 | H14: 1 | I14: 4 | J14: =IF(I14=" ",0,IF(I14=1,50,IF(I14=2,48,IF(I14=3,46,IF(I14=4,44,IF(I14=5,42,IF(AND(I14>5,I14<45),46-I14,2))))))) -> 44 | L14: =IF(SUMIF(AN$11:AN$97,$C14,AM$11:AM$97)=0," ",SUMIF(AN$11:AN$97,$C14,AM$11:AM$97)) | M14: =IF(L14=" ",0,IF(L14=1,50,IF(L14=2,48,IF(L14=3,46,IF(L14=4,44,IF(L14=5,42,IF(AND(L14>5,L14<45),46-L14,2))))))) -> 0 | O14: =IF(SUMIF(AQ$11:AQ$97,$C14,AP$11:AP$97)=0," ",SUMIF(AQ$11:AQ$97,$C14,AP$11:AP$97)) | P14: =IF(O14=" ",0,IF(O14=1,50,IF(O14=2,48,IF(O14=3,46,IF(O14=4,44,IF(O14=5,42,IF(AND(O14>5,O14<45),46-O14,2))))))) -> 0 | R14: =IF(SUMIF(AT$11:AT$97,$C14,AS$11:AS$97)=0," ",SUMIF(AT$11:AT$97,$C14,AS$11:AS$97)) | S14: =IF(R14=" ",0,IF(R14=1,50,IF(R14=2,48,IF(R14=3,46,IF(R14=4,44,IF(R14=5,42,IF(AND(R14>5,R14<45),46-R14,2))))))) -> 0 | U14: =IF(SUMIF(AW$11:AW$97,$C14,AV$11:AV$97)=0," ",SUMIF(AW$11:AW$97,$C14,AV$11:AV$97)) | V14: =IF(U14=" ",0,IF(U14=1,50,IF(U14=2,48,IF(U14=3,46,IF(U14=4,44,IF(U14=5,42,IF(AND(U14>5,U14<45),46-U14,2))))))) -> 0 | X14: =IF(SUMIF(AZ$11:AZ$97,$C14,AY$11:AY$97)=0," ",SUMIF(AZ$11:AZ$97,$C14,AY$11:AY$97)) | Y14: =IF(X14=" ",0,IF(X14=1,50,IF(X14=2,48,IF(X14=3,46,IF(X14=4,44,IF(X14=5,42,IF(AND(X14>5,X14<45),46-X14,2))))))) -> 0 | AA14: =IF(SUMIF(BC$11:BC$97,$C14,BB$11:BB$97)=0," ",SUMIF(BC$11:BC$97,$C14,BB$11:BB$97)) | AB14: =IF(AA14=" ",0,IF(AA14=1,50,IF(AA14=2,48,IF(AA14=3,46,IF(AA14=4,44,IF(AA14=5,42,IF(AND(AA14>5,AA14<45),46-AA14,2))))))) -> 0 | AD14: =IF(SUMIF(BF$11:BF$97,$C14,BE$11:BE$97)=0," ",SUMIF(BF$11:BF$97,$C14,BE$11:BE$97)) | AE14: =IF(AD14=" ",0,IF(AD14=1,50,IF(AD14=2,48,IF(AD14=3,46,IF(AD14=4,44,IF(AD14=5,42,IF(AND(AD14>5,AD14<45),46-AD14,2))))))) -> 0 | AF14: =J14+M14+P14+S14+V14+Y14+AB14+AE14 -> 44 | AG14: =A14 -> 4 | AH14: =AF14-MIN(J14,M14,P14,S14,V14,Y14,AB14,AE14) -> 44 | AJ14: 4 | AK14: 4 | AM14: 4 | AP14: 4 | AS14: 4 | AV14: 4 | AY14: 4 | BB14: 4 | BE14: 4
A15: 5 | B15: =AF15 -> 42 | C15: 5 | D15: Arthur HIDALGO | E15: H | F15: NL | H15: 1 | I15: 5 | J15: =IF(I15=" ",0,IF(I15=1,50,IF(I15=2,48,IF(I15=3,46,IF(I15=4,44,IF(I15=5,42,IF(AND(I15>5,I15<45),46-I15,2))))))) -> 42 | L15: =IF(SUMIF(AN$11:AN$97,$C15,AM$11:AM$97)=0," ",SUMIF(AN$11:AN$97,$C15,AM$11:AM$97)) | M15: =IF(L15=" ",0,IF(L15=1,50,IF(L15=2,48,IF(L15=3,46,IF(L15=4,44,IF(L15=5,42,IF(AND(L15>5,L15<45),46-L15,2))))))) -> 0 | O15: =IF(SUMIF(AQ$11:AQ$97,$C15,AP$11:AP$97)=0," ",SUMIF(AQ$11:AQ$97,$C15,AP$11:AP$97)) | P15: =IF(O15=" ",0,IF(O15=1,50,IF(O15=2,48,IF(O15=3,46,IF(O15=4,44,IF(O15=5,42,IF(AND(O15>5,O15<45),46-O15,2))))))) -> 0 | R15: =IF(SUMIF(AT$11:AT$97,$C15,AS$11:AS$97)=0," ",SUMIF(AT$11:AT$97,$C15,AS$11:AS$97)) | S15: =IF(R15=" ",0,IF(R15=1,50,IF(R15=2,48,IF(R15=3,46,IF(R15=4,44,IF(R15=5,42,IF(AND(R15>5,R15<45),46-R15,2))))))) -> 0 | U15: =IF(SUMIF(AW$11:AW$97,$C15,AV$11:AV$97)=0," ",SUMIF(AW$11:AW$97,$C15,AV$11:AV$97)) | V15: =IF(U15=" ",0,IF(U15=1,50,IF(U15=2,48,IF(U15=3,46,IF(U15=4,44,IF(U15=5,42,IF(AND(U15>5,U15<45),46-U15,2))))))) -> 0 | X15: =IF(SUMIF(AZ$11:AZ$97,$C15,AY$11:AY$97)=0," ",SUMIF(AZ$11:AZ$97,$C15,AY$11:AY$97)) | Y15: =IF(X15=" ",0,IF(X15=1,50,IF(X15=2,48,IF(X15=3,46,IF(X15=4,44,IF(X15=5,42,IF(AND(X15>5,X15<45),46-X15,2))))))) -> 0 | AA15: =IF(SUMIF(BC$11:BC$97,$C15,BB$11:BB$97)=0," ",SUMIF(BC$11:BC$97,$C15,BB$11:BB$97)) | AB15: =IF(AA15=" ",0,IF(AA15=1,50,IF(AA15=2,48,IF(AA15=3,46,IF(AA15=4,44,IF(AA15=5,42,IF(AND(AA15>5,AA15<45),46-AA15,2))))))) -> 0 | AD15: =IF(SUMIF(BF$11:BF$97,$C15,BE$11:BE$97)=0," ",SUMIF(BF$11:BF$97,$C15,BE$11:BE$97)) | AE15: =IF(AD15=" ",0,IF(AD15=1,50,IF(AD15=2,48,IF(AD15=3,46,IF(AD15=4,44,IF(AD15=5,42,IF(AND(AD15>5,AD15<45),46-AD15,2))))))) -> 0 | AF15: =J15+M15+P15+S15+V15+Y15+AB15+AE15 -> 42 | AG15: =A15 -> 5 | AH15: =AF15-MIN(J15,M15,P15,S15,V15,Y15,AB15,AE15) -> 42 | AJ15: 5 | AK15: 5 | AM15: 5 | AP15: 5 | AS15: 5 | AV15: 5 | AY15: 5 | BB15: 5 | BE15: 5
A16: 6 | B16: =AF16 -> 0 | J16: =IF(I16=" ",0,IF(I16=1,50,IF(I16=2,48,IF(I16=3,46,IF(I16=4,44,IF(I16=5,42,IF(AND(I16>5,I16<45),46-I16,2))))))) -> 0 | L16: =IF(SUMIF(AN$11:AN$97,$C16,AM$11:AM$97)=0," ",SUMIF(AN$11:AN$97,$C16,AM$11:AM$97)) | M16: =IF(L16=" ",0,IF(L16=1,50,IF(L16=2,48,IF(L16=3,46,IF(L16=4,44,IF(L16=5,42,IF(AND(L16>5,L16<45),46-L16,2))))))) -> 0 | O16: =IF(SUMIF(AQ$11:AQ$97,$C16,AP$11:AP$97)=0," ",SUMIF(AQ$11:AQ$97,$C16,AP$11:AP$97)) | P16: =IF(O16=" ",0,IF(O16=1,50,IF(O16=2,48,IF(O16=3,46,IF(O16=4,44,IF(O16=5,42,IF(AND(O16>5,O16<45),46-O16,2))))))) -> 0 | R16: =IF(SUMIF(AT$11:AT$97,$C16,AS$11:AS$97)=0," ",SUMIF(AT$11:AT$97,$C16,AS$11:AS$97)) | S16: =IF(R16=" ",0,IF(R16=1,50,IF(R16=2,48,IF(R16=3,46,IF(R16=4,44,IF(R16=5,42,IF(AND(R16>5,R16<45),46-R16,2))))))) -> 0 | U16: =IF(SUMIF(AW$11:AW$97,$C16,AV$11:AV$97)=0," ",SUMIF(AW$11:AW$97,$C16,AV$11:AV$97)) | V16: =IF(U16=" ",0,IF(U16=1,50,IF(U16=2,48,IF(U16=3,46,IF(U16=4,44,IF(U16=5,42,IF(AND(U16>5,U16<45),46-U16,2))))))) -> 0 | X16: =IF(SUMIF(AZ$11:AZ$97,$C16,AY$11:AY$97)=0," ",SUMIF(AZ$11:AZ$97,$C16,AY$11:AY$97)) | Y16: =IF(X16=" ",0,IF(X16=1,50,IF(X16=2,48,IF(X16=3,46,IF(X16=4,44,IF(X16=5,42,IF(AND(X16>5,X16<45),46-X16,2))))))) -> 0 | AA16: =IF(SUMIF(BC$11:BC$97,$C16,BB$11:BB$97)=0," ",SUMIF(BC$11:BC$97,$C16,BB$11:BB$97)) | AB16: =IF(AA16=" ",0,IF(AA16=1,50,IF(AA16=2,48,IF(AA16=3,46,IF(AA16=4,44,IF(AA16=5,42,IF(AND(AA16>5,AA16<45),46-AA16,2))))))) -> 0 | AD16: =IF(SUMIF(BF$11:BF$97,$C16,BE$11:BE$97)=0," ",SUMIF(BF$11:BF$97,$C16,BE$11:BE$97)) | AE16: =IF(AD16=" ",0,IF(AD16=1,50,IF(AD16=2,48,IF(AD16=3,46,IF(AD16=4,44,IF(AD16=5,42,IF(AND(AD16>5,AD16<45),46-AD16,2))))))) -> 0 | AF16: =J16+M16+P16+S16+V16+Y16+AB16+AE16 -> 0 | AG16: =A16 -> 6 | AH16: =AF16-MIN(J16,M16,P16,S16,V16,Y16,AB16,AE16) -> 0 | AJ16: 6 | AM16: 6 | AP16: 6 | AS16: 6 | AV16: 6 | AY16: 6 | BB16: 6 | BE16: 6
A17: 7 | B17: =AF17 -> 0 | I17: =IF(SUMIF(AK$11:AK$97,$C17,AJ$11:AJ$97)=0," ",SUMIF(AK$11:AK$97,$C17,AJ$11:AJ$97)) | J17: =IF(I17=" ",0,IF(I17=1,50,IF(I17=2,48,IF(I17=3,46,IF(I17=4,44,IF(I17=5,42,IF(AND(I17>5,I17<45),46-I17,2))))))) -> 0 | L17: =IF(SUMIF(AN$11:AN$97,$C17,AM$11:AM$97)=0," ",SUMIF(AN$11:AN$97,$C17,AM$11:AM$97)) | M17: =IF(L17=" ",0,IF(L17=1,50,IF(L17=2,48,IF(L17=3,46,IF(L17=4,44,IF(L17=5,42,IF(AND(L17>5,L17<45),46-L17,2))))))) -> 0 | O17: =IF(SUMIF(AQ$11:AQ$97,$C17,AP$11:AP$97)=0," ",SUMIF(AQ$11:AQ$97,$C17,AP$11:AP$97)) | P17: =IF(O17=" ",0,IF(O17=1,50,IF(O17=2,48,IF(O17=3,46,IF(O17=4,44,IF(O17=5,42,IF(AND(O17>5,O17<45),46-O17,2))))))) -> 0 | R17: =IF(SUMIF(AT$11:AT$97,$C17,AS$11:AS$97)=0," ",SUMIF(AT$11:AT$97,$C17,AS$11:AS$97)) | S17: =IF(R17=" ",0,IF(R17=1,50,IF(R17=2,48,IF(R17=3,46,IF(R17=4,44,IF(R17=5,42,IF(AND(R17>5,R17<45),46-R17,2))))))) -> 0 | U17: =IF(SUMIF(AW$11:AW$97,$C17,AV$11:AV$97)=0," ",SUMIF(AW$11:AW$97,$C17,AV$11:AV$97)) | V17: =IF(U17=" ",0,IF(U17=1,50,IF(U17=2,48,IF(U17=3,46,IF(U17=4,44,IF(U17=5,42,IF(AND(U17>5,U17<45),46-U17,2))))))) -> 0 | X17: =IF(SUMIF(AZ$11:AZ$97,$C17,AY$11:AY$97)=0," ",SUMIF(AZ$11:AZ$97,$C17,AY$11:AY$97)) | Y17: =IF(X17=" ",0,IF(X17=1,50,IF(X17=2,48,IF(X17=3,46,IF(X17=4,44,IF(X17=5,42,IF(AND(X17>5,X17<45),46-X17,2))))))) -> 0 | AA17: =IF(SUMIF(BC$11:BC$97,$C17,BB$11:BB$97)=0," ",SUMIF(BC$11:BC$97,$C17,BB$11:BB$97)) | AB17: =IF(AA17=" ",0,IF(AA17=1,50,IF(AA17=2,48,IF(AA17=3,46,IF(AA17=4,44,IF(AA17=5,42,IF(AND(AA17>5,AA17<45),46-AA17,2))))))) -> 0 | AD17: =IF(SUMIF(BF$11:BF$97,$C17,BE$11:BE$97)=0," ",SUMIF(BF$11:BF$97,$C17,BE$11:BE$97)) | AE17: =IF(AD17=" ",0,IF(AD17=1,50,IF(AD17=2,48,IF(AD17=3,46,IF(AD17=4,44,IF(AD17=5,42,IF(AND(AD17>5,AD17<45),46-AD17,2))))))) -> 0 | AF17: =J17+M17+P17+S17+V17+Y17+AB17+AE17 -> 0 | AG17: =A17 -> 7 | AH17: =AF17-MIN(J17,M17,P17,S17,V17,Y17,AB17,AE17) -> 0 | AJ17: 7 | AM17: 7 | AP17: 7 | AS17: 7 | AV17: 7 | AY17: 7 | BB17: 7 | BE17: 7
A18: 8 | B18: =AF18 -> 0 | I18: =IF(SUMIF(AK$11:AK$97,$C18,AJ$11:AJ$97)=0," ",SUMIF(AK$11:AK$97,$C18,AJ$11:AJ$97)) | J18: =IF(I18=" ",0,IF(I18=1,50,IF(I18=2,48,IF(I18=3,46,IF(I18=4,44,IF(I18=5,42,IF(AND(I18>5,I18<45),46-I18,2))))))) -> 0 | L18: =IF(SUMIF(AN$11:AN$97,$C18,AM$11:AM$97)=0," ",SUMIF(AN$11:AN$97,$C18,AM$11:AM$97)) | M18: =IF(L18=" ",0,IF(L18=1,50,IF(L18=2,48,IF(L18=3,46,IF(L18=4,44,IF(L18=5,42,IF(AND(L18>5,L18<45),46-L18,2))))))) -> 0 | O18: =IF(SUMIF(AQ$11:AQ$97,$C18,AP$11:AP$97)=0," ",SUMIF(AQ$11:AQ$97,$C18,AP$11:AP$97)) | P18: =IF(O18=" ",0,IF(O18=1,50,IF(O18=2,48,IF(O18=3,46,IF(O18=4,44,IF(O18=5,42,IF(AND(O18>5,O18<45),46-O18,2))))))) -> 0 | R18: =IF(SUMIF(AT$11:AT$97,$C18,AS$11:AS$97)=0," ",SUMIF(AT$11:AT$97,$C18,AS$11:AS$97)) | S18: =IF(R18=" ",0,IF(R18=1,50,IF(R18=2,48,IF(R18=3,46,IF(R18=4,44,IF(R18=5,42,IF(AND(R18>5,R18<45),46-R18,2))))))) -> 0 | U18: =IF(SUMIF(AW$11:AW$97,$C18,AV$11:AV$97)=0," ",SUMIF(AW$11:AW$97,$C18,AV$11:AV$97)) | V18: =IF(U18=" ",0,IF(U18=1,50,IF(U18=2,48,IF(U18=3,46,IF(U18=4,44,IF(U18=5,42,IF(AND(U18>5,U18<45),46-U18,2))))))) -> 0 | X18: =IF(SUMIF(AZ$11:AZ$97,$C18,AY$11:AY$97)=0," ",SUMIF(AZ$11:AZ$97,$C18,AY$11:AY$97)) | Y18: =IF(X18=" ",0,IF(X18=1,50,IF(X18=2,48,IF(X18=3,46,IF(X18=4,44,IF(X18=5,42,IF(AND(X18>5,X18<45),46-X18,2))))))) -> 0 | AA18: =IF(SUMIF(BC$11:BC$97,$C18,BB$11:BB$97)=0," ",SUMIF(BC$11:BC$97,$C18,BB$11:BB$97)) | AB18: =IF(AA18=" ",0,IF(AA18=1,50,IF(AA18=2,48,IF(AA18=3,46,IF(AA18=4,44,IF(AA18=5,42,IF(AND(AA18>5,AA18<45),46-AA18,2))))))) -> 0 | AD18: =IF(SUMIF(BF$11:BF$97,$C18,BE$11:BE$97)=0," ",SUMIF(BF$11:BF$97,$C18,BE$11:BE$97)) | AE18: =IF(AD18=" ",0,IF(AD18=1,50,IF(AD18=2,48,IF(AD18=3,46,IF(AD18=4,44,IF(AD18=5,42,IF(AND(AD18>5,AD18<45),46-AD18,2))))))) -> 0 | AF18: =J18+M18+P18+S18+V18+Y18+AB18+AE18 -> 0 | AG18: =A18 -> 8 | AH18: =AF18-MIN(J18,M18,P18,S18,V18,Y18,AB18,AE18) -> 0 | AJ18: 8 | AM18: 8 | AP18: 8 | AS18: 8 | AV18: 8 | AY18: 8 | BB18: 8 | BE18: 8
A19: 9 | B19: =AF19 -> 0 | I19: =IF(SUMIF(AK$11:AK$97,$C19,AJ$11:AJ$97)=0," ",SUMIF(AK$11:AK$97,$C19,AJ$11:AJ$97)) | J19: =IF(I19=" ",0,IF(I19=1,50,IF(I19=2,48,IF(I19=3,46,IF(I19=4,44,IF(I19=5,42,IF(AND(I19>5,I19<45),46-I19,2))))))) -> 0 | L19: =IF(SUMIF(AN$11:AN$97,$C19,AM$11:AM$97)=0," ",SUMIF(AN$11:AN$97,$C19,AM$11:AM$97)) | M19: =IF(L19=" ",0,IF(L19=1,50,IF(L19=2,48,IF(L19=3,46,IF(L19=4,44,IF(L19=5,42,IF(AND(L19>5,L19<45),46-L19,2))))))) -> 0 | O19: =IF(SUMIF(AQ$11:AQ$97,$C19,AP$11:AP$97)=0," ",SUMIF(AQ$11:AQ$97,$C19,AP$11:AP$97)) | P19: =IF(O19=" ",0,IF(O19=1,50,IF(O19=2,48,IF(O19=3,46,IF(O19=4,44,IF(O19=5,42,IF(AND(O19>5,O19<45),46-O19,2))))))) -> 0 | R19: =IF(SUMIF(AT$11:AT$97,$C19,AS$11:AS$97)=0," ",SUMIF(AT$11:AT$97,$C19,AS$11:AS$97)) | S19: =IF(R19=" ",0,IF(R19=1,50,IF(R19=2,48,IF(R19=3,46,IF(R19=4,44,IF(R19=5,42,IF(AND(R19>5,R19<45),46-R19,2))))))) -> 0 | U19: =IF(SUMIF(AW$11:AW$97,$C19,AV$11:AV$97)=0," ",SUMIF(AW$11:AW$97,$C19,AV$11:AV$97)) | V19: =IF(U19=" ",0,IF(U19=1,50,IF(U19=2,48,IF(U19=3,46,IF(U19=4,44,IF(U19=5,42,IF(AND(U19>5,U19<45),46-U19,2))))))) -> 0 | X19: =IF(SUMIF(AZ$11:AZ$97,$C19,AY$11:AY$97)=0," ",SUMIF(AZ$11:AZ$97,$C19,AY$11:AY$97)) | Y19: =IF(X19=" ",0,IF(X19=1,50,IF(X19=2,48,IF(X19=3,46,IF(X19=4,44,IF(X19=5,42,IF(AND(X19>5,X19<45),46-X19,2))))))) -> 0 | AA19: =IF(SUMIF(BC$11:BC$97,$C19,BB$11:BB$97)=0," ",SUMIF(BC$11:BC$97,$C19,BB$11:BB$97)) | AB19: =IF(AA19=" ",0,IF(AA19=1,50,IF(AA19=2,48,IF(AA19=3,46,IF(AA19=4,44,IF(AA19=5,42,IF(AND(AA19>5,AA19<45),46-AA19,2))))))) -> 0 | AD19: =IF(SUMIF(BF$11:BF$97,$C19,BE$11:BE$97)=0," ",SUMIF(BF$11:BF$97,$C19,BE$11:BE$97)) | AE19: =IF(AD19=" ",0,IF(AD19=1,50,IF(AD19=2,48,IF(AD19=3,46,IF(AD19=4,44,IF(AD19=5,42,IF(AND(AD19>5,AD19<45),46-AD19,2))))))) -> 0 | AF19: =J19+M19+P19+S19+V19+Y19+AB19+AE19 -> 0 | AG19: =A19 -> 9 | AH19: =AF19-MIN(J19,M19,P19,S19,V19,Y19,AB19,AE19) -> 0 | AJ19: 9 | AM19: 9 | AP19: 9 | AS19: 9 | AV19: 9 | AY19: 9 | BB19: 9 | BE19: 9
A20: 10 | B20: =AF20 -> 0 | I20: =IF(SUMIF(AK$11:AK$97,$C20,AJ$11:AJ$97)=0," ",SUMIF(AK$11:AK$97,$C20,AJ$11:AJ$97)) | J20: =IF(I20=" ",0,IF(I20=1,50,IF(I20=2,48,IF(I20=3,46,IF(I20=4,44,IF(I20=5,42,IF(AND(I20>5,I20<45),46-I20,2))))))) -> 0 | L20: =IF(SUMIF(AN$11:AN$97,$C20,AM$11:AM$97)=0," ",SUMIF(AN$11:AN$97,$C20,AM$11:AM$97)) | M20: =IF(L20=" ",0,IF(L20=1,50,IF(L20=2,48,IF(L20=3,46,IF(L20=4,44,IF(L20=5,42,IF(AND(L20>5,L20<45),46-L20,2))))))) -> 0 | O20: =IF(SUMIF(AQ$11:AQ$97,$C20,AP$11:AP$97)=0," ",SUMIF(AQ$11:AQ$97,$C20,AP$11:AP$97)) | P20: =IF(O20=" ",0,IF(O20=1,50,IF(O20=2,48,IF(O20=3,46,IF(O20=4,44,IF(O20=5,42,IF(AND(O20>5,O20<45),46-O20,2))))))) -> 0 | R20: =IF(SUMIF(AT$11:AT$97,$C20,AS$11:AS$97)=0," ",SUMIF(AT$11:AT$97,$C20,AS$11:AS$97)) | S20: =IF(R20=" ",0,IF(R20=1,50,IF(R20=2,48,IF(R20=3,46,IF(R20=4,44,IF(R20=5,42,IF(AND(R20>5,R20<45),46-R20,2))))))) -> 0 | U20: =IF(SUMIF(AW$11:AW$97,$C20,AV$11:AV$97)=0," ",SUMIF(AW$11:AW$97,$C20,AV$11:AV$97)) | V20: =IF(U20=" ",0,IF(U20=1,50,IF(U20=2,48,IF(U20=3,46,IF(U20=4,44,IF(U20=5,42,IF(AND(U20>5,U20<45),46-U20,2))))))) -> 0 | X20: =IF(SUMIF(AZ$11:AZ$97,$C20,AY$11:AY$97)=0," ",SUMIF(AZ$11:AZ$97,$C20,AY$11:AY$97)) | Y20: =IF(X20=" ",0,IF(X20=1,50,IF(X20=2,48,IF(X20=3,46,IF(X20=4,44,IF(X20=5,42,IF(AND(X20>5,X20<45),46-X20,2))))))) -> 0 | AA20: =IF(SUMIF(BC$11:BC$97,$C20,BB$11:BB$97)=0," ",SUMIF(BC$11:BC$97,$C20,BB$11:BB$97)) | AB20: =IF(AA20=" ",0,IF(AA20=1,50,IF(AA20=2,48,IF(AA20=3,46,IF(AA20=4,44,IF(AA20=5,42,IF(AND(AA20>5,AA20<45),46-AA20,2))))))) -> 0 | AD20: =IF(SUMIF(BF$11:BF$97,$C20,BE$11:BE$97)=0," ",SUMIF(BF$11:BF$97,$C20,BE$11:BE$97)) | AE20: =IF(AD20=" ",0,IF(AD20=1,50,IF(AD20=2,48,IF(AD20=3,46,IF(AD20=4,44,IF(AD20=5,42,IF(AND(AD20>5,AD20<45),46-AD20,2))))))) -> 0 | AF20: =J20+M20+P20+S20+V20+Y20+AB20+AE20 -> 0 | AG20: =A20 -> 10 | AH20: =AF20-MIN(J20,M20,P20,S20,V20,Y20,AB20,AE20) -> 0 | AJ20: 10 | AM20: 10 | AP20: 10 | AS20: 10 | AV20: 10 | AY20: 10 | BB20: 10 | BE20: 10
A21: 11 | B21: =AF21 -> 0 | I21: =IF(SUMIF(AK$11:AK$97,$C21,AJ$11:AJ$97)=0," ",SUMIF(AK$11:AK$97,$C21,AJ$11:AJ$97)) | J21: =IF(I21=" ",0,IF(I21=1,50,IF(I21=2,48,IF(I21=3,46,IF(I21=4,44,IF(I21=5,42,IF(AND(I21>5,I21<45),46-I21,2))))))) -> 0 | L21: =IF(SUMIF(AN$11:AN$97,$C21,AM$11:AM$97)=0," ",SUMIF(AN$11:AN$97,$C21,AM$11:AM$97)) | M21: =IF(L21=" ",0,IF(L21=1,50,IF(L21=2,48,IF(L21=3,46,IF(L21=4,44,IF(L21=5,42,IF(AND(L21>5,L21<45),46-L21,2))))))) -> 0 | O21: =IF(SUMIF(AQ$11:AQ$97,$C21,AP$11:AP$97)=0," ",SUMIF(AQ$11:AQ$97,$C21,AP$11:AP$97)) | P21: =IF(O21=" ",0,IF(O21=1,50,IF(O21=2,48,IF(O21=3,46,IF(O21=4,44,IF(O21=5,42,IF(AND(O21>5,O21<45),46-O21,2))))))) -> 0 | R21: =IF(SUMIF(AT$11:AT$97,$C21,AS$11:AS$97)=0," ",SUMIF(AT$11:AT$97,$C21,AS$11:AS$97)) | S21: =IF(R21=" ",0,IF(R21=1,50,IF(R21=2,48,IF(R21=3,46,IF(R21=4,44,IF(R21=5,42,IF(AND(R21>5,R21<45),46-R21,2))))))) -> 0 | U21: =IF(SUMIF(AW$11:AW$97,$C21,AV$11:AV$97)=0," ",SUMIF(AW$11:AW$97,$C21,AV$11:AV$97)) | V21: =IF(U21=" ",0,IF(U21=1,50,IF(U21=2,48,IF(U21=3,46,IF(U21=4,44,IF(U21=5,42,IF(AND(U21>5,U21<45),46-U21,2))))))) -> 0 | X21: =IF(SUMIF(AZ$11:AZ$97,$C21,AY$11:AY$97)=0," ",SUMIF(AZ$11:AZ$97,$C21,AY$11:AY$97)) | Y21: =IF(X21=" ",0,IF(X21=1,50,IF(X21=2,48,IF(X21=3,46,IF(X21=4,44,IF(X21=5,42,IF(AND(X21>5,X21<45),46-X21,2))))))) -> 0 | AA21: =IF(SUMIF(BC$11:BC$97,$C21,BB$11:BB$97)=0," ",SUMIF(BC$11:BC$97,$C21,BB$11:BB$97)) | AB21: =IF(AA21=" ",0,IF(AA21=1,50,IF(AA21=2,48,IF(AA21=3,46,IF(AA21=4,44,IF(AA21=5,42,IF(AND(AA21>5,AA21<45),46-AA21,2))))))) -> 0 | AD21: =IF(SUMIF(BF$11:BF$97,$C21,BE$11:BE$97)=0," ",SUMIF(BF$11:BF$97,$C21,BE$11:BE$97)) | AE21: =IF(AD21=" ",0,IF(AD21=1,50,IF(AD21=2,48,IF(AD21=3,46,IF(AD21=4,44,IF(AD21=5,42,IF(AND(AD21>5,AD21<45),46-AD21,2))))))) -> 0 | AF21: =J21+M21+P21+S21+V21+Y21+AB21+AE21 -> 0 | AG21: =A21 -> 11 | AH21: =AF21-MIN(J21,M21,P21,S21,V21,Y21,AB21,AE21) -> 0 | AJ21: 11 | AM21: 11 | AP21: 11 | AS21: 11 | AV21: 11 | AY21: 11 | BB21: 11 | BE21: 11
A22: 12 | B22: =AF22 -> 0 | I22: =IF(SUMIF(AK$11:AK$97,$C22,AJ$11:AJ$97)=0," ",SUMIF(AK$11:AK$97,$C22,AJ$11:AJ$97)) | J22: =IF(I22=" ",0,IF(I22=1,50,IF(I22=2,48,IF(I22=3,46,IF(I22=4,44,IF(I22=5,42,IF(AND(I22>5,I22<45),46-I22,2))))))) -> 0 | L22: =IF(SUMIF(AN$11:AN$97,$C22,AM$11:AM$97)=0," ",SUMIF(AN$11:AN$97,$C22,AM$11:AM$97)) | M22: =IF(L22=" ",0,IF(L22=1,50,IF(L22=2,48,IF(L22=3,46,IF(L22=4,44,IF(L22=5,42,IF(AND(L22>5,L22<45),46-L22,2))))))) -> 0 | O22: =IF(SUMIF(AQ$11:AQ$97,$C22,AP$11:AP$97)=0," ",SUMIF(AQ$11:AQ$97,$C22,AP$11:AP$97)) | P22: =IF(O22=" ",0,IF(O22=1,50,IF(O22=2,48,IF(O22=3,46,IF(O22=4,44,IF(O22=5,42,IF(AND(O22>5,O22<45),46-O22,2))))))) -> 0 | R22: =IF(SUMIF(AT$11:AT$97,$C22,AS$11:AS$97)=0," ",SUMIF(AT$11:AT$97,$C22,AS$11:AS$97)) | S22: =IF(R22=" ",0,IF(R22=1,50,IF(R22=2,48,IF(R22=3,46,IF(R22=4,44,IF(R22=5,42,IF(AND(R22>5,R22<45),46-R22,2))))))) -> 0 | U22: =IF(SUMIF(AW$11:AW$97,$C22,AV$11:AV$97)=0," ",SUMIF(AW$11:AW$97,$C22,AV$11:AV$97)) | V22: =IF(U22=" ",0,IF(U22=1,50,IF(U22=2,48,IF(U22=3,46,IF(U22=4,44,IF(U22=5,42,IF(AND(U22>5,U22<45),46-U22,2))))))) -> 0 | X22: =IF(SUMIF(AZ$11:AZ$97,$C22,AY$11:AY$97)=0," ",SUMIF(AZ$11:AZ$97,$C22,AY$11:AY$97)) | Y22: =IF(X22=" ",0,IF(X22=1,50,IF(X22=2,48,IF(X22=3,46,IF(X22=4,44,IF(X22=5,42,IF(AND(X22>5,X22<45),46-X22,2))))))) -> 0 | AA22: =IF(SUMIF(BC$11:BC$97,$C22,BB$11:BB$97)=0," ",SUMIF(BC$11:BC$97,$C22,BB$11:BB$97)) | AB22: =IF(AA22=" ",0,IF(AA22=1,50,IF(AA22=2,48,IF(AA22=3,46,IF(AA22=4,44,IF(AA22=5,42,IF(AND(AA22>5,AA22<45),46-AA22,2))))))) -> 0 | AD22: =IF(SUMIF(BF$11:BF$97,$C22,BE$11:BE$97)=0," ",SUMIF(BF$11:BF$97,$C22,BE$11:BE$97)) | AE22: =IF(AD22=" ",0,IF(AD22=1,50,IF(AD22=2,48,IF(AD22=3,46,IF(AD22=4,44,IF(AD22=5,42,IF(AND(AD22>5,AD22<45),46-AD22,2))))))) -> 0 | AF22: =J22+M22+P22+S22+V22+Y22+AB22+AE22 -> 0 | AG22: =A22 -> 12 | AH22: =AF22-MIN(J22,M22,P22,S22,V22,Y22,AB22,AE22) -> 0 | AJ22: 12 | AM22: 12 | AP22: 12 | AS22: 12 | AV22: 12 | AY22: 12 | BB22: 12 | BE22: 12
A23: 13 | B23: =AF23 -> 0 | I23: =IF(SUMIF(AK$11:AK$97,$C23,AJ$11:AJ$97)=0," ",SUMIF(AK$11:AK$97,$C23,AJ$11:AJ$97)) | J23: =IF(I23=" ",0,IF(I23=1,50,IF(I23=2,48,IF(I23=3,46,IF(I23=4,44,IF(I23=5,42,IF(AND(I23>5,I23<45),46-I23,2))))))) -> 0 | L23: =IF(SUMIF(AN$11:AN$97,$C23,AM$11:AM$97)=0," ",SUMIF(AN$11:AN$97,$C23,AM$11:AM$97)) | M23: =IF(L23=" ",0,IF(L23=1,50,IF(L23=2,48,IF(L23=3,46,IF(L23=4,44,IF(L23=5,42,IF(AND(L23>5,L23<45),46-L23,2))))))) -> 0 | O23: =IF(SUMIF(AQ$11:AQ$97,$C23,AP$11:AP$97)=0," ",SUMIF(AQ$11:AQ$97,$C23,AP$11:AP$97)) | P23: =IF(O23=" ",0,IF(O23=1,50,IF(O23=2,48,IF(O23=3,46,IF(O23=4,44,IF(O23=5,42,IF(AND(O23>5,O23<45),46-O23,2))))))) -> 0 | R23: =IF(SUMIF(AT$11:AT$97,$C23,AS$11:AS$97)=0," ",SUMIF(AT$11:AT$97,$C23,AS$11:AS$97)) | S23: =IF(R23=" ",0,IF(R23=1,50,IF(R23=2,48,IF(R23=3,46,IF(R23=4,44,IF(R23=5,42,IF(AND(R23>5,R23<45),46-R23,2))))))) -> 0 | U23: =IF(SUMIF(AW$11:AW$97,$C23,AV$11:AV$97)=0," ",SUMIF(AW$11:AW$97,$C23,AV$11:AV$97)) | V23: =IF(U23=" ",0,IF(U23=1,50,IF(U23=2,48,IF(U23=3,46,IF(U23=4,44,IF(U23=5,42,IF(AND(U23>5,U23<45),46-U23,2))))))) -> 0 | X23: =IF(SUMIF(AZ$11:AZ$97,$C23,AY$11:AY$97)=0," ",SUMIF(AZ$11:AZ$97,$C23,AY$11:AY$97)) | Y23: =IF(X23=" ",0,IF(X23=1,50,IF(X23=2,48,IF(X23=3,46,IF(X23=4,44,IF(X23=5,42,IF(AND(X23>5,X23<45),46-X23,2))))))) -> 0 | AA23: =IF(SUMIF(BC$11:BC$97,$C23,BB$11:BB$97)=0," ",SUMIF(BC$11:BC$97,$C23,BB$11:BB$97)) | AB23: =IF(AA23=" ",0,IF(AA23=1,50,IF(AA23=2,48,IF(AA23=3,46,IF(AA23=4,44,IF(AA23=5,42,IF(AND(AA23>5,AA23<45),46-AA23,2))))))) -> 0 | AD23: =IF(SUMIF(BF$11:BF$97,$C23,BE$11:BE$97)=0," ",SUMIF(BF$11:BF$97,$C23,BE$11:BE$97)) | AE23: =IF(AD23=" ",0,IF(AD23=1,50,IF(AD23=2,48,IF(AD23=3,46,IF(AD23=4,44,IF(AD23=5,42,IF(AND(AD23>5,AD23<45),46-AD23,2))))))) -> 0 | AF23: =J23+M23+P23+S23+V23+Y23+AB23+AE23 -> 0 | AG23: =A23 -> 13 | AH23: =AF23-MIN(J23,M23,P23,S23,V23,Y23,AB23,AE23) -> 0 | AJ23: 13 | AM23: 13 | AP23: 13 | AS23: 13 | AV23: 13 | AY23: 13 | BB23: 13 | BE23: 13
A24: 14 | B24: =AF24 -> 0 | I24: =IF(SUMIF(AK$11:AK$97,$C24,AJ$11:AJ$97)=0," ",SUMIF(AK$11:AK$97,$C24,AJ$11:AJ$97)) | J24: =IF(I24=" ",0,IF(I24=1,50,IF(I24=2,48,IF(I24=3,46,IF(I24=4,44,IF(I24=5,42,IF(AND(I24>5,I24<45),46-I24,2))))))) -> 0 | L24: =IF(SUMIF(AN$11:AN$97,$C24,AM$11:AM$97)=0," ",SUMIF(AN$11:AN$97,$C24,AM$11:AM$97)) | M24: =IF(L24=" ",0,IF(L24=1,50,IF(L24=2,48,IF(L24=3,46,IF(L24=4,44,IF(L24=5,42,IF(AND(L24>5,L24<45),46-L24,2))))))) -> 0 | O24: =IF(SUMIF(AQ$11:AQ$97,$C24,AP$11:AP$97)=0," ",SUMIF(AQ$11:AQ$97,$C24,AP$11:AP$97)) | P24: =IF(O24=" ",0,IF(O24=1,50,IF(O24=2,48,IF(O24=3,46,IF(O24=4,44,IF(O24=5,42,IF(AND(O24>5,O24<45),46-O24,2))))))) -> 0 | R24: =IF(SUMIF(AT$11:AT$97,$C24,AS$11:AS$97)=0," ",SUMIF(AT$11:AT$97,$C24,AS$11:AS$97)) | S24: =IF(R24=" ",0,IF(R24=1,50,IF(R24=2,48,IF(R24=3,46,IF(R24=4,44,IF(R24=5,42,IF(AND(R24>5,R24<45),46-R24,2))))))) -> 0 | U24: =IF(SUMIF(AW$11:AW$97,$C24,AV$11:AV$97)=0," ",SUMIF(AW$11:AW$97,$C24,AV$11:AV$97)) | V24: =IF(U24=" ",0,IF(U24=1,50,IF(U24=2,48,IF(U24=3,46,IF(U24=4,44,IF(U24=5,42,IF(AND(U24>5,U24<45),46-U24,2))))))) -> 0 | X24: =IF(SUMIF(AZ$11:AZ$97,$C24,AY$11:AY$97)=0," ",SUMIF(AZ$11:AZ$97,$C24,AY$11:AY$97)) | Y24: =IF(X24=" ",0,IF(X24=1,50,IF(X24=2,48,IF(X24=3,46,IF(X24=4,44,IF(X24=5,42,IF(AND(X24>5,X24<45),46-X24,2))))))) -> 0 | AA24: =IF(SUMIF(BC$11:BC$97,$C24,BB$11:BB$97)=0," ",SUMIF(BC$11:BC$97,$C24,BB$11:BB$97)) | AB24: =IF(AA24=" ",0,IF(AA24=1,50,IF(AA24=2,48,IF(AA24=3,46,IF(AA24=4,44,IF(AA24=5,42,IF(AND(AA24>5,AA24<45),46-AA24,2))))))) -> 0 | AD24: =IF(SUMIF(BF$11:BF$97,$C24,BE$11:BE$97)=0," ",SUMIF(BF$11:BF$97,$C24,BE$11:BE$97)) | AE24: =IF(AD24=" ",0,IF(AD24=1,50,IF(AD24=2,48,IF(AD24=3,46,IF(AD24=4,44,IF(AD24=5,42,IF(AND(AD24>5,AD24<45),46-AD24,2))))))) -> 0 | AF24: =J24+M24+P24+S24+V24+Y24+AB24+AE24 -> 0 | AG24: =A24 -> 14 | AH24: =AF24-MIN(J24,M24,P24,S24,V24,Y24,AB24,AE24) -> 0 | AJ24: 14 | AM24: 14 | AP24: 14 | AS24: 14 | AV24: 14 | AY24: 14 | BB24: 14 | BE24: 14
A25: 15 | B25: =AF25 -> 0 | I25: =IF(SUMIF(AK$11:AK$97,$C25,AJ$11:AJ$97)=0," ",SUMIF(AK$11:AK$97,$C25,AJ$11:AJ$97)) | J25: =IF(I25=" ",0,IF(I25=1,50,IF(I25=2,48,IF(I25=3,46,IF(I25=4,44,IF(I25=5,42,IF(AND(I25>5,I25<45),46-I25,2))))))) -> 0 | L25: =IF(SUMIF(AN$11:AN$97,$C25,AM$11:AM$97)=0," ",SUMIF(AN$11:AN$97,$C25,AM$11:AM$97)) | M25: =IF(L25=" ",0,IF(L25=1,50,IF(L25=2,48,IF(L25=3,46,IF(L25=4,44,IF(L25=5,42,IF(AND(L25>5,L25<45),46-L25,2))))))) -> 0 | O25: =IF(SUMIF(AQ$11:AQ$97,$C25,AP$11:AP$97)=0," ",SUMIF(AQ$11:AQ$97,$C25,AP$11:AP$97)) | P25: =IF(O25=" ",0,IF(O25=1,50,IF(O25=2,48,IF(O25=3,46,IF(O25=4,44,IF(O25=5,42,IF(AND(O25>5,O25<45),46-O25,2))))))) -> 0 | R25: =IF(SUMIF(AT$11:AT$97,$C25,AS$11:AS$97)=0," ",SUMIF(AT$11:AT$97,$C25,AS$11:AS$97)) | S25: =IF(R25=" ",0,IF(R25=1,50,IF(R25=2,48,IF(R25=3,46,IF(R25=4,44,IF(R25=5,42,IF(AND(R25>5,R25<45),46-R25,2))))))) -> 0 | U25: =IF(SUMIF(AW$11:AW$97,$C25,AV$11:AV$97)=0," ",SUMIF(AW$11:AW$97,$C25,AV$11:AV$97)) | V25: =IF(U25=" ",0,IF(U25=1,50,IF(U25=2,48,IF(U25=3,46,IF(U25=4,44,IF(U25=5,42,IF(AND(U25>5,U25<45),46-U25,2))))))) -> 0 | X25: =IF(SUMIF(AZ$11:AZ$97,$C25,AY$11:AY$97)=0," ",SUMIF(AZ$11:AZ$97,$C25,AY$11:AY$97)) | Y25: =IF(X25=" ",0,IF(X25=1,50,IF(X25=2,48,IF(X25=3,46,IF(X25=4,44,IF(X25=5,42,IF(AND(X25>5,X25<45),46-X25,2))))))) -> 0 | AA25: =IF(SUMIF(BC$11:BC$97,$C25,BB$11:BB$97)=0," ",SUMIF(BC$11:BC$97,$C25,BB$11:BB$97)) | AB25: =IF(AA25=" ",0,IF(AA25=1,50,IF(AA25=2,48,IF(AA25=3,46,IF(AA25=4,44,IF(AA25=5,42,IF(AND(AA25>5,AA25<45),46-AA25,2))))))) -> 0 | AD25: =IF(SUMIF(BF$11:BF$97,$C25,BE$11:BE$97)=0," ",SUMIF(BF$11:BF$97,$C25,BE$11:BE$97)) | AE25: =IF(AD25=" ",0,IF(AD25=1,50,IF(AD25=2,48,IF(AD25=3,46,IF(AD25=4,44,IF(AD25=5,42,IF(AND(AD25>5,AD25<45),46-AD25,2))))))) -> 0 | AF25: =J25+M25+P25+S25+V25+Y25+AB25+AE25 -> 0 | AG25: =A25 -> 15 | AH25: =AF25-MIN(J25,M25,P25,S25,V25,Y25,AB25,AE25) -> 0 | AJ25: 15 | AM25: 15 | AP25: 15 | AS25: 15 | AV25: 15 | AY25: 15 | BB25: 15 | BE25: 15
A26: 16 | B26: =AF26 -> 0 | I26: =IF(SUMIF(AK$11:AK$97,$C26,AJ$11:AJ$97)=0," ",SUMIF(AK$11:AK$97,$C26,AJ$11:AJ$97)) | J26: =IF(I26=" ",0,IF(I26=1,50,IF(I26=2,48,IF(I26=3,46,IF(I26=4,44,IF(I26=5,42,IF(AND(I26>5,I26<45),46-I26,2))))))) -> 0 | L26: =IF(SUMIF(AN$11:AN$97,$C26,AM$11:AM$97)=0," ",SUMIF(AN$11:AN$97,$C26,AM$11:AM$97)) | M26: =IF(L26=" ",0,IF(L26=1,50,IF(L26=2,48,IF(L26=3,46,IF(L26=4,44,IF(L26=5,42,IF(AND(L26>5,L26<45),46-L26,2))))))) -> 0 | O26: =IF(SUMIF(AQ$11:AQ$97,$C26,AP$11:AP$97)=0," ",SUMIF(AQ$11:AQ$97,$C26,AP$11:AP$97)) | P26: =IF(O26=" ",0,IF(O26=1,50,IF(O26=2,48,IF(O26=3,46,IF(O26=4,44,IF(O26=5,42,IF(AND(O26>5,O26<45),46-O26,2))))))) -> 0 | R26: =IF(SUMIF(AT$11:AT$97,$C26,AS$11:AS$97)=0," ",SUMIF(AT$11:AT$97,$C26,AS$11:AS$97)) | S26: =IF(R26=" ",0,IF(R26=1,50,IF(R26=2,48,IF(R26=3,46,IF(R26=4,44,IF(R26=5,42,IF(AND(R26>5,R26<45),46-R26,2))))))) -> 0 | U26: =IF(SUMIF(AW$11:AW$97,$C26,AV$11:AV$97)=0," ",SUMIF(AW$11:AW$97,$C26,AV$11:AV$97)) | V26: =IF(U26=" ",0,IF(U26=1,50,IF(U26=2,48,IF(U26=3,46,IF(U26=4,44,IF(U26=5,42,IF(AND(U26>5,U26<45),46-U26,2))))))) -> 0 | X26: =IF(SUMIF(AZ$11:AZ$97,$C26,AY$11:AY$97)=0," ",SUMIF(AZ$11:AZ$97,$C26,AY$11:AY$97)) | Y26: =IF(X26=" ",0,IF(X26=1,50,IF(X26=2,48,IF(X26=3,46,IF(X26=4,44,IF(X26=5,42,IF(AND(X26>5,X26<45),46-X26,2))))))) -> 0 | AA26: =IF(SUMIF(BC$11:BC$97,$C26,BB$11:BB$97)=0," ",SUMIF(BC$11:BC$97,$C26,BB$11:BB$97)) | AB26: =IF(AA26=" ",0,IF(AA26=1,50,IF(AA26=2,48,IF(AA26=3,46,IF(AA26=4,44,IF(AA26=5,42,IF(AND(AA26>5,AA26<45),46-AA26,2))))))) -> 0 | AD26: =IF(SUMIF(BF$11:BF$97,$C26,BE$11:BE$97)=0," ",SUMIF(BF$11:BF$97,$C26,BE$11:BE$97)) | AE26: =IF(AD26=" ",0,IF(AD26=1,50,IF(AD26=2,48,IF(AD26=3,46,IF(AD26=4,44,IF(AD26=5,42,IF(AND(AD26>5,AD26<45),46-AD26,2))))))) -> 0 | AF26: =J26+M26+P26+S26+V26+Y26+AB26+AE26 -> 0 | AG26: =A26 -> 16 | AH26: =AF26-MIN(J26,M26,P26,S26,V26,Y26,AB26,AE26) -> 0 | AJ26: 16 | AM26: 16 | AP26: 16 | AS26: 16 | AV26: 16 | AY26: 16 | BB26: 16 | BE26: 16
A27: 17 | B27: =AF27 -> 0 | I27: =IF(SUMIF(AK$11:AK$97,$C27,AJ$11:AJ$97)=0," ",SUMIF(AK$11:AK$97,$C27,AJ$11:AJ$97)) | J27: =IF(I27=" ",0,IF(I27=1,50,IF(I27=2,48,IF(I27=3,46,IF(I27=4,44,IF(I27=5,42,IF(AND(I27>5,I27<45),46-I27,2))))))) -> 0 | L27: =IF(SUMIF(AN$11:AN$97,$C27,AM$11:AM$97)=0," ",SUMIF(AN$11:AN$97,$C27,AM$11:AM$97)) | M27: =IF(L27=" ",0,IF(L27=1,50,IF(L27=2,48,IF(L27=3,46,IF(L27=4,44,IF(L27=5,42,IF(AND(L27>5,L27<45),46-L27,2))))))) -> 0 | O27: =IF(SUMIF(AQ$11:AQ$97,$C27,AP$11:AP$97)=0," ",SUMIF(AQ$11:AQ$97,$C27,AP$11:AP$97)) | P27: =IF(O27=" ",0,IF(O27=1,50,IF(O27=2,48,IF(O27=3,46,IF(O27=4,44,IF(O27=5,42,IF(AND(O27>5,O27<45),46-O27,2))))))) -> 0 | R27: =IF(SUMIF(AT$11:AT$97,$C27,AS$11:AS$97)=0," ",SUMIF(AT$11:AT$97,$C27,AS$11:AS$97)) | S27: =IF(R27=" ",0,IF(R27=1,50,IF(R27=2,48,IF(R27=3,46,IF(R27=4,44,IF(R27=5,42,IF(AND(R27>5,R27<45),46-R27,2))))))) -> 0 | U27: =IF(SUMIF(AW$11:AW$97,$C27,AV$11:AV$97)=0," ",SUMIF(AW$11:AW$97,$C27,AV$11:AV$97)) | V27: =IF(U27=" ",0,IF(U27=1,50,IF(U27=2,48,IF(U27=3,46,IF(U27=4,44,IF(U27=5,42,IF(AND(U27>5,U27<45),46-U27,2))))))) -> 0 | X27: =IF(SUMIF(AZ$11:AZ$97,$C27,AY$11:AY$97)=0," ",SUMIF(AZ$11:AZ$97,$C27,AY$11:AY$97)) | Y27: =IF(X27=" ",0,IF(X27=1,50,IF(X27=2,48,IF(X27=3,46,IF(X27=4,44,IF(X27=5,42,IF(AND(X27>5,X27<45),46-X27,2))))))) -> 0 | AA27: =IF(SUMIF(BC$11:BC$97,$C27,BB$11:BB$97)=0," ",SUMIF(BC$11:BC$97,$C27,BB$11:BB$97)) | AB27: =IF(AA27=" ",0,IF(AA27=1,50,IF(AA27=2,48,IF(AA27=3,46,IF(AA27=4,44,IF(AA27=5,42,IF(AND(AA27>5,AA27<45),46-AA27,2))))))) -> 0 | AD27: =IF(SUMIF(BF$11:BF$97,$C27,BE$11:BE$97)=0," ",SUMIF(BF$11:BF$97,$C27,BE$11:BE$97)) | AE27: =IF(AD27=" ",0,IF(AD27=1,50,IF(AD27=2,48,IF(AD27=3,46,IF(AD27=4,44,IF(AD27=5,42,IF(AND(AD27>5,AD27<45),46-AD27,2))))))) -> 0 | AF27: =J27+M27+P27+S27+V27+Y27+AB27+AE27 -> 0 | AG27: =A27 -> 17 | AH27: =AF27-MIN(J27,M27,P27,S27,V27,Y27,AB27,AE27) -> 0 | AJ27: 17 | AM27: 17 | AP27: 17 | AS27: 17 | AV27: 17 | AY27: 17 | BB27: 17 | BE27: 17
A28: 18 | B28: =AF28 -> 0 | I28: =IF(SUMIF(AK$11:AK$97,$C28,AJ$11:AJ$97)=0," ",SUMIF(AK$11:AK$97,$C28,AJ$11:AJ$97)) | J28: =IF(I28=" ",0,IF(I28=1,50,IF(I28=2,48,IF(I28=3,46,IF(I28=4,44,IF(I28=5,42,IF(AND(I28>5,I28<45),46-I28,2))))))) -> 0 | L28: =IF(SUMIF(AN$11:AN$97,$C28,AM$11:AM$97)=0," ",SUMIF(AN$11:AN$97,$C28,AM$11:AM$97)) | M28: =IF(L28=" ",0,IF(L28=1,50,IF(L28=2,48,IF(L28=3,46,IF(L28=4,44,IF(L28=5,42,IF(AND(L28>5,L28<45),46-L28,2))))))) -> 0 | O28: =IF(SUMIF(AQ$11:AQ$97,$C28,AP$11:AP$97)=0," ",SUMIF(AQ$11:AQ$97,$C28,AP$11:AP$97)) | P28: =IF(O28=" ",0,IF(O28=1,50,IF(O28=2,48,IF(O28=3,46,IF(O28=4,44,IF(O28=5,42,IF(AND(O28>5,O28<45),46-O28,2))))))) -> 0 | R28: =IF(SUMIF(AT$11:AT$97,$C28,AS$11:AS$97)=0," ",SUMIF(AT$11:AT$97,$C28,AS$11:AS$97)) | S28: =IF(R28=" ",0,IF(R28=1,50,IF(R28=2,48,IF(R28=3,46,IF(R28=4,44,IF(R28=5,42,IF(AND(R28>5,R28<45),46-R28,2))))))) -> 0 | U28: =IF(SUMIF(AW$11:AW$97,$C28,AV$11:AV$97)=0," ",SUMIF(AW$11:AW$97,$C28,AV$11:AV$97)) | V28: =IF(U28=" ",0,IF(U28=1,50,IF(U28=2,48,IF(U28=3,46,IF(U28=4,44,IF(U28=5,42,IF(AND(U28>5,U28<45),46-U28,2))))))) -> 0 | X28: =IF(SUMIF(AZ$11:AZ$97,$C28,AY$11:AY$97)=0," ",SUMIF(AZ$11:AZ$97,$C28,AY$11:AY$97)) | Y28: =IF(X28=" ",0,IF(X28=1,50,IF(X28=2,48,IF(X28=3,46,IF(X28=4,44,IF(X28=5,42,IF(AND(X28>5,X28<45),46-X28,2))))))) -> 0 | AA28: =IF(SUMIF(BC$11:BC$97,$C28,BB$11:BB$97)=0," ",SUMIF(BC$11:BC$97,$C28,BB$11:BB$97)) | AB28: =IF(AA28=" ",0,IF(AA28=1,50,IF(AA28=2,48,IF(AA28=3,46,IF(AA28=4,44,IF(AA28=5,42,IF(AND(AA28>5,AA28<45),46-AA28,2))))))) -> 0 | AD28: =IF(SUMIF(BF$11:BF$97,$C28,BE$11:BE$97)=0," ",SUMIF(BF$11:BF$97,$C28,BE$11:BE$97)) | AE28: =IF(AD28=" ",0,IF(AD28=1,50,IF(AD28=2,48,IF(AD28=3,46,IF(AD28=4,44,IF(AD28=5,42,IF(AND(AD28>5,AD28<45),46-AD28,2))))))) -> 0 | AF28: =J28+M28+P28+S28+V28+Y28+AB28+AE28 -> 0 | AG28: =A28 -> 18 | AH28: =AF28-MIN(J28,M28,P28,S28,V28,Y28,AB28,AE28) -> 0 | AJ28: 18 | AM28: 18 | AP28: 18 | AS28: 18 | AV28: 18 | AY28: 18 | BB28: 18 | BE28: 18
... A90: 80 | B90: =AF90 -> 0 | I90: =IF(SUMIF(AK$11:AK$97,$C90,AJ$11:AJ$97)=0," ",SUMIF(AK$11:AK$97,$C90,AJ$11:AJ$97)) | J90: =IF(I90=" ",0,IF(I90=1,50,IF(I90=2,48,IF(I90=3,46,IF(I90=4,44,IF(I90=5,42,IF(AND(I90>5,I90<45),46-I90,2))))))) -> 0 | L90: =IF(SUMIF(AN$11:AN$97,$C90,AM$11:AM$97)=0," ",SUMIF(AN$11:AN$97,$C90,AM$11:AM$97)) | M90: =IF(L90=" ",0,IF(L90=1,50,IF(L90=2,48,IF(L90=3,46,IF(L90=4,44,IF(L90=5,42,IF(AND(L90>5,L90<45),46-L90,2))))))) -> 0 | O90: =IF(SUMIF(AQ$11:AQ$97,$C90,AP$11:AP$97)=0," ",SUMIF(AQ$11:AQ$97,$C90,AP$11:AP$97)) | P90: =IF(O90=" ",0,IF(O90=1,50,IF(O90=2,48,IF(O90=3,46,IF(O90=4,44,IF(O90=5,42,IF(AND(O90>5,O90<45),46-O90,2))))))) -> 0 | R90: =IF(SUMIF(AT$11:AT$97,$C90,AS$11:AS$97)=0," ",SUMIF(AT$11:AT$97,$C90,AS$11:AS$97)) | S90: =IF(R90=" ",0,IF(R90=1,50,IF(R90=2,48,IF(R90=3,46,IF(R90=4,44,IF(R90=5,42,IF(AND(R90>5,R90<45),46-R90,2))))))) -> 0 | U90: =IF(SUMIF(AW$11:AW$97,$C90,AV$11:AV$97)=0," ",SUMIF(AW$11:AW$97,$C90,AV$11:AV$97)) | V90: =IF(U90=" ",0,IF(U90=1,50,IF(U90=2,48,IF(U90=3,46,IF(U90=4,44,IF(U90=5,42,IF(AND(U90>5,U90<45),46-U90,2))))))) -> 0 | X90: =IF(SUMIF(AZ$11:AZ$97,$C90,AY$11:AY$97)=0," ",SUMIF(AZ$11:AZ$97,$C90,AY$11:AY$97)) | Y90: =IF(X90=" ",0,IF(X90=1,50,IF(X90=2,48,IF(X90=3,46,IF(X90=4,44,IF(X90=5,42,IF(AND(X90>5,X90<45),46-X90,2))))))) -> 0 | AA90: =IF(SUMIF(BC$11:BC$97,$C90,BB$11:BB$97)=0," ",SUMIF(BC$11:BC$97,$C90,BB$11:BB$97)) | AB90: =IF(AA90=" ",0,IF(AA90=1,50,IF(AA90=2,48,IF(AA90=3,46,IF(AA90=4,44,IF(AA90=5,42,IF(AND(AA90>5,AA90<45),46-AA90,2))))))) -> 0 | AD90: =IF(SUMIF(BF$11:BF$97,$C90,BE$11:BE$97)=0," ",SUMIF(BF$11:BF$97,$C90,BE$11:BE$97)) | AE90: =IF(AD90=" ",0,IF(AD90=1,50,IF(AD90=2,48,IF(AD90=3,46,IF(AD90=4,44,IF(AD90=5,42,IF(AND(AD90>5,AD90<45),46-AD90,2))))))) -> 0 | AF90: =J90+M90+P90+S90+V90+Y90+AB90+AE90 -> 0 | AG90: =A90 -> 80 | AH90: =AF90-MIN(J90,M90,P90,S90,V90,Y90,AB90,AE90) -> 0 | AJ90: 80 | AM90: 80 | AP90: 80 | AS90: 80 | AV90: 80 | AY90: 80 | BB90: 80 | BE90: 80
I91: =IF(SUMIF(AK$11:AK$97,$C91,AJ$11:AJ$97)=0," ",SUMIF(AK$11:AK$97,$C91,AJ$11:AJ$97)) | L91: =IF(SUMIF(AN$11:AN$97,$C91,AM$11:AM$97)=0," ",SUMIF(AN$11:AN$97,$C91,AM$11:AM$97)) | O91: =IF(SUMIF(AQ$11:AQ$97,$C91,AP$11:AP$97)=0," ",SUMIF(AQ$11:AQ$97,$C91,AP$11:AP$97)) | R91: =IF(SUMIF(AT$11:AT$97,$C91,AS$11:AS$97)=0," ",SUMIF(AT$11:AT$97,$C91,AS$11:AS$97)) | U91: =IF(SUMIF(AW$11:AW$97,$C91,AV$11:AV$97)=0," ",SUMIF(AW$11:AW$97,$C91,AV$11:AV$97)) | X91: =IF(SUMIF(AZ$11:AZ$97,$C91,AY$11:AY$97)=0," ",SUMIF(AZ$11:AZ$97,$C91,AY$11:AY$97)) | AA91: =IF(SUMIF(BC$11:BC$97,$C91,BB$11:BB$97)=0," ",SUMIF(BC$11:BC$97,$C91,BB$11:BB$97)) | AD91: =IF(SUMIF(BF$11:BF$97,$C91,BE$11:BE$97)=0," ",SUMIF(BF$11:BF$97,$C91,BE$11:BE$97)) | AF91: =J91+M91+P91+S91+V91+Y91+AB91+AE91 -> 0 | AH91: =AF91-MIN(J91,M91,P91,S91,V91,Y91,AB91,AE91) -> 0
I92: =IF(SUMIF(AK$11:AK$97,$C92,AJ$11:AJ$97)=0," ",SUMIF(AK$11:AK$97,$C92,AJ$11:AJ$97)) | L92: =IF(SUMIF(AN$11:AN$97,$C92,AM$11:AM$97)=0," ",SUMIF(AN$11:AN$97,$C92,AM$11:AM$97)) | O92: =IF(SUMIF(AQ$11:AQ$97,$C92,AP$11:AP$97)=0," ",SUMIF(AQ$11:AQ$97,$C92,AP$11:AP$97)) | R92: =IF(SUMIF(AT$11:AT$97,$C92,AS$11:AS$97)=0," ",SUMIF(AT$11:AT$97,$C92,AS$11:AS$97)) | U92: =IF(SUMIF(AW$11:AW$97,$C92,AV$11:AV$97)=0," ",SUMIF(AW$11:AW$97,$C92,AV$11:AV$97)) | X92: =IF(SUMIF(AZ$11:AZ$97,$C92,AY$11:AY$97)=0," ",SUMIF(AZ$11:AZ$97,$C92,AY$11:AY$97)) | AA92: =IF(SUMIF(BC$11:BC$97,$C92,BB$11:BB$97)=0," ",SUMIF(BC$11:BC$97,$C92,BB$11:BB$97)) | AD92: =IF(SUMIF(BF$11:BF$97,$C92,BE$11:BE$97)=0," ",SUMIF(BF$11:BF$97,$C92,BE$11:BE$97))
B100: VAL D'OISE TROPHY UFOLEP JEUNES 2026
D102: SERIE A
D103: garçons et filles | F103: 2020
D104: dossards de 1 à 99
C107: manque 1
C109: doss | D109: noms | E109: sexe | F109: club | G109: fédé | H109: né le | K109: émargement
C110: =C11 -> 6 | D110: =IF(C11>0,D11," ") -> Jules LE BEUVANT | E110: =IF(C11>0,E11," ") -> H | F110: =IF(C11>0,F11," ") -> ORC epone | G110: =IF(C11>0,G11," ") -> 0
C111: =C12 -> 2 | D111: =IF(C12>0,D12," ") -> Jonathan BUTLER | E111: =IF(C12>0,E12," ") -> H | F111: =IF(C12>0,F12," ") -> OGVTT | G111: =IF(C12>0,G12," ")
C112: =C13 -> 3 | D112: =IF(C13>0,D13," ") -> Maxence DELAHAYE | E112: =IF(C13>0,E13," ") -> H | F112: =IF(C13>0,F13," ") -> Les Sangliers du Vexin | G112: =IF(C13>0,G13," ")
...

Sheet série B
C1: VAL D'OISE TROPHY UFOLEP JEUNES 2026
AF2: =IF(F7=1,SUM(H11:H90),IF(F7=2,SUM(K11:K90),IF(F7=3,SUM(N11:N90),IF(F7=4,SUM(Q11:Q90),IF(F7=5,SUM(T11:T90),IF(F7=6,SUM(W11:W90),IF(F7=7,SUM(Z11:Z90)))))))) -> 30 | AI2: Achères | AJ2: CLASSEMENTS DE CHAQUE MANCHE
AF3: =IF(F7=1,SUM(#REF!),IF(F7=2,SUM(#REF!),IF(F7=3,SUM(#REF!),IF(F7=4,SUM(#REF!),IF(F7=5,SUM(#REF!),IF(F7=6,SUM(#REF!),IF(F7=7,SUM(#REF!)))))))) -> #REF! | AI3: Osny
D4: garçons et filles | F4: 2018-2019 | AI4: Cergy
D5: dossards de 101 à 199 | AI5: Méry
F6: manque 105-111-114 | AI6: Bonnières
D7: Manche | E7: N° | F7: 1 | H7: Manche N°1 | K7: Manche N°2 | N7: Manche N°3 | Q7: Manche N°4 | T7: Manche N°5 | W7: Manche N°6 | Z7: Manche N°7 | AC7: Manche N°8 | AI7: Survilliers
C8: =IF(F7<8,AF2,IF(F7=8,SUM(AC11:AC90))) -> 30 | D8: Inscrits | H8: Achères | K8: Osny | N8: Cergy | Q8: Méry | T8: Bonnières | W8: Survilliers | Z8: Marines | AC8: Marly la ville | AI8: Marines
H9: 46053 | K9: 46067 | N9: 46095 | Q9: 46102 | T9: 46109 | W9: 46165 | Z9: 46179 | AC9: 46186 | AI9: Marly la ville
A10: classement | B10: total points | C10: doss | D10: noms+prénoms | E10: Sexe | F10: club | G10: fédé | H10: inscription n° 1 | I10: place épreuve n° 1 | J10: points épreuve n° 1 | K10: inscription n° 2 | L10: place épreuve n° 2 | M10: points épreuve n° 2 | N10: inscription n° 3 | O10: place épreuve n° 3 | P10: points épreuve n° 3 | Q10: inscription n° 4 | R10: place épreuve n° 4 | S10: points épreuve n° 4 | T10: inscription n° 5 | U10: place épreuve n° 5 | V10: points épreuve n° 5 | W10: inscription n° 6 | X10: place épreuve n° 6 | Y10: points épreuve n° 6 | Z10: inscription n° 7 | AA10: place épreuve n° 7 | AB10: points épreuve n° 7 | AC10: inscription n° 8 | AD10: place épreuve n° 8 | AE10: points épreuve n° 8 | AF10: total points | AG10: classement | AH10: total points modulé | AJ10: place épreuve n° 1 | AK10: dossards épreuve n° 1 | AM10: place épreuve n° 2 | AN10: dossards épreuve n° 2 | AP10: place épreuve n° 3 | AQ10: dossards épreuve n° 3 | AS10: place épreuve n° 4 | AT10: dossards épreuve n° 4 | AV10: place épreuve n° 5 | AW10: dossards épreuve n° 5 | AY10: place épreuve n° 6 | AZ10: dossards épreuve n° 6 | BB10: place épreuve n° 7 | BC10: dossards épreuve n° 7 | BE10: place épreuve n° 8 | BF10: dossards épreuve n° 8
A11: 1 | B11: =AF11 -> 50 | C11: 125 | D11: Arthur FRANCOISE | E11: H | F11: ORC EPONE | H11: 1 | I11: 1 | J11: =IF(I11=" ",0,IF(I11=1,50,IF(I11=2,48,IF(I11=3,46,IF(I11=4,44,IF(I11=5,42,IF(AND(I11>5,I11<45),46-I11,2))))))) -> 50 | L11: =IF(SUMIF(AN$11:AN$97,$C11,AM$11:AM$97)=0," ",SUMIF(AN$11:AN$97,$C11,AM$11:AM$97)) | M11: =IF(L11=" ",0,IF(L11=1,50,IF(L11=2,48,IF(L11=3,46,IF(L11=4,44,IF(L11=5,42,IF(AND(L11>5,L11<45),46-L11,2))))))) -> 0 | O11: =IF(SUMIF(AQ$11:AQ$97,$C11,AP$11:AP$97)=0," ",SUMIF(AQ$11:AQ$97,$C11,AP$11:AP$97)) | P11: =IF(O11=" ",0,IF(O11=1,50,IF(O11=2,48,IF(O11=3,46,IF(O11=4,44,IF(O11=5,42,IF(AND(O11>5,O11<45),46-O11,2))))))) -> 0 | R11: =IF(SUMIF(AT$11:AT$97,$C11,AS$11:AS$97)=0," ",SUMIF(AT$11:AT$97,$C11,AS$11:AS$97)) | S11: =IF(R11=" ",0,IF(R11=1,50,IF(R11=2,48,IF(R11=3,46,IF(R11=4,44,IF(R11=5,42,IF(AND(R11>5,R11<45),46-R11,2))))))) -> 0 | U11: =IF(SUMIF(AW$11:AW$97,$C11,AV$11:AV$97)=0," ",SUMIF(AW$11:AW$97,$C11,AV$11:AV$97)) | V11: =IF(U11=" ",0,IF(U11=1,50,IF(U11=2,48,IF(U11=3,46,IF(U11=4,44,IF(U11=5,42,IF(AND(U11>5,U11<45),46-U11,2))))))) -> 0 | X11: =IF(SUMIF(AZ$11:AZ$97,$C11,AY$11:AY$97)=0," ",SUMIF(AZ$11:AZ$97,$C11,AY$11:AY$97)) | Y11: =IF(X11=" ",0,IF(X11=1,50,IF(X11=2,48,IF(X11=3,46,IF(X11=4,44,IF(X11=5,42,IF(AND(X11>5,X11<45),46-X11,2))))))) -> 0 | AA11: =IF(SUMIF(BC$11:BC$97,$C11,BB$11:BB$97)=0," ",SUMIF(BC$11:BC$97,$C11,BB$11:BB$97)) | AB11: =IF(AA11=" ",0,IF(AA11=1,50,IF(AA11=2,48,IF(AA11=3,46,IF(AA11=4,44,IF(AA11=5,42,IF(AND(AA11>5,AA11<45),46-AA11,2))))))) -> 0 | AD11: =IF(SUMIF(BF$11:BF$97,$C11,BE$11:BE$97)=0," ",SUMIF(BF$11:BF$97,$C11,BE$11:BE$97)) | AE11: =IF(AD11=" ",0,IF(AD11=1,50,IF(AD11=2,48,IF(AD11=3,46,IF(AD11=4,44,IF(AD11=5,42,IF(AND(AD11>5,AD11<45),46-AD11,2))))))) -> 0 | AF11: =J11+M11+P11+S11+V11+Y11+AB11+AE11 -> 50 | AG11: =A11 -> 1 | AH11: =AF11-MIN(J11,M11,P11,S11,V11,Y11,AB11,AE11) -> 50 | AJ11: 1 | AK11: 125 | AM11: 1 | AP11: 1 | AS11: 1 | AV11: 1 | AY11: 1 | BB11: 1 | BE11: 1
A12: 2 | B12: =AF12 -> 48 | C12: 124 | D12: Tim JABIOL | E12: H | F12: Beauvais team cycliste | H12: 1 | I12: 2 | J12: =IF(I12=" ",0,IF(I12=1,50,IF(I12=2,48,IF(I12=3,46,IF(I12=4,44,IF(I12=5,42,IF(AND(I12>5,I12<45),46-I12,2))))))) -> 48 | L12: =IF(SUMIF(AN$11:AN$97,$C12,AM$11:AM$97)=0," ",SUMIF(AN$11:AN$97,$C12,AM$11:AM$97)) | M12: =IF(L12=" ",0,IF(L12=1,50,IF(L12=2,48,IF(L12=3,46,IF(L12=4,44,IF(L12=5,42,IF(AND(L12>5,L12<45),46-L12,2))))))) -> 0 | O12: =IF(SUMIF(AQ$11:AQ$97,$C12,AP$11:AP$97)=0," ",SUMIF(AQ$11:AQ$97,$C12,AP$11:AP$97)) | P12: =IF(O12=" ",0,IF(O12=1,50,IF(O12=2,48,IF(O12=3,46,IF(O12=4,44,IF(O12=5,42,IF(AND(O12>5,O12<45),46-O12,2))))))) -> 0 | R12: =IF(SUMIF(AT$11:AT$97,$C12,AS$11:AS$97)=0," ",SUMIF(AT$11:AT$97,$C12,AS$11:AS$97)) | S12: =IF(R12=" ",0,IF(R12=1,50,IF(R12=2,48,IF(R12=3,46,IF(R12=4,44,IF(R12=5,42,IF(AND(R12>5,R12<45),46-R12,2))))))) -> 0 | U12: =IF(SUMIF(AW$11:AW$97,$C12,AV$11:AV$97)=0," ",SUMIF(AW$11:AW$97,$C12,AV$11:AV$97)) | V12: =IF(U12=" ",0,IF(U12=1,50,IF(U12=2,48,IF(U12=3,46,IF(U12=4,44,IF(U12=5,42,IF(AND(U12>5,U12<45),46-U12,2))))))) -> 0 | X12: =IF(SUMIF(AZ$11:AZ$97,$C12,AY$11:AY$97)=0," ",SUMIF(AZ$11:AZ$97,$C12,AY$11:AY$97)) | Y12: =IF(X12=" ",0,IF(X12=1,50,IF(X12=2,48,IF(X12=3,46,IF(X12=4,44,IF(X12=5,42,IF(AND(X12>5,X12<45),46-X12,2))))))) -> 0 | AA12: =IF(SUMIF(BC$11:BC$97,$C12,BB$11:BB$97)=0," ",SUMIF(BC$11:BC$97,$C12,BB$11:BB$97)) | AB12: =IF(AA12=" ",0,IF(AA12=1,50,IF(AA12=2,48,IF(AA12=3,46,IF(AA12=4,44,IF(AA12=5,42,IF(AND(AA12>5,AA12<45),46-AA12,2))))))) -> 0 | AD12: =IF(SUMIF(BF$11:BF$97,$C12,BE$11:BE$97)=0," ",SUMIF(BF$11:BF$97,$C12,BE$11:BE$97)) | AE12: =IF(AD12=" ",0,IF(AD12=1,50,IF(AD12=2,48,IF(AD12=3,46,IF(AD12=4,44,IF(AD12=5,42,IF(AND(AD12>5,AD12<45),46-AD12,2))))))) -> 0 | AF12: =J12+M12+P12+S12+V12+Y12+AB12+AE12 -> 48 | AG12: =A12 -> 2 | AH12: =AF12-MIN(J12,M12,P12,S12,V12,Y12,AB12,AE12) -> 48 | AJ12: 2 | AK12: 124 | AM12: 2 | AP12: 2 | AS12: 2 | AV12: 2 | AY12: 2 | BB12: 2 | BE12: 2
A13: 3 | B13: =AF13 -> 46 | C13: 113 | D13: Melece SIMIEN | E13: H | F13: Olympique cycliste Val d'Oise | H13: 1 | I13: 3 | J13: =IF(I13=" ",0,IF(I13=1,50,IF(I13=2,48,IF(I13=3,46,IF(I13=4,44,IF(I13=5,42,IF(AND(I13>5,I13<45),46-I13,2))))))) -> 46 | L13: =IF(SUMIF(AN$11:AN$97,$C13,AM$11:AM$97)=0," ",SUMIF(AN$11:AN$97,$C13,AM$11:AM$97)) | M13: =IF(L13=" ",0,IF(L13=1,50,IF(L13=2,48,IF(L13=3,46,IF(L13=4,44,IF(L13=5,42,IF(AND(L13>5,L13<45),46-L13,2))))))) -> 0 | O13: =IF(SUMIF(AQ$11:AQ$97,$C13,AP$11:AP$97)=0," ",SUMIF(AQ$11:AQ$97,$C13,AP$11:AP$97)) | P13: =IF(O13=" ",0,IF(O13=1,50,IF(O13=2,48,IF(O13=3,46,IF(O13=4,44,IF(O13=5,42,IF(AND(O13>5,O13<45),46-O13,2))))))) -> 0 | R13: =IF(SUMIF(AT$11:AT$97,$C13,AS$11:AS$97)=0," ",SUMIF(AT$11:AT$97,$C13,AS$11:AS$97)) | S13: =IF(R13=" ",0,IF(R13=1,50,IF(R13=2,48,IF(R13=3,46,IF(R13=4,44,IF(R13=5,42,IF(AND(R13>5,R13<45),46-R13,2))))))) -> 0 | U13: =IF(SUMIF(AW$11:AW$97,$C13,AV$11:AV$97)=0," ",SUMIF(AW$11:AW$97,$C13,AV$11:AV$97)) | V13: =IF(U13=" ",0,IF(U13=1,50,IF(U13=2,48,IF(U13=3,46,IF(U13=4,44,IF(U13=5,42,IF(AND(U13>5,U13<45),46-U13,2))))))) -> 0 | X13: =IF(SUMIF(AZ$11:AZ$97,$C13,AY$11:AY$97)=0," ",SUMIF(AZ$11:AZ$97,$C13,AY$11:AY$97)) | Y13: =IF(X13=" ",0,IF(X13=1,50,IF(X13=2,48,IF(X13=3,46,IF(X13=4,44,IF(X13=5,42,IF(AND(X13>5,X13<45),46-X13,2))))))) -> 0 | AA13: =IF(SUMIF(BC$11:BC$97,$C13,BB$11:BB$97)=0," ",SUMIF(BC$11:BC$97,$C13,BB$11:BB$97)) | AB13: =IF(AA13=" ",0,IF(AA13=1,50,IF(AA13=2,48,IF(AA13=3,46,IF(AA13=4,44,IF(AA13=5,42,IF(AND(AA13>5,AA13<45),46-AA13,2))))))) -> 0 | AD13: =IF(SUMIF(BF$11:BF$97,$C13,BE$11:BE$97)=0," ",SUMIF(BF$11:BF$97,$C13,BE$11:BE$97)) | AE13: =IF(AD13=" ",0,IF(AD13=1,50,IF(AD13=2,48,IF(AD13=3,46,IF(AD13=4,44,IF(AD13=5,42,IF(AND(AD13>5,AD13<45),46-AD13,2))))))) -> 0 | AF13: =J13+M13+P13+S13+V13+Y13+AB13+AE13 -> 46 | AG13: =A13 -> 3 | AH13: =AF13-MIN(J13,M13,P13,S13,V13,Y13,AB13,AE13) -> 46 | AJ13: 3 | AK13: 113 | AM13: 3 | AP13: 3 | AS13: 3 | AV13: 3 | AY13: 3 | BB13: 3 | BE13: 3
A14: 4 | B14: =AF14 -> 44 | C14: 122 | D14: Mael NEVEU | E14: H | F14: ORC Epone | H14: 1 | I14: 4 | J14: =IF(I14=" ",0,IF(I14=1,50,IF(I14=2,48,IF(I14=3,46,IF(I14=4,44,IF(I14=5,42,IF(AND(I14>5,I14<45),46-I14,2))))))) -> 44 | L14: =IF(SUMIF(AN$11:AN$97,$C14,AM$11:AM$97)=0," ",SUMIF(AN$11:AN$97,$C14,AM$11:AM$97)) | M14: =IF(L14=" ",0,IF(L14=1,50,IF(L14=2,48,IF(L14=3,46,IF(L14=4,44,IF(L14=5,42,IF(AND(L14>5,L14<45),46-L14,2))))))) -> 0 | O14: =IF(SUMIF(AQ$11:AQ$97,$C14,AP$11:AP$97)=0," ",SUMIF(AQ$11:AQ$97,$C14,AP$11:AP$97)) | P14: =IF(O14=" ",0,IF(O14=1,50,IF(O14=2,48,IF(O14=3,46,IF(O14=4,44,IF(O14=5,42,IF(AND(O14>5,O14<45),46-O14,2))))))) -> 0 | R14: =IF(SUMIF(AT$11:AT$97,$C14,AS$11:AS$97)=0," ",SUMIF(AT$11:AT$97,$C14,AS$11:AS$97)) | S14: =IF(R14=" ",0,IF(R14=1,50,IF(R14=2,48,IF(R14=3,46,IF(R14=4,44,IF(R14=5,42,IF(AND(R14>5,R14<45),46-R14,2))))))) -> 0 | U14: =IF(SUMIF(AW$11:AW$97,$C14,AV$11:AV$97)=0," ",SUMIF(AW$11:AW$97,$C14,AV$11:AV$97)) | V14: =IF(U14=" ",0,IF(U14=1,50,IF(U14=2,48,IF(U14=3,46,IF(U14=4,44,IF(U14=5,42,IF(AND(U14>5,U14<45),46-U14,2))))))) -> 0 | X14: =IF(SUMIF(AZ$11:AZ$97,$C14,AY$11:AY$97)=0," ",SUMIF(AZ$11:AZ$97,$C14,AY$11:AY$97)) | Y14: =IF(X14=" ",0,IF(X14=1,50,IF(X14=2,48,IF(X14=3,46,IF(X14=4,44,IF(X14=5,42,IF(AND(X14>5,X14<45),46-X14,2))))))) -> 0 | AA14: =IF(SUMIF(BC$11:BC$97,$C14,BB$11:BB$97)=0," ",SUMIF(BC$11:BC$97,$C14,BB$11:BB$97)) | AB14: =IF(AA14=" ",0,IF(AA14=1,50,IF(AA14=2,48,IF(AA14=3,46,IF(AA14=4,44,IF(AA14=5,42,IF(AND(AA14>5,AA14<45),46-AA14,2))))))) -> 0 | AD14: =IF(SUMIF(BF$11:BF$97,$C14,BE$11:BE$97)=0," ",SUMIF(BF$11:BF$97,$C14,BE$11:BE$97)) | AE14: =IF(AD14=" ",0,IF(AD14=1,50,IF(AD14=2,48,IF(AD14=3,46,IF(AD14=4,44,IF(AD14=5,42,IF(AND(AD14>5,AD14<45),46-AD14,2))))))) -> 0 | AF14: =J14+M14+P14+S14+V14+Y14+AB14+AE14 -> 44 | AG14: =A14 -> 4 | AH14: =AF14-MIN(J14,M14,P14,S14,V14,Y14,AB14,AE14) -> 44 | AJ14: 4 | AK14: 122 | AM14: 4 | AP14: 4 | AS14: 4 | AV14: 4 | AY14: 4 | BB14: 4 | BE14: 4
A15: 5 | B15: =AF15 -> 42 | C15: 126 | D15: Leonard LELIMOUSIN | E15: H | F15: ORC Epone | H15: 1 | I15: 5 | J15: =IF(I15=" ",0,IF(I15=1,50,IF(I15=2,48,IF(I15=3,46,IF(I15=4,44,IF(I15=5,42,IF(AND(I15>5,I15<45),46-I15,2))))))) -> 42 | L15: =IF(SUMIF(AN$11:AN$97,$C15,AM$11:AM$97)=0," ",SUMIF(AN$11:AN$97,$C15,AM$11:AM$97)) | M15: =IF(L15=" ",0,IF(L15=1,50,IF(L15=2,48,IF(L15=3,46,IF(L15=4,44,IF(L15=5,42,IF(AND(L15>5,L15<45),46-L15,2))))))) -> 0 | O15: =IF(SUMIF(AQ$11:AQ$97,$C15,AP$11:AP$97)=0," ",SUMIF(AQ$11:AQ$97,$C15,AP$11:AP$97)) | P15: =IF(O15=" ",0,IF(O15=1,50,IF(O15=2,48,IF(O15=3,46,IF(O15=4,44,IF(O15=5,42,IF(AND(O15>5,O15<45),46-O15,2))))))) -> 0 | R15: =IF(SUMIF(AT$11:AT$97,$C15,AS$11:AS$97)=0," ",SUMIF(AT$11:AT$97,$C15,AS$11:AS$97)) | S15: =IF(R15=" ",0,IF(R15=1,50,IF(R15=2,48,IF(R15=3,46,IF(R15=4,44,IF(R15=5,42,IF(AND(R15>5,R15<45),46-R15,2))))))) -> 0 | U15: =IF(SUMIF(AW$11:AW$97,$C15,AV$11:AV$97)=0," ",SUMIF(AW$11:AW$97,$C15,AV$11:AV$97)) | V15: =IF(U15=" ",0,IF(U15=1,50,IF(U15=2,48,IF(U15=3,46,IF(U15=4,44,IF(U15=5,42,IF(AND(U15>5,U15<45),46-U15,2))))))) -> 0 | X15: =IF(SUMIF(AZ$11:AZ$97,$C15,AY$11:AY$97)=0," ",SUMIF(AZ$11:AZ$97,$C15,AY$11:AY$97)) | Y15: =IF(X15=" ",0,IF(X15=1,50,IF(X15=2,48,IF(X15=3,46,IF(X15=4,44,IF(X15=5,42,IF(AND(X15>5,X15<45),46-X15,2))))))) -> 0 | AA15: =IF(SUMIF(BC$11:BC$97,$C15,BB$11:BB$97)=0," ",SUMIF(BC$11:BC$97,$C15,BB$11:BB$97)) | AB15: =IF(AA15=" ",0,IF(AA15=1,50,IF(AA15=2,48,IF(AA15=3,46,IF(AA15=4,44,IF(AA15=5,42,IF(AND(AA15>5,AA15<45),46-AA15,2))))))) -> 0 | AD15: =IF(SUMIF(BF$11:BF$97,$C15,BE$11:BE$97)=0," ",SUMIF(BF$11:BF$97,$C15,BE$11:BE$97)) | AE15: =IF(AD15=" ",0,IF(AD15=1,50,IF(AD15=2,48,IF(AD15=3,46,IF(AD15=4,44,IF(AD15=5,42,IF(AND(AD15>5,AD15<45),46-AD15,2))))))) -> 0 | AF15: =J15+M15+P15+S15+V15+Y15+AB15+AE15 -> 42 | AG15: =A15 -> 5 | AH15: =AF15-MIN(J15,M15,P15,S15,V15,Y15,AB15,AE15) -> 42 | AJ15: 5 | AK15: 126 | AM15: 5 | AP15: 5 | AS15: 5 | AV15: 5 | AY15: 5 | BB15: 5 | BE15: 5
A16: 6 | B16: =AF16 -> 40 | C16: 102 | D16: Jae AUGUSTYNOWICZ | E16: H | F16: BONNIERES VTT | H16: 1 | I16: 6 | J16: =IF(I16=" ",0,IF(I16=1,50,IF(I16=2,48,IF(I16=3,46,IF(I16=4,44,IF(I16=5,42,IF(AND(I16>5,I16<45),46-I16,2))))))) -> 40 | L16: =IF(SUMIF(AN$11:AN$97,$C16,AM$11:AM$97)=0," ",SUMIF(AN$11:AN$97,$C16,AM$11:AM$97)) | M16: =IF(L16=" ",0,IF(L16=1,50,IF(L16=2,48,IF(L16=3,46,IF(L16=4,44,IF(L16=5,42,IF(AND(L16>5,L16<45),46-L16,2))))))) -> 0 | O16: =IF(SUMIF(AQ$11:AQ$97,$C16,AP$11:AP$97)=0," ",SUMIF(AQ$11:AQ$97,$C16,AP$11:AP$97)) | P16: =IF(O16=" ",0,IF(O16=1,50,IF(O16=2,48,IF(O16=3,46,IF(O16=4,44,IF(O16=5,42,IF(AND(O16>5,O16<45),46-O16,2))))))) -> 0 | R16: =IF(SUMIF(AT$11:AT$97,$C16,AS$11:AS$97)=0," ",SUMIF(AT$11:AT$97,$C16,AS$11:AS$97)) | S16: =IF(R16=" ",0,IF(R16=1,50,IF(R16=2,48,IF(R16=3,46,IF(R16=4,44,IF(R16=5,42,IF(AND(R16>5,R16<45),46-R16,2))))))) -> 0 | U16: =IF(SUMIF(AW$11:AW$97,$C16,AV$11:AV$97)=0," ",SUMIF(AW$11:AW$97,$C16,AV$11:AV$97)) | V16: =IF(U16=" ",0,IF(U16=1,50,IF(U16=2,48,IF(U16=3,46,IF(U16=4,44,IF(U16=5,42,IF(AND(U16>5,U16<45),46-U16,2))))))) -> 0 | X16: =IF(SUMIF(AZ$11:AZ$97,$C16,AY$11:AY$97)=0," ",SUMIF(AZ$11:AZ$97,$C16,AY$11:AY$97)) | Y16: =IF(X16=" ",0,IF(X16=1,50,IF(X16=2,48,IF(X16=3,46,IF(X16=4,44,IF(X16=5,42,IF(AND(X16>5,X16<45),46-X16,2))))))) -> 0 | AA16: =IF(SUMIF(BC$11:BC$97,$C16,BB$11:BB$97)=0," ",SUMIF(BC$11:BC$97,$C16,BB$11:BB$97)) | AB16: =IF(AA16=" ",0,IF(AA16=1,50,IF(AA16=2,48,IF(AA16=3,46,IF(AA16=4,44,IF(AA16=5,42,IF(AND(AA16>5,AA16<45),46-AA16,2))))))) -> 0 | AD16: =IF(SUMIF(BF$11:BF$97,$C16,BE$11:BE$97)=0," ",SUMIF(BF$11:BF$97,$C16,BE$11:BE$97)) | AE16: =IF(AD16=" ",0,IF(AD16=1,50,IF(AD16=2,48,IF(AD16=3,46,IF(AD16=4,44,IF(AD16=5,42,IF(AND(AD16>5,AD16<45),46-AD16,2))))))) -> 0 | AF16: =J16+M16+P16+S16+V16+Y16+AB16+AE16 -> 40 | AG16: =A16 -> 6 | AH16: =AF16-MIN(J16,M16,P16,S16,V16,Y16,AB16,AE16) -> 40 | AJ16: 6 | AK16: 102 | AM16: 6 | AP16: 6 | AS16: 6 | AV16: 6 | AY16: 6 | BB16: 6 | BE16: 6
A17: 7 | B17: =AF17 -> 39 | C17: 119 | D17: Tom TREHOUT | E17: H | F17: Orc Epone | H17: 1 | I17: 7 | J17: =IF(I17=" ",0,IF(I17=1,50,IF(I17=2,48,IF(I17=3,46,IF(I17=4,44,IF(I17=5,42,IF(AND(I17>5,I17<45),46-I17,2))))))) -> 39 | L17: =IF(SUMIF(AN$11:AN$97,$C17,AM$11:AM$97)=0," ",SUMIF(AN$11:AN$97,$C17,AM$11:AM$97)) | M17: =IF(L17=" ",0,IF(L17=1,50,IF(L17=2,48,IF(L17=3,46,IF(L17=4,44,IF(L17=5,42,IF(AND(L17>5,L17<45),46-L17,2))))))) -> 0 | O17: =IF(SUMIF(AQ$11:AQ$97,$C17,AP$11:AP$97)=0," ",SUMIF(AQ$11:AQ$97,$C17,AP$11:AP$97)) | P17: =IF(O17=" ",0,IF(O17=1,50,IF(O17=2,48,IF(O17=3,46,IF(O17=4,44,IF(O17=5,42,IF(AND(O17>5,O17<45),46-O17,2))))))) -> 0 | R17: =IF(SUMIF(AT$11:AT$97,$C17,AS$11:AS$97)=0," ",SUMIF(AT$11:AT$97,$C17,AS$11:AS$97)) | S17: =IF(R17=" ",0,IF(R17=1,50,IF(R17=2,48,IF(R17=3,46,IF(R17=4,44,IF(R17=5,42,IF(AND(R17>5,R17<45),46-R17,2))))))) -> 0 | U17: =IF(SUMIF(AW$11:AW$97,$C17,AV$11:AV$97)=0," ",SUMIF(AW$11:AW$97,$C17,AV$11:AV$97)) | V17: =IF(U17=" ",0,IF(U17=1,50,IF(U17=2,48,IF(U17=3,46,IF(U17=4,44,IF(U17=5,42,IF(AND(U17>5,U17<45),46-U17,2))))))) -> 0 | X17: =IF(SUMIF(AZ$11:AZ$97,$C17,AY$11:AY$97)=0," ",SUMIF(AZ$11:AZ$97,$C17,AY$11:AY$97)) | Y17: =IF(X17=" ",0,IF(X17=1,50,IF(X17=2,48,IF(X17=3,46,IF(X17=4,44,IF(X17=5,42,IF(AND(X17>5,X17<45),46-X17,2))))))) -> 0 | AA17: =IF(SUMIF(BC$11:BC$97,$C17,BB$11:BB$97)=0," ",SUMIF(BC$11:BC$97,$C17,BB$11:BB$97)) | AB17: =IF(AA17=" ",0,IF(AA17=1,50,IF(AA17=2,48,IF(AA17=3,46,IF(AA17=4,44,IF(AA17=5,42,IF(AND(AA17>5,AA17<45),46-AA17,2))))))) -> 0 | AD17: =IF(SUMIF(BF$11:BF$97,$C17,BE$11:BE$97)=0," ",SUMIF(BF$11:BF$97,$C17,BE$11:BE$97)) | AE17: =IF(AD17=" ",0,IF(AD17=1,50,IF(AD17=2,48,IF(AD17=3,46,IF(AD17=4,44,IF(AD17=5,42,IF(AND(AD17>5,AD17<45),46-AD17,2))))))) -> 0 | AF17: =J17+M17+P17+S17+V17+Y17+AB17+AE17 -> 39 | AG17: =A17 -> 7 | AH17: =AF17-MIN(J17,M17,P17,S17,V17,Y17,AB17,AE17) -> 39 | AJ17: 7 | AK17: 119 | AM17: 7 | AP17: 7 | AS17: 7 | AV17: 7 | AY17: 7 | BB17: 7 | BE17: 7
A18: 8 | B18: =AF18 -> 38 | C18: 128 | D18: Jules DUMAY | E18: H | F18: ORC Epone | H18: 1 | I18: 8 | J18: =IF(I18=" ",0,IF(I18=1,50,IF(I18=2,48,IF(I18=3,46,IF(I18=4,44,IF(I18=5,42,IF(AND(I18>5,I18<45),46-I18,2))))))) -> 38 | L18: =IF(SUMIF(AN$11:AN$97,$C18,AM$11:AM$97)=0," ",SUMIF(AN$11:AN$97,$C18,AM$11:AM$97)) | M18: =IF(L18=" ",0,IF(L18=1,50,IF(L18=2,48,IF(L18=3,46,IF(L18=4,44,IF(L18=5,42,IF(AND(L18>5,L18<45),46-L18,2))))))) -> 0 | O18: =IF(SUMIF(AQ$11:AQ$97,$C18,AP$11:AP$97)=0," ",SUMIF(AQ$11:AQ$97,$C18,AP$11:AP$97)) | P18: =IF(O18=" ",0,IF(O18=1,50,IF(O18=2,48,IF(O18=3,46,IF(O18=4,44,IF(O18=5,42,IF(AND(O18>5,O18<45),46-O18,2))))))) -> 0 | R18: =IF(SUMIF(AT$11:AT$97,$C18,AS$11:AS$97)=0," ",SUMIF(AT$11:AT$97,$C18,AS$11:AS$97)) | S18: =IF(R18=" ",0,IF(R18=1,50,IF(R18=2,48,IF(R18=3,46,IF(R18=4,44,IF(R18=5,42,IF(AND(R18>5,R18<45),46-R18,2))))))) -> 0 | U18: =IF(SUMIF(AW$11:AW$97,$C18,AV$11:AV$97)=0," ",SUMIF(AW$11:AW$97,$C18,AV$11:AV$97)) | V18: =IF(U18=" ",0,IF(U18=1,50,IF(U18=2,48,IF(U18=3,46,IF(U18=4,44,IF(U18=5,42,IF(AND(U18>5,U18<45),46-U18,2))))))) -> 0 | X18: =IF(SUMIF(AZ$11:AZ$97,$C18,AY$11:AY$97)=0," ",SUMIF(AZ$11:AZ$97,$C18,AY$11:AY$97)) | Y18: =IF(X18=" ",0,IF(X18=1,50,IF(X18=2,48,IF(X18=3,46,IF(X18=4,44,IF(X18=5,42,IF(AND(X18>5,X18<45),46-X18,2))))))) -> 0 | AA18: =IF(SUMIF(BC$11:BC$97,$C18,BB$11:BB$97)=0," ",SUMIF(BC$11:BC$97,$C18,BB$11:BB$97)) | AB18: =IF(AA18=" ",0,IF(AA18=1,50,IF(AA18=2,48,IF(AA18=3,46,IF(AA18=4,44,IF(AA18=5,42,IF(AND(AA18>5,AA18<45),46-AA18,2))))))) -> 0 | AD18: =IF(SUMIF(BF$11:BF$97,$C18,BE$11:BE$97)=0," ",SUMIF(BF$11:BF$97,$C18,BE$11:BE$97)) | AE18: =IF(AD18=" ",0,IF(AD18=1,50,IF(AD18=2,48,IF(AD18=3,46,IF(AD18=4,44,IF(AD18=5,42,IF(AND(AD18>5,AD18<45),46-AD18,2))))))) -> 0 | AF18: =J18+M18+P18+S18+V18+Y18+AB18+AE18 -> 38 | AG18: =A18 -> 8 | AH18: =AF18-MIN(J18,M18,P18,S18,V18,Y18,AB18,AE18) -> 38 | AJ18: 8 | AK18: 128 | AM18: 8 | AP18: 8 | AS18: 8 | AV18: 8 | AY18: 8 | BB18: 8 | BE18: 8
