Workbook
Name Méry: #REF!
Name POINT1: #REF!

Sheet série A
C1: VAL D'OISE TROPHY UFOLEP JEUNES 2026
AF2: =IF(F7=1,SUM(H11:H90),IF(F7=2,SUM(K11:K90),IF(F7=3,SUM(N11:N90),IF(F7=4,SUM(Q11:Q90),IF(F7=5,SUM(T11:T90),IF(F7=6,SUM(W11:W90),IF(F7=7,SUM(Z11:Z90)))))))) -> 5 | AI2: Achères | AJ2: CLASSEMENTS DE CHAQUE MANCHE
AF3: =IF(F7=1,SUM(#REF!),IF(F7=2,SUM(#REF!),IF(F7=3,SUM(#REF!),IF(F7=4,SUM(#REF!),IF(F7=5,SUM(#REF!),IF(F7=6,SUM(#REF!),IF(F7=7,SUM(#REF!)))))))) -> #REF! | AI3: Osny
D4: garçons et filles | F4: 2020 | AI4: Cergy
D5: dossards de 1 à 99 | AI5: Méry
F6: manque 1 | AI6: Bonnières
D7: Manche | E7: N° | F7: 1 | H7: Manche N°1 | K7: Manche N°2 | N7: Manche N°3 | Q7: Manche N°4 | T7: Manche N°5 | W7: Manche N°6 | Z7: Manche N°7 | AC7: Manche N°8 | AI7: Survilliers
C8: =IF(F7<8,AF2,IF(F7=8,SUM(AC11:AC90))) -> 5 | D8: Inscrits | H8: Achères | K8: Osny | N8: Cergy | Q8: Méry | T8: Bonnières | W8: Survilliers | Z8: Marines | AC8: Marly la ville | AI8: Marines
H9: 46053 | K9: 46067 | N9: 46095 | Q9: 46102 | T9: 46109 | W9: 46165 | Z9: 46179 | AC9: 46186 | AI9: Marly la ville
A10: classement | B10: total points | C10: doss | D10: noms+prénoms | E10: Sexe | F10: club | G10: fédé | H10: inscription n° 1 | I10: place épreuve n° 1 | J10: points épreuve n° 1 | K10: inscription n° 2 | L10: place épreuve n° 2 | M10: points épreuve n° 2 | N10: inscription n° 3 | O10: place épreuve n° 3 | P10: points épreuve n° 3 | Q10: inscription n° 4 | R10: place épreuve n° 4 | S10: points épreuve n° 4 | T10: inscription n° 5 | U10: place épreuve n° 5 | V10: points épreuve n° 5 | W10: inscription n° 6 | X10: place épreuve n° 6 | Y10: points épreuve n° 6 | Z10: inscription n° 7 | AA10: place épreuve n° 7 | AB10: points épreuve n° 7 | AC10: inscription n° 8 | AD10: place épreuve n° 8 | AE10: points épreuve n° 8 | AF10: total points | AG10: classement | AH10: total points modulé | AJ10: place épreuve n° 1 | AK10: dossards épreuve n° 1 | AM10: place épreuve n° 2 | AN10: dossards épreuve n° 2 | AP10: place épreuve n° 3 | AQ10: dossards épreuve n° 3 | AS10: place épreuve n° 4 | AT10: dossards épreuve n° 4 | AV10: place épreuve n° 5 | AW10: dossards épreuve n° 5 | AY10: place épreuve n° 6 | AZ10: dossards épreuve n° 6 | BB10: place épreuve n° 7 | BC10: dossards épreuve n° 7 | BE10: place épreuve n° 8 | BF10: dossards épreuve n° 8
A11: 1 | B11: =AF11 -> 50 | C11: 6 | D11: Jules LE BEUVANT | E11: H | F11: ORC epone | H11: 1 | I11: 1 | J11: =IF(I11=" ",0,IF(I11=1,50,IF(I11=2,48,IF(I11=3,46,IF(I11=4,44,IF(I11=5,42,IF(AND(I11>5,I11<45),46-I11,2))))))) -> 50 | L11: =IF(SUMIF(AN$11:AN$97,$C11,AM$11:AM$97)=0," ",SUMIF(AN$11:AN$97,$C11,AM$11:AM$97)) | M11: =IF(L11=" ",0,IF(L11=1,50,IF(L11=2,48,IF(L11=3,46,IF(L11=4,44,IF(L11=5,42,IF(AND(L11>5,L11<45),46-L11,2))))))) -> 0 | O11: =IF(SUMIF(AQ$11:AQ$97,$C11,AP$11:AP$97)=0," ",SUMIF(AQ$11:AQ$97,$C11,AP$11:AP$97)) | P11: =IF(O11=" ",0,IF(O11=1,50,IF(O11=2,48,IF(O11=3,46,IF(O11=4,44,IF(O11=5,42,IF(AND(O11>5,O11<45),46-O11,2))))))) -> 0 | R11: =IF(SUMIF(AT$11:AT$97,$C11,AS$11:AS$97)=0," ",SUMIF(AT$11:AT$97,$C11,AS$11:AS$97)) | S11: =IF(R11=" ",0,IF(R11=1,50,IF(R11=2,48,IF(R11=3,46,IF(R11=4,44,IF(R11=5,42,IF(AND(R11>5,R11<45),46-R11,2))))))) -> 0 | U11: =IF(SUMIF(AW$11:AW$97,$C11,AV$11:AV$97)=0," ",SUMIF(AW$11:AW$97,$C11,AV$11:AV$97)) | V11: =IF(U11=" ",0,IF(U11=1,50,IF(U11=2,48,IF(U11=3,46,IF(U11=4,44,IF(U11=5,42,IF(AND(U11>5,U11<45),46-U11,2))))))) -> 0 | X11: =IF(SUMIF(AZ$11:AZ$97,$C11,AY$11:AY$97)=0," ",SUMIF(AZ$11:AZ$97,$C11,AY$11:AY$97)) | Y11: =IF(X11=" ",0,IF(X11=1,50,IF(X11=2,48,IF(X11=3,46,IF(X11=4,44,IF(X11=5,42,IF(AND(X11>5,X11<45),46-X11,2))))))) -> 0 | AA11: =IF(SUMIF(BC$11:BC$97,$C11,BB$11:BB$97)=0," ",SUMIF(BC$11:BC$97,$C11,BB$11:BB$97)) | AB11: =IF(AA11=" ",0,IF(AA11=1,50,IF(AA11=2,48,IF(AA11=3,46,IF(AA11=4,44,IF(AA11=5,42,IF(AND(AA11>5,AA11<45),46-AA11,2))))))) -> 0 | AD11: =IF(SUMIF(BF$11:BF$97,$C11,BE$11:BE$97)=0," ",SUMIF(BF$11:BF$97,$C11,BE$11:BE$97)) | AE11: =IF(AD11=" ",0,IF(AD11=1,50,IF(AD11=2,48,IF(AD11=3,46,IF(AD11=4,44,IF(AD11=5,42,IF(AND(AD11>5,AD11<45),46-AD11,2))))))) -> 0 | AF11: =J11+M11+P11+S11+V11+Y11+AB11+AE11 -> 50 | AG11: =A11 -> 1 | AH11: =AF11-MIN(J11,M11,P11,S11,V11,Y11,AB11,AE11) -> 50 | AJ11: 1 | AK11: 6 | AM11: 1 | AP11: 1 | AS11: 1 | AV11: 1 | AY11: 1 | BB11: 1 | BE11: 1
A12: 2 | B12: =AF12 -> 48 | C12: 2 | D12: Jonathan BUTLER | E12: H | F12: OGVTT | H12: 1 | I12: 2 | J12: =IF(I12=" ",0,IF(I12=1,50,IF(I12=2,48,IF(I12=3,46,IF(I12=4,44,IF(I12=5,42,IF(AND(I12>5,I12<45),46-I12,2))))))) -> 48 | L12: =IF(SUMIF(AN$11:AN$97,$C12,AM$11:AM$97)=0," ",SUMIF(AN$11:AN$97,$C12,AM$11:AM$97)) | M12: =IF(L12=" ",0,IF(L12=1,50,IF(L12=2,48,IF(L12=3,46,IF(L12=4,44,IF(L12=5,42,IF(AND(L12>5,L12<45),46-L12,2))))))) -> 0 | O12: =IF(SUMIF(AQ$11:AQ$97,$C12,AP$11:AP$97)=0," ",SUMIF(AQ$11:AQ$97,$C12,AP$11:AP$97)) | P12: =IF(O12=" ",0,IF(O12=1,50,IF(O12=2,48,IF(O12=3,46,IF(O12=4,44,IF(O12=5,42,IF(AND(O12>5,O12<45),46-O12,2))))))) -> 0 | R12: =IF(SUMIF(AT$11:AT$97,$C12,AS$11:AS$97)=0," ",SUMIF(AT$11:AT$97,$C12,AS$11:AS$97)) | S12: =IF(R12=" ",0,IF(R12=1,50,IF(R12=2,48,IF(R12=3,46,IF(R12=4,44,IF(R12=5,42,IF(AND(R12>5,R12<45),46-R12,2))))))) -> 0 | U12: =IF(SUMIF(AW$11:AW$97,$C12,AV$11:AV$97)=0," ",SUMIF(AW$11:AW$97,$C12,AV$11:AV$97)) | V12: =IF(U12=" ",0,IF(U12=1,50,IF(U12=2,48,IF(U12=3,46,IF(U12=4,44,IF(U12=5,42,IF(AND(U12>5,U12<45),46-U12,2))))))) -> 0 | X12: =IF(SUMIF(AZ$11:AZ$97,$C12,AY$11:AY$97)=0," ",SUMIF(AZ$11:AZ$97,$C12,AY$11:AY$97)) | Y12: =IF(X12=" ",0,IF(X12=1,50,IF(X12=2,48,IF(X12=3,46,IF(X12=4,44,IF(X12=5,42,IF(AND(X12>5,X12<45),46-X12,2))))))) -> 0 | AA12: =IF(SUMIF(BC$11:BC$97,$C12,BB$11:BB$97)=0," ",SUMIF(BC$11:BC$97,$C12,BB$11:BB$97)) | AB12: =IF(AA12=" ",0,IF(AA12=1,50,IF(AA12=2,48,IF(AA12=3,46,IF(AA12=4,44,IF(AA12=5,42,IF(AND(AA12>5,AA12<45),46-AA12,2))))))) -> 0 | AD12: =IF(SUMIF(BF$11:BF$97,$C12,BE$11:BE$97)=0," ",SUMIF(BF$11:BF$97,$C12,BE$11:BE$97)) | AE12: =IF(AD12=" ",0,IF(AD12=1,50,IF(AD12=2,48,IF(AD12=3,46,IF(AD12=4,44,IF(AD12=5,42,IF(AND(AD12>5,AD12<45),46-AD12,2))))))) -> 0 | AF12: =J12+M12+P12+S12+V12+Y12+AB12+AE12 -> 48 | AG12: =A12 -> 2 | AH12: =AF12-MIN(J12,M12,P12,S12,V12,Y12,AB12,AE12) -> 48 | AJ12: 2 | AK12: 2 | AM12: 2 | AP12: 2 | AS12: 2 | AV12: 2 | AY12: 2 | BB12: 2 | BE12: 2
A13: 3 | B13: =AF13 -> 46 | C13: 3 | D13: Maxence DELAHAYE | E13: H | F13: Les Sangliers du Vexin | H13: 1 | I13: 3 | J13: =IF(I13=" ",0,IF(I13=1,50,IF(I13=2,48,IF(I13=3,46,IF(I13=4,44,IF(I13=5,42,IF(AND(I13>5,I13<45),46-I13,2))))))) -> 46 | L13: =IF(SUMIF(AN$11:AN$97,$C13,AM$11:AM$97)=0," ",SUMIF(AN$11:AN$97,$C13,AM$11:AM$97)) | M13: =IF(L13=" ",0,IF(L13=1,50,IF(L13=2,48,IF(L13=3,46,IF(L13=4,44,IF(L13=5,42,IF(AND(L13>5,L13<45),46-L13,2))))))) -> 0 | O13: =IF(SUMIF(AQ$11:AQ$97,$C13,AP$11:AP$97)=0," ",SUMIF(AQ$11:AQ$97,$C13,AP$11:AP$97)) | P13: =IF(O13=" ",0,IF(O13=1,50,IF(O13=2,48,IF(O13=3,46,IF(O13=4,44,IF(O13=5,42,IF(AND(O13>5,O13<45),46-O13,2))))))) -> 0 | R13: =IF(SUMIF(AT$11:AT$97,$C13,AS$11:AS$97)=0," ",SUMIF(AT$11:AT$97,$C13,AS$11:AS$97)) | S13: =IF(R13=" ",0,IF(R13=1,50,IF(R13=2,48,IF(R13=3,46,IF(R13=4,44,IF(R13=5,42,IF(AND(R13>5,R13<45),46-R13,2))))))) -> 0 | U13: =IF(SUMIF(AW$11:AW$97,$C13,AV$11:AV$97)=0," ",SUMIF(AW$11:AW$97,$C13,AV$11:AV$97)) | V13: =IF(U13=" ",0,IF(U13=1,50,IF(U13=2,48,IF(U13=3,46,IF(U13=4,44,IF(U13=5,42,IF(AND(U13>5,U13<45),46-U13,2))))))) -> 0 | X13: =IF(SUMIF(AZ$11:AZ$97,$C13,AY$11:AY$97)=0," ",SUMIF(AZ$11:AZ$97,$C13,AY$11:AY$97)) | Y13: =IF(X13=" ",0,IF(X13=1,50,IF(X13=2,48,IF(X13=3,46,IF(X13=4,44,IF(X13=5,42,IF(AND(X13>5,X13<45),46-X13,2))))))) -> 0 | AA13: =IF(SUMIF(BC$11:BC$97,$C13,BB$11:BB$97)=0," ",SUMIF(BC$11:BC$97,$C13,BB$11:BB$97)) | AB13: =IF(AA13=" ",0,IF(AA13=1,50,IF(AA13=2,48,IF(AA13=3,46,IF(AA13=4,44,IF(AA13=5,42,IF(AND(AA13>5,AA13<45),46-AA13,2))))))) -> 0 | AD13: =IF(SUMIF(BF$11:BF$97,$C13,BE$11:BE$97)=0," ",SUMIF(BF$11:BF$97,$C13,BE$11:BE$97)) | AE13: =IF(AD13=" ",0,IF(AD13=1,50,IF(AD13=2,48,IF(AD13=3,46,IF(AD13=4,44,IF(AD13=5,42,IF(AND(AD13>5,AD13<45),46-AD13,2))))))) -> 0 | AF13: =J13+M13+P13+S13+V13+Y13+AB13+AE13 -> 46 | AG13: =A13 -> 3 | AH13: =AF13-MIN(J13,M13,P13,S13,V13,Y13,AB13,AE13) -> 46 | AJ13: 3 | AK13: 3 | AM13: 3 | AP13: 3 | AS13: 3 | AV13: 3 | AY13: 3 | BB13: 3 | BE13: 3
A14: 4 | B14: =AF14 -> 44 | C14: 4 | D14: Timothee CANCHON | E14: H | F14: ASELB 95 | H14: 1 | I14: 4 | J14: =IF(I14=" ",0,IF(I14=1,50,IF(I14=2,48,IF(I14=3,46,IF(I14=4,44,IF(I14=5,42,IF(AND(I14>5,I14<45),46-I14,2))))))) -> 44 | L14: =IF(SUMIF(AN$11:AN$97,$C14,AM$11:AM$97)=0," ",SUMIF(AN$11:AN$97,$C14,AM$11:AM$97)) | M14: =IF(L14=" ",0,IF(L14=1,50,IF(L14=2,48,IF(L14=3,46,IF(L14=4,44,IF(L14=5,42,IF(AND(L14>5,L14<45),46-L14,2))))))) -> 0 | O14: =IF(SUMIF(AQ$11:AQ$97,$C14,AP$11:AP$97)=0," ",SUMIF(AQ$11:AQ$97,$C14,AP$11:AP$97)) | P14: =IF(O14=" ",0,IF(O14=1,50,IF(O14=2,48,IF(O14=3,46,IF(O14=4,44,IF(O14=5,42,IF(AND(O14>5,O14<45),46-O14,2))))))) -> 0 | R14: =IF(SUMIF(AT$11:AT$97,$C14,AS$11:AS$97)=0," ",SUMIF(AT$11:AT$97,$C14,AS$11:AS$97)) | S14: =IF(R14=" ",0,IF(R14=1,50,IF(R14=2,48,IF(R14=3,46,IF(R14=4,44,IF(R14=5,42,IF(AND(R14>5,R14<45),46-R14,2))))))) -> 0 | U14: =IF(SUMIF(AW$11:AW$97,$C14,AV$11:AV$97)=0," ",SUMIF(AW$11:AW$97,$C14,AV$11:AV$97)) | V14: =IF(U14=" ",0,IF(U14=1,50,IF(U14=2,48,IF(U14=3,46,IF(U14=4,44,IF(U14=5,42,IF(AND(U14>5,U14<45),46-U14,2))))))) -> 0 | X14: =IF(SUMIF(AZ$11:AZ$97,$C14,AY$11:AY$97)=0," ",SUMIF(AZ$11:AZ$97,$C14,AY$11:AY$97)) | Y14: =IF(X14=" ",0,IF(X14=1,50,IF(X14=2,48,IF(X14=3,46,IF(X14=4,44,IF(X14=5,42,IF(AND(X14>5,X14<45),46-X14,2))))))) -> 0 | AA14: =IF(SUMIF(BC$11:BC$97,$C14,BB$11:BB$97)=0," ",SUMIF(BC$11:BC$97,$C14,BB$11:BB$97)) | AB14: =IF(AA14=" ",0,IF(AA14=1,50,IF(AA14=2,48,IF(AA14=3,46,IF(AA14=4,44,IF(AA14=5,42,IF(AND(AA14>5,AA14<45),46-AA14,2))))))) -> 0 | AD14: =IF(SUMIF(BF$11:BF$97,$C14,BE$11:BE$97)=0," ",SUMIF(BF$11:BF$97,$C14,BE$11:BE$97)) | AE14: =IF(AD14=" ",0,IF(AD14=1,50,IF(AD14=2,48,IF(AD14=3,46,IF(AD14=4,44,IF(AD14=5,42,IF(AND(AD14>5,AD14<45),46-AD14,2))))))) -> 0 | AF14: =J14+M14+P14+S14+V14+Y14+AB14+AE14 -> 44 | AG14: =A14 -> 4 | AH14: =AF14-MIN(J14,M14,P14,S14,V14,Y14,AB14,AE14) -> 44 | AJ14: 4 | AK14: 4 | AM14: 4 | AP14: 4 | AS14: 4 | AV14: 4 | AY14: 4 | BB14: 4 | BE14: 4
A15: 5 | B15: =AF15 -> 42 | C15: 5 | D15: Arthur HIDALGO | E15: H | F15: NL | H15: 1 | I15: 5 | J15: =IF(I15=" ",0,IF(I15=1,50,IF(I15=2,48,IF(I15=3,46,IF(I15=4,44,IF(I15=5,42,IF(AND(I15>5,I15<45),46-I15,2))))))) -> 42 | L15: =IF(SUMIF(AN$11:AN$97,$C15,AM$11:AM$97)=0," ",SUMIF(AN$11:AN$97,$C15,AM$11:AM$97)) | M15: =IF(L15=" ",0,IF(L15=1,50,IF(L15=2,48,IF(L15=3,46,IF(L15=4,44,IF(L15=5,42,IF(AND(L15>5,L15<45),46-L15,2))))))) -> 0 | O15: =IF(SUMIF(AQ$11:AQ$97,$C15,AP$11:AP$97)=0," ",SUMIF(AQ$11:AQ$97,$C15,AP$11:AP$97)) | P15: =IF(O15=" ",0,IF(O15=1,50,IF(O15=2,48,IF(O15=3,46,IF(O15=4,44,IF(O15=5,42,IF(AND(O15>5,O15<45),46-O15,2))))))) -> 0 | R15: =IF(SUMIF(AT$11:AT$97,$C15,AS$11:AS$97)=0," ",SUMIF(AT$11:AT$97,$C15,AS$11:AS$97)) | S15: =IF(R15=" ",0,IF(R15=1,50,IF(R15=2,48,IF(R15=3,46,IF(R15=4,44,IF(R15=5,42,IF(AND(R15>5,R15<45),46-R15,2))))))) -> 0 | U15: =IF(SUMIF(AW$11:AW$97,$C15,AV$11:AV$97)=0," ",SUMIF(AW$11:AW$97,$C15,AV$11:AV$97)) | V15: =IF(U15=" ",0,IF(U15=1,50,IF(U15=2,48,IF(U15=3,46,IF(U15=4,44,IF(U15=5,42,IF(AND(U15>5,U15<45),46-U15,2))))))) -> 0 | X15: =IF(SUMIF(AZ$11:AZ$97,$C15,AY$11:AY$97)=0," ",SUMIF(AZ$11:AZ$97,$C15,AY$11:AY$97)) | Y15: =IF(X15=" ",0,IF(X15=1,50,IF(X15=2,48,IF(X15=3,46,IF(X15=4,44,IF(X15=5,42,IF(AND(X15>5,X15<45),46-X15,2))))))) -> 0 | AA15: =IF(SUMIF(BC$11:BC$97,$C15,BB$11:BB$97)=0," ",SUMIF(BC$11:BC$97,$C15,BB$11:BB$97)) | AB15: =IF(AA15=" ",0,IF(AA15=1,50,IF(AA15=2,48,IF(AA15=3,46,IF(AA15=4,44,IF(AA15=5,42,IF(AND(AA15>5,AA15<45),46-AA15,2))))))) -> 0 | AD15: =IF(SUMIF(BF$11:BF$97,$C15,BE$11:BE$97)=0," ",SUMIF(BF$11:BF$97,$C15,BE$11:BE$97)) | AE15: =IF(AD15=" ",0,IF(AD15=1,50,IF(AD15=2,48,IF(AD15=3,46,IF(AD15=4,44,IF(AD15=5,42,IF(AND(AD15>5,AD15<45),46-AD15,2))))))) -> 0 | AF15: =J15+M15+P15+S15+V15+Y15+AB15+AE15 -> 42 | AG15: =A15 -> 5 | AH15: =AF15-MIN(J15,M15,P15,S15,V15,Y15,AB15,AE15) -> 42 | AJ15: 5 | AK15: 5 | AM15: 5 | AP15: 5 | AS15: 5 | AV15: 5 | AY15: 5 | BB15: 5 | BE15: 5
A16: 6 | B16: =AF16 -> 0 | J16: =IF(I16=" ",0,IF(I16=1,50,IF(I16=2,48,IF(I16=3,46,IF(I16=4,44,IF(I16=5,42,IF(AND(I16>5,I16<45),46-I16,2))))))) -> 0 | L16: =IF(SUMIF(AN$11:AN$97,$C16,AM$11:AM$97)=0," ",SUMIF(AN$11:AN$97,$C16,AM$11:AM$97)) | M16: =IF(L16=" ",0,IF(L16=1,50,IF(L16=2,48,IF(L16=3,46,IF(L16=4,44,IF(L16=5,42,IF(AND(L16>5,L16<45),46-L16,2))))))) -> 0 | O16: =IF(SUMIF(AQ$11:AQ$97,$C16,AP$11:AP$97)=0," ",SUMIF(AQ$11:AQ$97,$C16,AP$11:AP$97)) | P16: =IF(O16=" ",0,IF(O16=1,50,IF(O16=2,48,IF(O16=3,46,IF(O16=4,44,IF(O16=5,42,IF(AND(O16>5,O16<45),46-O16,2))))))) -> 0 | R16: =IF(SUMIF(AT$11:AT$97,$C16,AS$11:AS$97)=0," ",SUMIF(AT$11:AT$97,$C16,AS$11:AS$97)) | S16: =IF(R16=" ",0,IF(R16=1,50,IF(R16=2,48,IF(R16=3,46,IF(R16=4,44,IF(R16=5,42,IF(AND(R16>5,R16<45),46-R16,2))))))) -> 0 | U16: =IF(SUMIF(AW$11:AW$97,$C16,AV$11:AV$97)=0," ",SUMIF(AW$11:AW$97,$C16,AV$11:AV$97)) | V16: =IF(U16=" ",0,IF(U16=1,50,IF(U16=2,48,IF(U16=3,46,IF(U16=4,44,IF(U16=5,42,IF(AND(U16>5,U16<45),46-U16,2))))))) -> 0 | X16: =IF(SUMIF(AZ$11:AZ$97,$C16,AY$11:AY$97)=0," ",SUMIF(AZ$11:AZ$97,$C16,AY$11:AY$97)) | Y16: =IF(X16=" ",0,IF(X16=1,50,IF(X16=2,48,IF(X16=3,46,IF(X16=4,44,IF(X16=5,42,IF(AND(X16>5,X16<45),46-X16,2))))))) -> 0 | AA16: =IF(SUMIF(BC$11:BC$97,$C16,BB$11:BB$97)=0," ",SUMIF(BC$11:BC$97,$C16,BB$11:BB$97)) | AB16: =IF(AA16=" ",0,IF(AA16=1,50,IF(AA16=2,48,IF(AA16=3,46,IF(AA16=4,44,IF(AA16=5,42,IF(AND(AA16>5,AA16<45),46-AA16,2))))))) -> 0 | AD16: =IF(SUMIF(BF$11:BF$97,$C16,BE$11:BE$97)=0," ",SUMIF(BF$11:BF$97,$C16,BE$11:BE$97)) | AE16: =IF(AD16=" ",0,IF(AD16=1,50,IF(AD16=2,48,IF(AD16=3,46,IF(AD16=4,44,IF(AD16=5,42,IF(AND(AD16>5,AD16<45),46-AD16,2))))))) -> 0 | AF16: =J16+M16+P16+S16+V16+Y16+AB16+AE16 -> 0 | AG16: =A16 -> 6 | AH16: =AF16-MIN(J16,M16,P16,S16,V16,Y16,AB16,AE16) -> 0 | AJ16: 6 | AM16: 6 | AP16: 6 | AS16: 6 | AV16: 6 | AY16: 6 | BB16: 6 | BE16: 6
A17: 7 | B17: =AF17 -> 0 | I17: =IF(SUMIF(AK$11:AK$97,$C17,AJ$11:AJ$97)=0," ",SUMIF(AK$11:AK$97,$C17,AJ$11:AJ$97)) | J17: =IF(I17=" ",0,IF(I17=1,50,IF(I17=2,48,IF(I17=3,46,IF(I17=4,44,IF(I17=5,42,IF(AND(I17>5,I17<45),46-I17,2))))))) -> 0 | L17: =IF(SUMIF(AN$11:AN$97,$C17,AM$11:AM$97)=0," ",SUMIF(AN$11:AN$97,$C17,AM$11:AM$97)) | M17: =IF(L17=" ",0,IF(L17=1,50,IF(L17=2,48,IF(L17=3,46,IF(L17=4,44,IF(L17=5,42,IF(AND(L17>5,L17<45),46-L17,2))))))) -> 0 | O17: =IF(SUMIF(AQ$11:AQ$97,$C17,AP$11:AP$97)=0," ",SUMIF(AQ$11:AQ$97,$C17,AP$11:AP$97)) | P17: =IF(O17=" ",0,IF(O17=1,50,IF(O17=2,48,IF(O17=3,46,IF(O17=4,44,IF(O17=5,42,IF(AND(O17>5,O17<45),46-O17,2))))))) -> 0 | R17: =IF(SUMIF(AT$11:AT$97,$C17,AS$11:AS$97)=0," ",SUMIF(AT$11:AT$97,$C17,AS$11:AS$97)) | S17: =IF(R17=" ",0,IF(R17=1,50,IF(R17=2,48,IF(R17=3,46,IF(R17=4,44,IF(R17=5,42,IF(AND(R17>5,R17<45),46-R17,2))))))) -> 0 | U17: =IF(SUMIF(AW$11:AW$97,$C17,AV$11:AV$97)=0," ",SUMIF(AW$11:AW$97,$C17,AV$11:AV$97)) | V17: =IF(U17=" ",0,IF(U17=1,50,IF(U17=2,48,IF(U17=3,46,IF(U17=4,44,IF(U17=5,42,IF(AND(U17>5,U17<45),46-U17,2))))))) -> 0 | X17: =IF(SUMIF(AZ$11:AZ$97,$C17,AY$11:AY$97)=0," ",SUMIF(AZ$11:AZ$97,$C17,AY$11:AY$97)) | Y17: =IF(X17=" ",0,IF(X17=1,50,IF(X17=2,48,IF(X17=3,46,IF(X17=4,44,IF(X17=5,42,IF(AND(X17>5,X17<45),46-X17,2))))))) -> 0 | AA17: =IF(SUMIF(BC$11:BC$97,$C17,BB$11:BB$97)=0," ",SUMIF(BC$11:BC$97,$C17,BB$11:BB$97)) | AB17: =IF(AA17=" ",0,IF(AA17=1,50,IF(AA17=2,48,IF(AA17=3,46,IF(AA17=4,44,IF(AA17=5,42,IF(AND(AA17>5,AA17<45),46-AA17,2))))))) -> 0 | AD17: =IF(SUMIF(BF$11:BF$97,$C17,BE$11:BE$97)=0," ",SUMIF(BF$11:BF$97,$C17,BE$11:BE$97)) | AE17: =IF(AD17=" ",0,IF(AD17=1,50,IF(AD17=2,48,IF(AD17=3,46,IF(AD17=4,44,IF(AD17=5,42,IF(AND(AD17>5,AD17<45),46-AD17,2))))))) -> 0 | AF17: =J17+M17+P17+S17+V17+Y17+AB17+AE17 -> 0 | AG17: =A17 -> 7 | AH17: =AF17-MIN(J17,M17,P17,S17,V17,Y17,AB17,AE17) -> 0 | AJ17: 7 | AM17: 7 | AP17: 7 | AS17: 7 | AV17: 7 | AY17: 7 | BB17: 7 | BE17: 7
A18: 8 | B18: =AF18 -> 0 | I18: =IF(SUMIF(AK$11:AK$97,$C18,AJ$11:AJ$97)=0," ",SUMIF(AK$11:AK$97,$C18,AJ$11:AJ$97)) | J18: =IF(I18=" ",0,IF(I18=1,50,IF(I18=2,48,IF(I18=3,46,IF(I18=4,44,IF(I18=5,42,IF(AND(I18>5,I18<45),46-I18,2))))))) -> 0 | L18: =IF(SUMIF(AN$11:AN$97,$C18,AM$11:AM$97)=0," ",SUMIF(AN$11:AN$97,$C18,AM$11:AM$97)) | M18: =IF(L18=" ",0,IF(L18=1,50,IF(L18=2,48,IF(L18=3,46,IF(L18=4,44,IF(L18=5,42,IF(AND(L18>5,L18<45),46-L18,2))))))) -> 0 | O18: =IF(SUMIF(AQ$11:AQ$97,$C18,AP$11:AP$97)=0," ",SUMIF(AQ$11:AQ$97,$C18,AP$11:AP$97)) | P18: =IF(O18=" ",0,IF(O18=1,50,IF(O18=2,48,IF(O18=3,46,IF(O18=4,44,IF(O18=5,42,IF(AND(O18>5,O18<45),46-O18,2))))))) -> 0 | R18: =IF(SUMIF(AT$11:AT$97,$C18,AS$11:AS$97)=0," ",SUMIF(AT$11:AT$97,$C18,AS$11:AS$97)) | S18: =IF(R18=" ",0,IF(R18=1,50,IF(R18=2,48,IF(R18=3,46,IF(R18=4,44,IF(R18=5,42,IF(AND(R18>5,R18<45),46-R18,2))))))) -> 0 | U18: =IF(SUMIF(AW$11:AW$97,$C18,AV$11:AV$97)=0," ",SUMIF(AW$11:AW$97,$C18,AV$11:AV$97)) | V18: =IF(U18=" ",0,IF(U18=1,50,IF(U18=2,48,IF(U18=3,46,IF(U18=4,44,IF(U18=5,42,IF(AND(U18>5,U18<45),46-U18,2))))))) -> 0 | X18: =IF(SUMIF(AZ$11:AZ$97,$C18,AY$11:AY$97)=0," ",SUMIF(AZ$11:AZ$97,$C18,AY$11:AY$97)) | Y18: =IF(X18=" ",0,IF(X18=1,50,IF(X18=2,48,IF(X18=3,46,IF(X18=4,44,IF(X18=5,42,IF(AND(X18>5,X18<45),46-X18,2))))))) -> 0 | AA18: =IF(SUMIF(BC$11:BC$97,$C18,BB$11:BB$97)=0," ",SUMIF(BC$11:BC$97,$C18,BB$11:BB$97)) | AB18: =IF(AA18=" ",0,IF(AA18=1,50,IF(AA18=2,48,IF(AA18=3,46,IF(AA18=4,44,IF(AA18=5,42,IF(AND(AA18>5,AA18<45),46-AA18,2))))))) -> 0 | AD18: =IF(SUMIF(BF$11:BF$97,$C18,BE$11:BE$97)=0," ",SUMIF(BF$11:BF$97,$C18,BE$11:BE$97)) | AE18: =IF(AD18=" ",0,IF(AD18=1,50,IF(AD18=2,48,IF(AD18=3,46,IF(AD18=4,44,IF(AD18=5,42,IF(AND(AD18>5,AD18<45),46-AD18,2))))))) -> 0 | AF18: =J18+M18+P18+S18+V18+Y18+AB18+AE18 -> 0 | AG18: =A18 -> 8 | AH18: =AF18-MIN(J18,M18,P18,S18,V18,Y18,AB18,AE18) -> 0 | AJ18: 8 | AM18: 8 | AP18: 8 | AS18: 8 | AV18: 8 | AY18: 8 | BB18: 8 | BE18: 8
A19: 9 | B19: =AF19 -> 0 | I19: =IF(SUMIF(AK$11:AK$97,$C19,AJ$11:AJ$97)=0," ",SUMIF(AK$11:AK$97,$C19,AJ$11:AJ$97)) | J19: =IF(I19=" ",0,IF(I19=1,50,IF(I19=2,48,IF(I19=3,46,IF(I19=4,44,IF(I19=5,42,IF(AND(I19>5,I19<45),46-I19,2))))))) -> 0 | L19: =IF(SUMIF(AN$11:AN$97,$C19,AM$11:AM$97)=0," ",SUMIF(AN$11:AN$97,$C19,AM$11:AM$97)) | M19: =IF(L19=" ",0,IF(L19=1,50,IF(L19=2,48,IF(L19=3,46,IF(L19=4,44,IF(L19=5,42,IF(AND(L19>5,L19<45),46-L19,2))))))) -> 0 | O19: =IF(SUMIF(AQ$11:AQ$97,$C19,AP$11:AP$97)=0," ",SUMIF(AQ$11:AQ$97,$C19,AP$11:AP$97)) | P19: =IF(O19=" ",0,IF(O19=1,50,IF(O19=2,48,IF(O19=3,46,IF(O19=4,44,IF(O19=5,42,IF(AND(O19>5,O19<45),46-O19,2))))))) -> 0 | R19: =IF(SUMIF(AT$11:AT$97,$C19,AS$11:AS$97)=0," ",SUMIF(AT$11:AT$97,$C19,AS$11:AS$97)) | S19: =IF(R19=" ",0,IF(R19=1,50,IF(R19=2,48,IF(R19=3,46,IF(R19=4,44,IF(R19=5,42,IF(AND(R19>5,R19<45),46-R19,2))))))) -> 0 | U19: =IF(SUMIF(AW$11:AW$97,$C19,AV$11:AV$97)=0," ",SUMIF(AW$11:AW$97,$C19,AV$11:AV$97)) | V19: =IF(U19=" ",0,IF(U19=1,50,IF(U19=2,48,IF(U19=3,46,IF(U19=4,44,IF(U19=5,42,IF(AND(U19>5,U19<45),46-U19,2))))))) -> 0 | X19: =IF(SUMIF(AZ$11:AZ$97,$C19,AY$11:AY$97)=0," ",SUMIF(AZ$11:AZ$97,$C19,AY$11:AY$97)) | Y19: =IF(X19=" ",0,IF(X19=1,50,IF(X19=2,48,IF(X19=3,46,IF(X19=4,44,IF(X19=5,42,IF(AND(X19>5,X19<45),46-X19,2))))))) -> 0 | AA19: =IF(SUMIF(BC$11:BC$97,$C19,BB$11:BB$97)=0," ",SUMIF(BC$11:BC$97,$C19,BB$11:BB$97)) | AB19: =IF(AA19=" ",0,IF(AA19=1,50,IF(AA19=2,48,IF(AA19=3,46,IF(AA19=4,44,IF(AA19=5,42,IF(AND(AA19>5,AA19<45),46-AA19,2))))))) -> 0 | AD19: =IF(SUMIF(BF$11:BF$97,$C19,BE$11:BE$97)=0," ",SUMIF(BF$11:BF$97,$C19,BE$11:BE$97)) | AE19: =IF(AD19=" ",0,IF(AD19=1,50,IF(AD19=2,48,IF(AD19=3,46,IF(AD19=4,44,IF(AD19=5,42,IF(AND(AD19>5,AD19<45),46-AD19,2))))))) -> 0 | AF19: =J19+M19+P19+S19+V19+Y19+AB19+AE19 -> 0 | AG19: =A19 -> 9 | AH19: =AF19-MIN(J19,M19,P19,S19,V19,Y19,AB19,AE19) -> 0 | AJ19: 9 | AM19: 9 | AP19: 9 | AS19: 9 | AV19: 9 | AY19: 9 | BB19: 9 | BE19: 9
A20: 10 | B20: =AF20 -> 0 | I20: =IF(SUMIF(AK$11:AK$97,$C20,AJ$11:AJ$97)=0," ",SUMIF(AK$11:AK$97,$C20,AJ$11:AJ$97)) | J20: =IF(I20=" ",0,IF(I20=1,50,IF(I20=2,48,IF(I20=3,46,IF(I20=4,44,IF(I20=5,42,IF(AND(I20>5,I20<45),46-I20,2))))))) -> 0 | L20: =IF(SUMIF(AN$11:AN$97,$C20,AM$11:AM$97)=0," ",SUMIF(AN$11:AN$97,$C20,AM$11:AM$97)) | M20: =IF(L20=" ",0,IF(L20=1,50,IF(L20=2,48,IF(L20=3,46,IF(L20=4,44,IF(L20=5,42,IF(AND(L20>5,L20<45),46-L20,2))))))) -> 0 | O20: =IF(SUMIF(AQ$11:AQ$97,$C20,AP$11:AP$97)=0," ",SUMIF(AQ$11:AQ$97,$C20,AP$11:AP$97)) | P20: =IF(O20=" ",0,IF(O20=1,50,IF(O20=2,48,IF(O20=3,46,IF(O20=4,44,IF(O20=5,42,IF(AND(O20>5,O20<45),46-O20,2))))))) -> 0 | R20: =IF(SUMIF(AT$11:AT$97,$C20,AS$11:AS$97)=0," ",SUMIF(AT$11:AT$97,$C20,AS$11:AS$97)) | S20: =IF(R20=" ",0,IF(R20=1,50,IF(R20=2,48,IF(R20=3,46,IF(R20=4,44,IF(R20=5,42,IF(AND(R20>5,R20<45),46-R20,2))))))) -> 0 | U20: =IF(SUMIF(AW$11:AW$97,$C20,AV$11:AV$97)=0," ",SUMIF(AW$11:AW$97,$C20,AV$11:AV$97)) | V20: =IF(U20=" ",0,IF(U20=1,50,IF(U20=2,48,IF(U20=3,46,IF(U20=4,44,IF(U20=5,42,IF(AND(U20>5,U20<45),46-U20,2))))))) -> 0 | X20: =IF(SUMIF(AZ$11:AZ$97,$C20,AY$11:AY$97)=0," ",SUMIF(AZ$11:AZ$97,$C20,AY$11:AY$97)) | Y20: =IF(X20=" ",0,IF(X20=1,50,IF(X20=2,48,IF(X20=3,46,IF(X20=4,44,IF(X20=5,42,IF(AND(X20>5,X20<45),46-X20,2))))))) -> 0 | AA20: =IF(SUMIF(BC$11:BC$97,$C20,BB$11:BB$97)=0," ",SUMIF(BC$11:BC$97,$C20,BB$11:BB$97)) | AB20: =IF(AA20=" ",0,IF(AA20=1,50,IF(AA20=2,48,IF(AA20=3,46,IF(AA20=4,44,IF(AA20=5,42,IF(AND(AA20>5,AA20<45),46-AA20,2))))))) -> 0 | AD20: =IF(SUMIF(BF$11:BF$97,$C20,BE$11:BE$97)=0," ",SUMIF(BF$11:BF$97,$C20,BE$11:BE$97)) | AE20: =IF(AD20=" ",0,IF(AD20=1,50,IF(AD20=2,48,IF(AD20=3,46,IF(AD20=4,44,IF(AD20=5,42,IF(AND(AD20>5,AD20<45),46-AD20,2))))))) -> 0 | AF20: =J20+M20+P20+S20+V20+Y20+AB20+AE20 -> 0 | AG20: =A20 -> 10 | AH20: =AF20-MIN(J20,M20,P20,S20,V20,Y20,AB20,AE20) -> 0 | AJ20: 10 | AM20: 10 | AP20: 10 | AS20: 10 | AV20: 10 | AY20: 10 | BB20: 10 | BE20: 10
A21: 11 | B21: =AF21 -> 0 | I21: =IF(SUMIF(AK$11:AK$97,$C21,AJ$11:AJ$97)=0," ",SUMIF(AK$11:AK$97,$C21,AJ$11:AJ$97)) | J21: =IF(I21=" ",0,IF(I21=1,50,IF(I21=2,48,IF(I21=3,46,IF(I21=4,44,IF(I21=5,42,IF(AND(I21>5,I21<45),46-I21,2))))))) -> 0 | L21: =IF(SUMIF(AN$11:AN$97,$C21,AM$11:AM$97)=0," ",SUMIF(AN$11:AN$97,$C21,AM$11:AM$97)) | M21: =IF(L21=" ",0,IF(L21=1,50,IF(L21=2,48,IF(L21=3,46,IF(L21=4,44,IF(L21=5,42,IF(AND(L21>5,L21<45),46-L21,2))))))) -> 0 | O21: =IF(SUMIF(AQ$11:AQ$97,$C21,AP$11:AP$97)=0," ",SUMIF(AQ$11:AQ$97,$C21,AP$11:AP$97)) | P21: =IF(O21=" ",0,IF(O21=1,50,IF(O21=2,48,IF(O21=3,46,IF(O21=4,44,IF(O21=5,42,IF(AND(O21>5,O21<45),46-O21,2))))))) -> 0 | R21: =IF(SUMIF(AT$11:AT$97,$C21,AS$11:AS$97)=0," ",SUMIF(AT$11:AT$97,$C21,AS$11:AS$97)) | S21: =IF(R21=" ",0,IF(R21=1,50,IF(R21=2,48,IF(R21=3,46,IF(R21=4,44,IF(R21=5,42,IF(AND(R21>5,R21<45),46-R21,2))))))) -> 0 | U21: =IF(SUMIF(AW$11:AW$97,$C21,AV$11:AV$97)=0," ",SUMIF(AW$11:AW$97,$C21,AV$11:AV$97)) | V21: =IF(U21=" ",0,IF(U21=1,50,IF(U21=2,48,IF(U21=3,46,IF(U21=4,44,IF(U21=5,42,IF(AND(U21>5,U21<45),46-U21,2))))))) -> 0 | X21: =IF(SUMIF(AZ$11:AZ$97,$C21,AY$11:AY$97)=0," ",SUMIF(AZ$11:AZ$97,$C21,AY$11:AY$97)) | Y21: =IF(X21=" ",0,IF(X21=1,50,IF(X21=2,48,IF(X21=3,46,IF(X21=4,44,IF(X21=5,42,IF(AND(X21>5,X21<45),46-X21,2))))))) -> 0 | AA21: =IF(SUMIF(BC$11:BC$97,$C21,BB$11:BB$97)=0," ",SUMIF(BC$11:BC$97,$C21,BB$11:BB$97)) | AB21: =IF(AA21=" ",0,IF(AA21=1,50,IF(AA21=2,48,IF(AA21=3,46,IF(AA21=4,44,IF(AA21=5,42,IF(AND(AA21>5,AA21<45),46-AA21,2))))))) -> 0 | AD21: =IF(SUMIF(BF$11:BF$97,$C21,BE$11:BE$97)=0," ",SUMIF(BF$11:BF$97,$C21,BE$11:BE$97)) | AE21: =IF(AD21=" ",0,IF(AD21=1,50,IF(AD21=2,48,IF(AD21=3,46,IF(AD21=4,44,IF(AD21=5,42,IF(AND(AD21>5,AD21<45),46-AD21,2))))))) -> 0 | AF21: =J21+M21+P21+S21+V21+Y21+AB21+AE21 -> 0 | AG21: =A21 -> 11 | AH21: =AF21-MIN(J21,M21,P21,S21,V21,Y21,AB21,AE21) -> 0 | AJ21: 11 | AM21: 11 | AP21: 11 | AS21: 11 | AV21: 11 | AY21: 11 | BB21: 11 | BE21: 11
A22: 12 | B22: =AF22 -> 0 | I22: =IF(SUMIF(AK$11:AK$97,$C22,AJ$11:AJ$97)=0," ",SUMIF(AK$11:AK$97,$C22,AJ$11:AJ$97)) | J22: =IF(I22=" ",0,IF(I22=1,50,IF(I22=2,48,IF(I22=3,46,IF(I22=4,44,IF(I22=5,42,IF(AND(I22>5,I22<45),46-I22,2))))))) -> 0 | L22: =IF(SUMIF(AN$11:AN$97,$C22,AM$11:AM$97)=0," ",SUMIF(AN$11:AN$97,$C22,AM$11:AM$97)) | M22: =IF(L22=" ",0,IF(L22=1,50,IF(L22=2,48,IF(L22=3,46,IF(L22=4,44,IF(L22=5,42,IF(AND(L22>5,L22<45),46-L22,2))))))) -> 0 | O22: =IF(SUMIF(AQ$11:AQ$97,$C22,AP$11:AP$97)=0," ",SUMIF(AQ$11:AQ$97,$C22,AP$11:AP$97)) | P22: =IF(O22=" ",0,IF(O22=1,50,IF(O22=2,48,IF(O22=3,46,IF(O22=4,44,IF(O22=5,42,IF(AND(O22>5,O22<45),46-O22,2))))))) -> 0 | R22: =IF(SUMIF(AT$11:AT$97,$C22,AS$11:AS$97)=0," ",SUMIF(AT$11:AT$97,$C22,AS$11:AS$97)) | S22: =IF(R22=" ",0,IF(R22=1,50,IF(R22=2,48,IF(R22=3,46,IF(R22=4,44,IF(R22=5,42,IF(AND(R22>5,R22<45),46-R22,2))))))) -> 0 | U22: =IF(SUMIF(AW$11:AW$97,$C22,AV$11:AV$97)=0," ",SUMIF(AW$11:AW$97,$C22,AV$11:AV$97)) | V22: =IF(U22=" ",0,IF(U22=1,50,IF(U22=2,48,IF(U22=3,46,IF(U22=4,44,IF(U22=5,42,IF(AND(U22>5,U22<45),46-U22,2))))))) -> 0 | X22: =IF(SUMIF(AZ$11:AZ$97,$C22,AY$11:AY$97)=0," ",SUMIF(AZ$11:AZ$97,$C22,AY$11:AY$97)) | Y22: =IF(X22=" ",0,IF(X22=1,50,IF(X22=2,48,IF(X22=3,46,IF(X22=4,44,IF(X22=5,42,IF(AND(X22>5,X22<45),46-X22,2))))))) -> 0 | AA22: =IF(SUMIF(BC$11:BC$97,$C22,BB$11:BB$97)=0," ",SUMIF(BC$11:BC$97,$C22,BB$11:BB$97)) | AB22: =IF(AA22=" ",0,IF(AA22=1,50,IF(AA22=2,48,IF(AA22=3,46,IF(AA22=4,44,IF(AA22=5,42,IF(AND(AA22>5,AA22<45),46-AA22,2))))))) -> 0 | AD22: =IF(SUMIF(BF$11:BF$97,$C22,BE$11:BE$97)=0," ",SUMIF(BF$11:BF$97,$C22,BE$11:BE$97)) | AE22: =IF(AD22=" ",0,IF(AD22=1,50,IF(AD22=2,48,IF(AD22=3,46,IF(AD22=4,44,IF(AD22=5,42,IF(AND(AD22>5,AD22<45),46-AD22,2))))))) -> 0 | AF22: =J22+M22+P22+S22+V22+Y22+AB22+AE22 -> 0 | AG22: =A22 -> 12 | AH22: =AF22-MIN(J22,M22,P22,S22,V22,Y22,AB22,AE22) -> 0 | AJ22: 12 | AM22: 12 | AP22: 12 | AS22: 12 | AV22: 12 | AY22: 12 | BB22: 12 | BE22: 12
A23: 13 | B23: =AF23 -> 0 | I23: =IF(SUMIF(AK$11:AK$97,$C23,AJ$11:AJ$97)=0," ",SUMIF(AK$11:AK$97,$C23,AJ$11:AJ$97)) | J23: =IF(I23=" ",0,IF(I23=1,50,IF(I23=2,48,IF(I23=3,46,IF(I23=4,44,IF(I23=5,42,IF(AND(I23>5,I23<45),46-I23,2))))))) -> 0 | L23: =IF(SUMIF(AN$11:AN$97,$C23,AM$11:AM$97)=0," ",SUMIF(AN$11:AN$97,$C23,AM$11:AM$97)) | M23: =IF(L23=" ",0,IF(L23=1,50,IF(L23=2,48,IF(L23=3,46,IF(L23=4,44,IF(L23=5,42,IF(AND(L23>5,L23<45),46-L23,2))))))) -> 0 | O23: =IF(SUMIF(AQ$11:AQ$97,$C23,AP$11:AP$97)=0," ",SUMIF(AQ$11:AQ$97,$C23,AP$11:AP$97)) | P23: =IF(O23=" ",0,IF(O23=1,50,IF(O23=2,48,IF(O23=3,46,IF(O23=4,44,IF(O23=5,42,IF(AND(O23>5,O23<45),46-O23,2))))))) -> 0 | R23: =IF(SUMIF(AT$11:AT$97,$C23,AS$11:AS$97)=0," ",SUMIF(AT$11:AT$97,$C23,AS$11:AS$97)) | S23: =IF(R23=" ",0,IF(R23=1,50,IF(R23=2,48,IF(R23=3,46,IF(R23=4,44,IF(R23=5,42,IF(AND(R23>5,R23<45),46-R23,2))))))) -> 0 | U23: =IF(SUMIF(AW$11:AW$97,$C23,AV$11:AV$97)=0," ",SUMIF(AW$11:AW$97,$C23,AV$11:AV$97)) | V23: =IF(U23=" ",0,IF(U23=1,50,IF(U23=2,48,IF(U23=3,46,IF(U23=4,44,IF(U23=5,42,IF(AND(U23>5,U23<45),46-U23,2))))))) -> 0 | X23: =IF(SUMIF(AZ$11:AZ$97,$C23,AY$11:AY$97)=0," ",SUMIF(AZ$11:AZ$97,$C23,AY$11:AY$97)) | Y23: =IF(X23=" ",0,IF(X23=1,50,IF(X23=2,48,IF(X23=3,46,IF(X23=4,44,IF(X23=5,42,IF(AND(X23>5,X23<45),46-X23,2))))))) -> 0 | AA23: =IF(SUMIF(BC$11:BC$97,$C23,BB$11:BB$97)=0," ",SUMIF(BC$11:BC$97,$C23,BB$11:BB$97)) | AB23: =IF(AA23=" ",0,IF(AA23=1,50,IF(AA23=2,48,IF(AA23=3,46,IF(AA23=4,44,IF(AA23=5,42,IF(AND(AA23>5,AA23<45),46-AA23,2))))))) -> 0 | AD23: =IF(SUMIF(BF$11:BF$97,$C23,BE$11:BE$97)=0," ",SUMIF(BF$11:BF$97,$C23,BE$11:BE$97)) | AE23: =IF(AD23=" ",0,IF(AD23=1,50,IF(AD23=2,48,IF(AD23=3,46,IF(AD23=4,44,IF(AD23=5,42,IF(AND(AD23>5,AD23<45),46-AD23,2))))))) -> 0 | AF23: =J23+M23+P23+S23+V23+Y23+AB23+AE23 -> 0 | AG23: =A23 -> 13 | AH23: =AF23-MIN(J23,M23,P23,S23,V23,Y23,AB23,AE23) -> 0 | AJ23: 13 | AM23: 13 | AP23: 13 | AS23: 13 | AV23: 13 | AY23: 13 | BB23: 13 | BE23: 13
A24: 14 | B24: =AF24 -> 0 | I24: =IF(SUMIF(AK$11:AK$97,$C24,AJ$11:AJ$97)=0," ",SUMIF(AK$11:AK$97,$C24,AJ$11:AJ$97)) | J24: =IF(I24=" ",0,IF(I24=1,50,IF(I24=2,48,IF(I24=3,46,IF(I24=4,44,IF(I24=5,42,IF(AND(I24>5,I24<45),46-I24,2))))))) -> 0 | L24: =IF(SUMIF(AN$11:AN$97,$C24,AM$11:AM$97)=0," ",SUMIF(AN$11:AN$97,$C24,AM$11:AM$97)) | M24: =IF(L24=" ",0,IF(L24=1,50,IF(L24=2,48,IF(L24=3,46,IF(L24=4,44,IF(L24=5,42,IF(AND(L24>5,L24<45),46-L24,2))))))) -> 0 | O24: =IF(SUMIF(AQ$11:AQ$97,$C24,AP$11:AP$97)=0," ",SUMIF(AQ$11:AQ$97,$C24,AP$11:AP$97)) | P24: =IF(O24=" ",0,IF(O24=1,50,IF(O24=2,48,IF(O24=3,46,IF(O24=4,44,IF(O24=5,42,IF(AND(O24>5,O24<45),46-O24,2))))))) -> 0 | R24: =IF(SUMIF(AT$11:AT$97,$C24,AS$11:AS$97)=0," ",SUMIF(AT$11:AT$97,$C24,AS$11:AS$97)) | S24: =IF(R24=" ",0,IF(R24=1,50,IF(R24=2,48,IF(R24=3,46,IF(R24=4,44,IF(R24=5,42,IF(AND(R24>5,R24<45),46-R24,2))))))) -> 0 | U24: =IF(SUMIF(AW$11:AW$97,$C24,AV$11:AV$97)=0," ",SUMIF(AW$11:AW$97,$C24,AV$11:AV$97)) | V24: =IF(U24=" ",0,IF(U24=1,50,IF(U24=2,48,IF(U24=3,46,IF(U24=4,44,IF(U24=5,42,IF(AND(U24>5,U24<45),46-U24,2))))))) -> 0 | X24: =IF(SUMIF(AZ$11:AZ$97,$C24,AY$11:AY$97)=0," ",SUMIF(AZ$11:AZ$97,$C24,AY$11:AY$97)) | Y24: =IF(X24=" ",0,IF(X24=1,50,IF(X24=2,48,IF(X24=3,46,IF(X24=4,44,IF(X24=5,42,IF(AND(X24>5,X24<45),46-X24,2))))))) -> 0 | AA24: =IF(SUMIF(BC$11:BC$97,$C24,BB$11:BB$97)=0," ",SUMIF(BC$11:BC$97,$C24,BB$11:BB$97)) | AB24: =IF(AA24=" ",0,IF(AA24=1,50,IF(AA24=2,48,IF(AA24=3,46,IF(AA24=4,44,IF(AA24=5,42,IF(AND(AA24>5,AA24<45),46-AA24,2))))))) -> 0 | AD24: =IF(SUMIF(BF$11:BF$97,$C24,BE$11:BE$97)=0," ",SUMIF(BF$11:BF$97,$C24,BE$11:BE$97)) | AE24: =IF(AD24=" ",0,IF(AD24=1,50,IF(AD24=2,48,IF(AD24=3,46,IF(AD24=4,44,IF(AD24=5,42,IF(AND(AD24>5,AD24<45),46-AD24,2))))))) -> 0 | AF24: =J24+M24+P24+S24+V24+Y24+AB24+AE24 -> 0 | AG24: =A24 -> 14 | AH24: =AF24-MIN(J24,M24,P24,S24,V24,Y24,AB24,AE24) -> 0 | AJ24: 14 | AM24: 14 | AP24: 14 | AS24: 14 | AV24: 14 | AY24: 14 | BB24: 14 | BE24: 14
A25: 15 | B25: =AF25 -> 0 | I25: =IF(SUMIF(AK$11:AK$97,$C25,AJ$11:AJ$97)=0," ",SUMIF(AK$11:AK$97,$C25,AJ$11:AJ$97)) | J25: =IF(I25=" ",0,IF(I25=1,50,IF(I25=2,48,IF(I25=3,46,IF(I25=4,44,IF(I25=5,42,IF(AND(I25>5,I25<45),46-I25,2))))))) -> 0 | L25: =IF(SUMIF(AN$11:AN$97,$C25,AM$11:AM$97)=0," ",SUMIF(AN$11:AN$97,$C25,AM$11:AM$97)) | M25: =IF(L25=" ",0,IF(L25=1,50,IF(L25=2,48,IF(L25=3,46,IF(L25=4,44,IF(L25=5,42,IF(AND(L25>5,L25<45),46-L25,2))))))) -> 0 | O25: =IF(SUMIF(AQ$11:AQ$97,$C25,AP$11:AP$97)=0," ",SUMIF(AQ$11:AQ$97,$C25,AP$11:AP$97)) | P25: =IF(O25=" ",0,IF(O25=1,50,IF(O25=2,48,IF(O25=3,46,IF(O25=4,44,IF(O25=5,42,IF(AND(O25>5,O25<45),46-O25,2))))))) -> 0 | R25: =IF(SUMIF(AT$11:AT$97,$C25,AS$11:AS$97)=0," ",SUMIF(AT$11:AT$97,$C25,AS$11:AS$97)) | S25: =IF(R25=" ",0,IF(R25=1,50,IF(R25=2,48,IF(R25=3,46,IF(R25=4,44,IF(R25=5,42,IF(AND(R25>5,R25<45),46-R25,2))))))) -> 0 | U25: =IF(SUMIF(AW$11:AW$97,$C25,AV$11:AV$97)=0," ",SUMIF(AW$11:AW$97,$C25,AV$11:AV$97)) | V25: =IF(U25=" ",0,IF(U25=1,50,IF(U25=2,48,IF(U25=3,46,IF(U25=4,44,IF(U25=5,42,IF(AND(U25>5,U25<45),46-U25,2))))))) -> 0 | X25: =IF(SUMIF(AZ$11:AZ$97,$C25,AY$11:AY$97)=0," ",SUMIF(AZ$11:AZ$97,$C25,AY$11:AY$97)) | Y25: =IF(X25=" ",0,IF(X25=1,50,IF(X25=2,48,IF(X25=3,46,IF(X25=4,44,IF(X25=5,42,IF(AND(X25>5,X25<45),46-X25,2))))))) -> 0 | AA25: =IF(SUMIF(BC$11:BC$97,$C25,BB$11:BB$97)=0," ",SUMIF(BC$11:BC$97,$C25,BB$11:BB$97)) | AB25: =IF(AA25=" ",0,IF(AA25=1,50,IF(AA25=2,48,IF(AA25=3,46,IF(AA25=4,44,IF(AA25=5,42,IF(AND(AA25>5,AA25<45),46-AA25,2))))))) -> 0 | AD25: =IF(SUMIF(BF$11:BF$97,$C25,BE$11:BE$97)=0," ",SUMIF(BF$11:BF$97,$C25,BE$11:BE$97)) | AE25: =IF(AD25=" ",0,IF(AD25=1,50,IF(AD25=2,48,IF(AD25=3,46,IF(AD25=4,44,IF(AD25=5,42,IF(AND(AD25>5,AD25<45),46-AD25,2))))))) -> 0 | AF25: =J25+M25+P25+S25+V25+Y25+AB25+AE25 -> 0 | AG25: =A25 -> 15 | AH25: =AF25-MIN(J25,M25,P25,S25,V25,Y25,AB25,AE25) -> 0 | AJ25: 15 | AM25: 15 | AP25: 15 | AS25: 15 | AV25: 15 | AY25: 15 | BB25: 15 | BE25: 15
A26: 16 | B26: =AF26 -> 0 | I26: =IF(SUMIF(AK$11:AK$97,$C26,AJ$11:AJ$97)=0," ",SUMIF(AK$11:AK$97,$C26,AJ$11:AJ$97)) | J26: =IF(I26=" ",0,IF(I26=1,50,IF(I26=2,48,IF(I26=3,46,IF(I26=4,44,IF(I26=5,42,IF(AND(I26>5,I26<45),46-I26,2))))))) -> 0 | L26: =IF(SUMIF(AN$11:AN$97,$C26,AM$11:AM$97)=0," ",SUMIF(AN$11:AN$97,$C26,AM$11:AM$97)) | M26: =IF(L26=" ",0,IF(L26=1,50,IF(L26=2,48,IF(L26=3,46,IF(L26=4,44,IF(L26=5,42,IF(AND(L26>5,L26<45),46-L26,2))))))) -> 0 | O26: =IF(SUMIF(AQ$11:AQ$97,$C26,AP$11:AP$97)=0," ",SUMIF(AQ$11:AQ$97,$C26,AP$11:AP$97)) | P26: =IF(O26=" ",0,IF(O26=1,50,IF(O26=2,48,IF(O26=3,46,IF(O26=4,44,IF(O26=5,42,IF(AND(O26>5,O26<45),46-O26,2))))))) -> 0 | R26: =IF(SUMIF(AT$11:AT$97,$C26,AS$11:AS$97)=0," ",SUMIF(AT$11:AT$97,$C26,AS$11:AS$97)) | S26: =IF(R26=" ",0,IF(R26=1,50,IF(R26=2,48,IF(R26=3,46,IF(R26=4,44,IF(R26=5,42,IF(AND(R26>5,R26<45),46-R26,2))))))) -> 0 | U26: =IF(SUMIF(AW$11:AW$97,$C26,AV$11:AV$97)=0," ",SUMIF(AW$11:AW$97,$C26,AV$11:AV$97)) | V26: =IF(U26=" ",0,IF(U26=1,50,IF(U26=2,48,IF(U26=3,46,IF(U26=4,44,IF(U26=5,42,IF(AND(U26>5,U26<45),46-U26,2))))))) -> 0 | X26: =IF(SUMIF(AZ$11:AZ$97,$C26,AY$11:AY$97)=0," ",SUMIF(AZ$11:AZ$97,$C26,AY$11:AY$97)) | Y26: =IF(X26=" ",0,IF(X26=1,50,IF(X26=2,48,IF(X26=3,46,IF(X26=4,44,IF(X26=5,42,IF(AND(X26>5,X26<45),46-X26,2))))))) -> 0 | AA26: =IF(SUMIF(BC$11:BC$97,$C26,BB$11:BB$97)=0," ",SUMIF(BC$11:BC$97,$C26,BB$11:BB$97)) | AB26: =IF(AA26=" ",0,IF(AA26=1,50,IF(AA26=2,48,IF(AA26=3,46,IF(AA26=4,44,IF(AA26=5,42,IF(AND(AA26>5,AA26<45),46-AA26,2))))))) -> 0 | AD26: =IF(SUMIF(BF$11:BF$97,$C26,BE$11:BE$97)=0," ",SUMIF(BF$11:BF$97,$C26,BE$11:BE$97)) | AE26: =IF(AD26=" ",0,IF(AD26=1,50,IF(AD26=2,48,IF(AD26=3,46,IF(AD26=4,44,IF(AD26=5,42,IF(AND(AD26>5,AD26<45),46-AD26,2))))))) -> 0 | AF26: =J26+M26+P26+S26+V26+Y26+AB26+AE26 -> 0 | AG26: =A26 -> 16 | AH26: =AF26-MIN(J26,M26,P26,S26,V26,Y26,AB26,AE26) -> 0 | AJ26: 16 | AM26: 16 | AP26: 16 | AS26: 16 | AV26: 16 | AY26: 16 | BB26: 16 | BE26: 16
A27: 17 | B27: =AF27 -> 0 | I27: =IF(SUMIF(AK$11:AK$97,$C27,AJ$11:AJ$97)=0," ",SUMIF(AK$11:AK$97,$C27,AJ$11:AJ$97)) | J27: =IF(I27=" ",0,IF(I27=1,50,IF(I27=2,48,IF(I27=3,46,IF(I27=4,44,IF(I27=5,42,IF(AND(I27>5,I27<45),46-I27,2))))))) -> 0 | L27: =IF(SUMIF(AN$11:AN$97,$C27,AM$11:AM$97)=0," ",SUMIF(AN$11:AN$97,$C27,AM$11:AM$97)) | M27: =IF(L27=" ",0,IF(L27=1,50,IF(L27=2,48,IF(L27=3,46,IF(L27=4,44,IF(L27=5,42,IF(AND(L27>5,L27<45),46-L27,2))))))) -> 0 | O27: =IF(SUMIF(AQ$11:AQ$97,$C27,AP$11:AP$97)=0," ",SUMIF(AQ$11:AQ$97,$C27,AP$11:AP$97)) | P27: =IF(O27=" ",0,IF(O27=1,50,IF(O27=2,48,IF(O27=3,46,IF(O27=4,44,IF(O27=5,42,IF(AND(O27>5,O27<45),46-O27,2))))))) -> 0 | R27: =IF(SUMIF(AT$11:AT$97,$C27,AS$11:AS$97)=0," ",SUMIF(AT$11:AT$97,$C27,AS$11:AS$97)) | S27: =IF(R27=" ",0,IF(R27=1,50,IF(R27=2,48,IF(R27=3,46,IF(R27=4,44,IF(R27=5,42,IF(AND(R27>5,R27<45),46-R27,2))))))) -> 0 | U27: =IF(SUMIF(AW$11:AW$97,$C27,AV$11:AV$97)=0," ",SUMIF(AW$11:AW$97,$C27,AV$11:AV$97)) | V27: =IF(U27=" ",0,IF(U27=1,50,IF(U27=2,48,IF(U27=3,46,IF(U27=4,44,IF(U27=5,42,IF(AND(U27>5,U27<45),46-U27,2))))))) -> 0 | X27: =IF(SUMIF(AZ$11:AZ$97,$C27,AY$11:AY$97)=0," ",SUMIF(AZ$11:AZ$97,$C27,AY$11:AY$97)) | Y27: =IF(X27=" ",0,IF(X27=1,50,IF(X27=2,48,IF(X27=3,46,IF(X27=4,44,IF(X27=5,42,IF(AND(X27>5,X27<45),46-X27,2))))))) -> 0 | AA27: =IF(SUMIF(BC$11:BC$97,$C27,BB$11:BB$97)=0," ",SUMIF(BC$11:BC$97,$C27,BB$11:BB$97)) | AB27: =IF(AA27=" ",0,IF(AA27=1,50,IF(AA27=2,48,IF(AA27=3,46,IF(AA27=4,44,IF(AA27=5,42,IF(AND(AA27>5,AA27<45),46-AA27,2))))))) -> 0 | AD27: =IF(SUMIF(BF$11:BF$97,$C27,BE$11:BE$97)=0," ",SUMIF(BF$11:BF$97,$C27,BE$11:BE$97)) | AE27: =IF(AD27=" ",0,IF(AD27=1,50,IF(AD27=2,48,IF(AD27=3,46,IF(AD27=4,44,IF(AD27=5,42,IF(AND(AD27>5,AD27<45),46-AD27,2))))))) -> 0 | AF27: =J27+M27+P27+S27+V27+Y27+AB27+AE27 -> 0 | AG27: =A27 -> 17 | AH27: =AF27-MIN(J27,M27,P27,S27,V27,Y27,AB27,AE27) -> 0 | AJ27: 17 | AM27: 17 | AP27: 17 | AS27: 17 | AV27: 17 | AY27: 17 | BB27: 17 | BE27: 17
A28: 18 | B28: =AF28 -> 0 | I28: =IF(SUMIF(AK$11:AK$97,$C28,AJ$11:AJ$97)=0," ",SUMIF(AK$11:AK$97,$C28,AJ$11:AJ$97)) | J28: =IF(I28=" ",0,IF(I28=1,50,IF(I28=2,48,IF(I28=3,46,IF(I28=4,44,IF(I28=5,42,IF(AND(I28>5,I28<45),46-I28,2))))))) -> 0 | L28: =IF(SUMIF(AN$11:AN$97,$C28,AM$11:AM$97)=0," ",SUMIF(AN$11:AN$97,$C28,AM$11:AM$97)) | M28: =IF(L28=" ",0,IF(L28=1,50,IF(L28=2,48,IF(L28=3,46,IF(L28=4,44,IF(L28=5,42,IF(AND(L28>5,L28<45),46-L28,2))))))) -> 0 | O28: =IF(SUMIF(AQ$11:AQ$97,$C28,AP$11:AP$97)=0," ",SUMIF(AQ$11:AQ$97,$C28,AP$11:AP$97)) | P28: =IF(O28=" ",0,IF(O28=1,50,IF(O28=2,48,IF(O28=3,46,IF(O28=4,44,IF(O28=5,42,IF(AND(O28>5,O28<45),46-O28,2))))))) -> 0 | R28: =IF(SUMIF(AT$11:AT$97,$C28,AS$11:AS$97)=0," ",SUMIF(AT$11:AT$97,$C28,AS$11:AS$97)) | S28: =IF(R28=" ",0,IF(R28=1,50,IF(R28=2,48,IF(R28=3,46,IF(R28=4,44,IF(R28=5,42,IF(AND(R28>5,R28<45),46-R28,2))))))) -> 0 | U28: =IF(SUMIF(AW$11:AW$97,$C28,AV$11:AV$97)=0," ",SUMIF(AW$11:AW$97,$C28,AV$11:AV$97)) | V28: =IF(U28=" ",0,IF(U28=1,50,IF(U28=2,48,IF(U28=3,46,IF(U28=4,44,IF(U28=5,42,IF(AND(U28>5,U28<45),46-U28,2))))))) -> 0 | X28: =IF(SUMIF(AZ$11:AZ$97,$C28,AY$11:AY$97)=0," ",SUMIF(AZ$11:AZ$97,$C28,AY$11:AY$97)) | Y28: =IF(X28=" ",0,IF(X28=1,50,IF(X28=2,48,IF(X28=3,46,IF(X28=4,44,IF(X28=5,42,IF(AND(X28>5,X28<45),46-X28,2))))))) -> 0 | AA28: =IF(SUMIF(BC$11:BC$97,$C28,BB$11:BB$97)=0," ",SUMIF(BC$11:BC$97,$C28,BB$11:BB$97)) | AB28: =IF(AA28=" ",0,IF(AA28=1,50,IF(AA28=2,48,IF(AA28=3,46,IF(AA28=4,44,IF(AA28=5,42,IF(AND(AA28>5,AA28<45),46-AA28,2))))))) -> 0 | AD28: =IF(SUMIF(BF$11:BF$97,$C28,BE$11:BE$97)=0," ",SUMIF(BF$11:BF$97,$C28,BE$11:BE$97)) | AE28: =IF(AD28=" ",0,IF(AD28=1,50,IF(AD28=2,48,IF(AD28=3,46,IF(AD28=4,44,IF(AD28=5,42,IF(AND(AD28>5,AD28<45),46-AD28,2))))))) -> 0 | AF28: =J28+M28+P28+S28+V28+Y28+AB28+AE28 -> 0 | AG28: =A28 -> 18 | AH28: =AF28-MIN(J28,M28,P28,S28,V28,Y28,AB28,AE28) -> 0 | AJ28: 18 | AM28: 18 | AP28: 18 | AS28: 18 | AV28: 18 | AY28: 18 | BB28: 18 | BE28: 18
... A90: 80 | B90: =AF90 -> 0 | I90: =IF(SUMIF(AK$11:AK$97,$C90,AJ$11:AJ$97)=0," ",SUMIF(AK$11:AK$97,$C90,AJ$11:AJ$97)) | J90: =IF(I90=" ",0,IF(I90=1,50,IF(I90=2,48,IF(I90=3,46,IF(I90=4,44,IF(I90=5,42,IF(AND(I90>5,I90<45),46-I90,2))))))) -> 0 | L90: =IF(SUMIF(AN$11:AN$97,$C90,AM$11:AM$97)=0," ",SUMIF(AN$11:AN$97,$C90,AM$11:AM$97)) | M90: =IF(L90=" ",0,IF(L90=1,50,IF(L90=2,48,IF(L90=3,46,IF(L90=4,44,IF(L90=5,42,IF(AND(L90>5,L90<45),46-L90,2))))))) -> 0 | O90: =IF(SUMIF(AQ$11:AQ$97,$C90,AP$11:AP$97)=0," ",SUMIF(AQ$11:AQ$97,$C90,AP$11:AP$97)) | P90: =IF(O90=" ",0,IF(O90=1,50,IF(O90=2,48,IF(O90=3,46,IF(O90=4,44,IF(O90=5,42,IF(AND(O90>5,O90<45),46-O90,2))))))) -> 0 | R90: =IF(SUMIF(AT$11:AT$97,$C90,AS$11:AS$97)=0," ",SUMIF(AT$11:AT$97,$C90,AS$11:AS$97)) | S90: =IF(R90=" ",0,IF(R90=1,50,IF(R90=2,48,IF(R90=3,46,IF(R90=4,44,IF(R90=5,42,IF(AND(R90>5,R90<45),46-R90,2))))))) -> 0 | U90: =IF(SUMIF(AW$11:AW$97,$C90,AV$11:AV$97)=0," ",SUMIF(AW$11:AW$97,$C90,AV$11:AV$97)) | V90: =IF(U90=" ",0,IF(U90=1,50,IF(U90=2,48,IF(U90=3,46,IF(U90=4,44,IF(U90=5,42,IF(AND(U90>5,U90<45),46-U90,2))))))) -> 0 | X90: =IF(SUMIF(AZ$11:AZ$97,$C90,AY$11:AY$97)=0," ",SUMIF(AZ$11:AZ$97,$C90,AY$11:AY$97)) | Y90: =IF(X90=" ",0,IF(X90=1,50,IF(X90=2,48,IF(X90=3,46,IF(X90=4,44,IF(X90=5,42,IF(AND(X90>5,X90<45),46-X90,2))))))) -> 0 | AA90: =IF(SUMIF(BC$11:BC$97,$C90,BB$11:BB$97)=0," ",SUMIF(BC$11:BC$97,$C90,BB$11:BB$97)) | AB90: =IF(AA90=" ",0,IF(AA90=1,50,IF(AA90=2,48,IF(AA90=3,46,IF(AA90=4,44,IF(AA90=5,42,IF(AND(AA90>5,AA90<45),46-AA90,2))))))) -> 0 | AD90: =IF(SUMIF(BF$11:BF$97,$C90,BE$11:BE$97)=0," ",SUMIF(BF$11:BF$97,$C90,BE$11:BE$97)) | AE90: =IF(AD90=" ",0,IF(AD90=1,50,IF(AD90=2,48,IF(AD90=3,46,IF(AD90=4,44,IF(AD90=5,42,IF(AND(AD90>5,AD90<45),46-AD90,2))))))) -> 0 | AF90: =J90+M90+P90+S90+V90+Y90+AB90+AE90 -> 0 | AG90: =A90 -> 80 | AH90: =AF90-MIN(J90,M90,P90,S90,V90,Y90,AB90,AE90) -> 0 | AJ90: 80 | AM90: 80 | AP90: 80 | AS90: 80 | AV90: 80 | AY90: 80 | BB90: 80 | BE90: 80
I91: =IF(SUMIF(AK$11:AK$97,$C91,AJ$11:AJ$97)=0," ",SUMIF(AK$11:AK$97,$C91,AJ$11:AJ$97)) | L91: =IF(SUMIF(AN$11:AN$97,$C91,AM$11:AM$97)=0," ",SUMIF(AN$11:AN$97,$C91,AM$11:AM$97)) | O91: =IF(SUMIF(AQ$11:AQ$97,$C91,AP$11:AP$97)=0," ",SUMIF(AQ$11:AQ$97,$C91,AP$11:AP$97)) | R91: =IF(SUMIF(AT$11:AT$97,$C91,AS$11:AS$97)=0," ",SUMIF(AT$11:AT$97,$C91,AS$11:AS$97)) | U91: =IF(SUMIF(AW$11:AW$97,$C91,AV$11:AV$97)=0," ",SUMIF(AW$11:AW$97,$C91,AV$11:AV$97)) | X91: =IF(SUMIF(AZ$11:AZ$97,$C91,AY$11:AY$97)=0," ",SUMIF(AZ$11:AZ$97,$C91,AY$11:AY$97)) | AA91: =IF(SUMIF(BC$11:BC$97,$C91,BB$11:BB$97)=0," ",SUMIF(BC$11:BC$97,$C91,BB$11:BB$97)) | AD91: =IF(SUMIF(BF$11:BF$97,$C91,BE$11:BE$97)=0," ",SUMIF(BF$11:BF$97,$C91,BE$11:BE$97)) | AF91: =J91+M91+P91+S91+V91+Y91+AB91+AE91 -> 0 | AH91: =AF91-MIN(J91,M91,P91,S91,V91,Y91,AB91,AE91) -> 0
I92: =IF(SUMIF(AK$11:AK$97,$C92,AJ$11:AJ$97)=0," ",SUMIF(AK$11:AK$97,$C92,AJ$11:AJ$97)) | L92: =IF(SUMIF(AN$11:AN$97,$C92,AM$11:AM$97)=0," ",SUMIF(AN$11:AN$97,$C92,AM$11:AM$97)) | O92: =IF(SUMIF(AQ$11:AQ$97,$C92,AP$11:AP$97)=0," ",SUMIF(AQ$11:AQ$97,$C92,AP$11:AP$97)) | R92: =IF(SUMIF(AT$11:AT$97,$C92,AS$11:AS$97)=0," ",SUMIF(AT$11:AT$97,$C92,AS$11:AS$97)) | U92: =IF(SUMIF(AW$11:AW$97,$C92,AV$11:AV$97)=0," ",SUMIF(AW$11:AW$97,$C92,AV$11:AV$97)) | X92: =IF(SUMIF(AZ$11:AZ$97,$C92,AY$11:AY$97)=0," ",SUMIF(AZ$11:AZ$97,$C92,AY$11:AY$97)) | AA92: =IF(SUMIF(BC$11:BC$97,$C92,BB$11:BB$97)=0," ",SUMIF(BC$11:BC$97,$C92,BB$11:BB$97)) | AD92: =IF(SUMIF(BF$11:BF$97,$C92,BE$11:BE$97)=0," ",SUMIF(BF$11:BF$97,$C92,BE$11:BE$97))
B100: VAL D'OISE TROPHY UFOLEP JEUNES 2026
D102: SERIE A
D103: garçons et filles | F103: 2020
D104: dossards de 1 à 99
C107: manque 1
C109: doss | D109: noms | E109: sexe | F109: club | G109: fédé | H109: né le | K109: émargement
C110: =C11 -> 6 | D110: =IF(C11>0,D11," ") -> Jules LE BEUVANT | E110: =IF(C11>0,E11," ") -> H | F110: =IF(C11>0,F11," ") -> ORC epone | G110: =IF(C11>0,G11," ") -> 0
C111: =C12 -> 2 | D111: =IF(C12>0,D12," ") -> Jonathan BUTLER | E111: =IF(C12>0,E12," ") -> H | F111: =IF(C12>0,F12," ") -> OGVTT | G111: =IF(C12>0,G12," ")
C112: =C13 -> 3 | D112: =IF(C13>0,D13," ") -> Maxence DELAHAYE | E112: =IF(C13>0,E13," ") -> H | F112: =IF(C13>0,F13," ") -> Les Sangliers du Vexin | G112: =IF(C13>0,G13," ")
C113: =C14 -> 4 | D113: =IF(C14>0,D14," ") -> Timothee CANCHON | E113: =IF(C14>0,E14," ") -> H | F113: =IF(C14>0,F14," ") -> ASELB 95 | G113: =IF(C14>0,G14," ")
C114: =C15 -> 5 | D114: =IF(C15>0,D15," ") -> Arthur HIDALGO | E114: =IF(C15>0,E15," ") -> H | F114: =IF(C15>0,F15," ") -> NL | G114: =IF(C15>0,G15," ")
C115: =C16 -> 0 | D115: =IF(C16>0,D16," ") | E115: =IF(C16>0,E16," ") | F115: =IF(C16>0,F16," ") | G115: =IF(C16>0,G16," ")
C116: =C17 -> 0 | D116: =IF(C17>0,D17," ") | E116: =IF(C17>0,E17," ") | F116: =IF(C17>0,F17," ") | G116: =IF(C17>0,G17," ")
C117: =C18 -> 0 | D117: =IF(C18>0,D18," ") | E117: =IF(C18>0,E18," ") | F117: =IF(C18>0,F18," ") | G117: =IF(C18>0,G18," ")
C118: =C19 -> 0 | D118: =IF(C19>0,D19," ") | E118: =IF(C19>0,E19," ") | F118: =IF(C19>0,F19," ") | G118: =IF(C19>0,G19," ")
C119: =C20 -> 0 | D119: =IF(C20>0,D20," ") | E119: =IF(C20>0,E20," ") | F119: =IF(C20>0,F20," ") | G119: =IF(C20>0,G20," ")
C120: =C21 -> 0 | D120: =IF(C21>0,D21," ") | E120: =IF(C21>0,E21," ") | F120: =IF(C21>0,F21," ") | G120: =IF(C21>0,G21," ")
C121: =C22 -> 0 | D121: =IF(C22>0,D22," ") | E121: =IF(C22>0,E22," ") | F121: =IF(C22>0,F22," ") | G121: =IF(C22>0,G22," ")
... C143: =C44 -> 0 | D143: =IF(C44>0,D44," ") | E143: =IF(C44>0,E44," ") | F143: =IF(C44>0,F44," ") | G143: =IF(C44>0,G44," ")
C144: =C45 -> 0 | D144: =IF(C39>0,D45," ") | E144: =IF(C45>0,E45," ") | F144: =IF(C45>0,F45," ") | G144: =IF(C45>0,G45," ")
C145: =C46 -> 0 | D145: =IF(C40>0,D46," ") | E145: =IF(C46>0,E46," ") | F145: =IF(C46>0,F46," ") | G145: =IF(C46>0,G46," ")
C146: =C47 -> 0 | D146: =IF(C47>0,D47," ") | E146: =IF(C47>0,E47," ") | F146: =IF(C47>0,F47," ") | G146: =IF(C47>0,G47," ")
C147: =C48 -> 0 | D147: =IF(C48>0,D48," ") | E147: =IF(C48>0,E48," ") | F147: =IF(C48>0,F48," ") | G147: =IF(C48>0,G48," ")
C148: =C49 -> 0 | D148: =IF(C49>0,D49," ") | E148: =IF(C49>0,E49," ") | F148: =IF(C49>0,F49," ") | G148: =IF(C49>0,G49," ")
C149: =C50 -> 0 | D149: =IF(C50>0,D50," ") | E149: =IF(C50>0,E50," ") | F149: =IF(C50>0,F50," ") | G149: =IF(C50>0,G50," ")
C150: =C51 -> 0 | D150: =IF(C51>0,D51," ") | E150: =IF(C51>0,E51," ") | F150: =IF(C51>0,F51," ") | G150: =IF(C51>0,G51," ")
C151: =C52 -> 0 | D151: =IF(C52>0,D52," ") | E151: =IF(C52>0,E52," ") | F151: =IF(C52>0,F52," ") | G151: =IF(C52>0,G52," ")
C152: =C53 -> 0 | D152: =IF(C53>0,D53," ") | E152: =IF(C53>0,E53," ") | F152: =IF(C53>0,F53," ") | G152: =IF(C53>0,G53," ")
C153: =C54 -> 0 | D153: =IF(C54>0,D54," ") | E153: =IF(C54>0,E54," ") | F153: =IF(C54>0,F54," ") | G153: =IF(C54>0,G54," ")
C154: =C55 -> 0 | D154: =IF(C55>0,D55," ") | E154: =IF(C55>0,E55," ") | F154: =IF(C55>0,F55," ") | G154: =IF(C55>0,G55," ")
C155: =C56 -> 0 | D155: =IF(C56>0,D56," ") | E155: =IF(C56>0,E56," ") | F155: =IF(C56>0,F56," ") | G155: =IF(C56>0,G56," ")
C156: =C57 -> 0 | D156: =IF(C57>0,D57," ") | E156: =IF(C57>0,E57," ") | F156: =IF(C57>0,F57," ") | G156: =IF(C57>0,G57," ")
C157: =C58 -> 0 | D157: =IF(C58>0,D58," ") | E157: =IF(C58>0,E58," ") | F157: =IF(C58>0,F58," ") | G157: =IF(C58>0,G58," ")
... C187: =C88 -> 0 | D187: =IF(C88>0,D88," ") | E187: =IF(C88>0,E88," ") | F187: =IF(C88>0,F88," ") | G187: =IF(C88>0,G88," ")
D188: =IF(C89>0,D89," ") | F188: =IF(C89>0,F89," ") | G188: =IF(C89>0,G89," ")
D189: =IF(C90>0,D90," ") | F189: =IF(C90>0,F90," ") | G189: =IF(C90>0,G90," ")
D191: =RAND() -> 0.13489326 | E191: =C11 -> 6 | F191: =IF(C91>0,F91," ") | G191: =IF(C91>0,G91," ")
D192: =RAND() -> 0.726127 | E192: =C12 -> 2
D193: =RAND() -> 0.25195212 | E193: =C13 -> 3
D194: =RAND() -> 0.041181128 | E194: =C14 -> 4
D195: =RAND() -> 0.21471641 | E195: =C15 -> 5
D196: =RAND() -> 0.21586038 | E196: =C16 -> 0
D197: =RAND() -> 0.7001577 | E197: =C17 -> 0
D198: =RAND() -> 0.013669843 | E198: =C18 -> 0
D199: =RAND() -> 0.89076251 | E199: =C19 -> 0
D200: =RAND() -> 0.68479608 | E200: =C20 -> 0
D201: =RAND() -> 0.40642508 | E201: =C21 -> 0
D202: =RAND() -> 0.12832416 | E202: =C22 -> 0
D203: =RAND() -> 0.69621477 | E203: =C23 -> 0
... D269: =RAND() -> 0.083111324 | E269: =C89 -> 0
D270: =RAND() -> 0.97022586

Sheet série B
C1: VAL D'OISE TROPHY UFOLEP JEUNES 2026
AF2: =IF(F7=1,SUM(H11:H90),IF(F7=2,SUM(K11:K90),IF(F7=3,SUM(N11:N90),IF(F7=4,SUM(Q11:Q90),IF(F7=5,SUM(T11:T90),IF(F7=6,SUM(W11:W90),IF(F7=7,SUM(Z11:Z90)))))))) -> 30 | AI2: Achères | AJ2: CLASSEMENTS DE CHAQUE MANCHE
AF3: =IF(F7=1,SUM(#REF!),IF(F7=2,SUM(#REF!),IF(F7=3,SUM(#REF!),IF(F7=4,SUM(#REF!),IF(F7=5,SUM(#REF!),IF(F7=6,SUM(#REF!),IF(F7=7,SUM(#REF!)))))))) -> #REF! | AI3: Osny
D4: garçons et filles | F4: 2018-2019 | AI4: Cergy
D5: dossards de 101 à 199 | AI5: Méry
F6: manque 105-111-114 | AI6: Bonnières
D7: Manche | E7: N° | F7: 1 | H7: Manche N°1 | K7: Manche N°2 | N7: Manche N°3 | Q7: Manche N°4 | T7: Manche N°5 | W7: Manche N°6 | Z7: Manche N°7 | AC7: Manche N°8 | AI7: Survilliers
C8: =IF(F7<8,AF2,IF(F7=8,SUM(AC11:AC90))) -> 30 | D8: Inscrits | H8: Achères | K8: Osny | N8: Cergy | Q8: Méry | T8: Bonnières | W8: Survilliers | Z8: Marines | AC8: Marly la ville | AI8: Marines
H9: 46053 | K9: 46067 | N9: 46095 | Q9: 46102 | T9: 46109 | W9: 46165 | Z9: 46179 | AC9: 46186 | AI9: Marly la ville
A10: classement | B10: total points | C10: doss | D10: noms+prénoms | E10: Sexe | F10: club | G10: fédé | H10: inscription n° 1 | I10: place épreuve n° 1 | J10: points épreuve n° 1 | K10: inscription n° 2 | L10: place épreuve n° 2 | M10: points épreuve n° 2 | N10: inscription n° 3 | O10: place épreuve n° 3 | P10: points épreuve n° 3 | Q10: inscription n° 4 | R10: place épreuve n° 4 | S10: points épreuve n° 4 | T10: inscription n° 5 | U10: place épreuve n° 5 | V10: points épreuve n° 5 | W10: inscription n° 6 | X10: place épreuve n° 6 | Y10: points épreuve n° 6 | Z10: inscription n° 7 | AA10: place épreuve n° 7 | AB10: points épreuve n° 7 | AC10: inscription n° 8 | AD10: place épreuve n° 8 | AE10: points épreuve n° 8 | AF10: total points | AG10: classement | AH10: total points modulé | AJ10: place épreuve n° 1 | AK10: dossards épreuve n° 1 | AM10: place épreuve n° 2 | AN10: dossards épreuve n° 2 | AP10: place épreuve n° 3 | AQ10: dossards épreuve n° 3 | AS10: place épreuve n° 4 | AT10: dossards épreuve n° 4 | AV10: place épreuve n° 5 | AW10: dossards épreuve n° 5 | AY10: place épreuve n° 6 | AZ10: dossards épreuve n° 6 | BB10: place épreuve n° 7 | BC10: dossards épreuve n° 7 | BE10: place épreuve n° 8 | BF10: dossards épreuve n° 8
A11: 1 | B11: =AF11 -> 50 | C11: 125 | D11: Arthur FRANCOISE | E11: H | F11: ORC EPONE | H11: 1 | I11: 1 | J11: =IF(I11=" ",0,IF(I11=1,50,IF(I11=2,48,IF(I11=3,46,IF(I11=4,44,IF(I11=5,42,IF(AND(I11>5,I11<45),46-I11,2))))))) -> 50 | L11: =IF(SUMIF(AN$11:AN$97,$C11,AM$11:AM$97)=0," ",SUMIF(AN$11:AN$97,$C11,AM$11:AM$97)) | M11: =IF(L11=" ",0,IF(L11=1,50,IF(L11=2,48,IF(L11=3,46,IF(L11=4,44,IF(L11=5,42,IF(AND(L11>5,L11<45),46-L11,2))))))) -> 0 | O11: =IF(SUMIF(AQ$11:AQ$97,$C11,AP$11:AP$97)=0," ",SUMIF(AQ$11:AQ$97,$C11,AP$11:AP$97)) | P11: =IF(O11=" ",0,IF(O11=1,50,IF(O11=2,48,IF(O11=3,46,IF(O11=4,44,IF(O11=5,42,IF(AND(O11>5,O11<45),46-O11,2))))))) -> 0 | R11: =IF(SUMIF(AT$11:AT$97,$C11,AS$11:AS$97)=0," ",SUMIF(AT$11:AT$97,$C11,AS$11:AS$97)) | S11: =IF(R11=" ",0,IF(R11=1,50,IF(R11=2,48,IF(R11=3,46,IF(R11=4,44,IF(R11=5,42,IF(AND(R11>5,R11<45),46-R11,2))))))) -> 0 | U11: =IF(SUMIF(AW$11:AW$97,$C11,AV$11:AV$97)=0," ",SUMIF(AW$11:AW$97,$C11,AV$11:AV$97)) | V11: =IF(U11=" ",0,IF(U11=1,50,IF(U11=2,48,IF(U11=3,46,IF(U11=4,44,IF(U11=5,42,IF(AND(U11>5,U11<45),46-U11,2))))))) -> 0 | X11: =IF(SUMIF(AZ$11:AZ$97,$C11,AY$11:AY$97)=0," ",SUMIF(AZ$11:AZ$97,$C11,AY$11:AY$97)) | Y11: =IF(X11=" ",0,IF(X11=1,50,IF(X11=2,48,IF(X11=3,46,IF(X11=4,44,IF(X11=5,42,IF(AND(X11>5,X11<45),46-X11,2))))))) -> 0 | AA11: =IF(SUMIF(BC$11:BC$97,$C11,BB$11:BB$97)=0," ",SUMIF(BC$11:BC$97,$C11,BB$11:BB$97)) | AB11: =IF(AA11=" ",0,IF(AA11=1,50,IF(AA11=2,48,IF(AA11=3,46,IF(AA11=4,44,IF(AA11=5,42,IF(AND(AA11>5,AA11<45),46-AA11,2))))))) -> 0 | AD11: =IF(SUMIF(BF$11:BF$97,$C11,BE$11:BE$97)=0," ",SUMIF(BF$11:BF$97,$C11,BE$11:BE$97)) | AE11: =IF(AD11=" ",0,IF(AD11=1,50,IF(AD11=2,48,IF(AD11=3,46,IF(AD11=4,44,IF(AD11=5,42,IF(AND(AD11>5,AD11<45),46-AD11,2))))))) -> 0 | AF11: =J11+M11+P11+S11+V11+Y11+AB11+AE11 -> 50 | AG11: =A11 -> 1 | AH11: =AF11-MIN(J11,M11,P11,S11,V11,Y11,AB11,AE11) -> 50 | AJ11: 1 | AK11: 125 | AM11: 1 | AP11: 1 | AS11: 1 | AV11: 1 | AY11: 1 | BB11: 1 | BE11: 1
A12: 2 | B12: =AF12 -> 48 | C12: 124 | D12: Tim JABIOL | E12: H | F12: Beauvais team cycliste | H12: 1 | I12: 2 | J12: =IF(I12=" ",0,IF(I12=1,50,IF(I12=2,48,IF(I12=3,46,IF(I12=4,44,IF(I12=5,42,IF(AND(I12>5,I12<45),46-I12,2))))))) -> 48 | L12: =IF(SUMIF(AN$11:AN$97,$C12,AM$11:AM$97)=0," ",SUMIF(AN$11:AN$97,$C12,AM$11:AM$97)) | M12: =IF(L12=" ",0,IF(L12=1,50,IF(L12=2,48,IF(L12=3,46,IF(L12=4,44,IF(L12=5,42,IF(AND(L12>5,L12<45),46-L12,2))))))) -> 0 | O12: =IF(SUMIF(AQ$11:AQ$97,$C12,AP$11:AP$97)=0," ",SUMIF(AQ$11:AQ$97,$C12,AP$11:AP$97)) | P12: =IF(O12=" ",0,IF(O12=1,50,IF(O12=2,48,IF(O12=3,46,IF(O12=4,44,IF(O12=5,42,IF(AND(O12>5,O12<45),46-O12,2))))))) -> 0 | R12: =IF(SUMIF(AT$11:AT$97,$C12,AS$11:AS$97)=0," ",SUMIF(AT$11:AT$97,$C12,AS$11:AS$97)) | S12: =IF(R12=" ",0,IF(R12=1,50,IF(R12=2,48,IF(R12=3,46,IF(R12=4,44,IF(R12=5,42,IF(AND(R12>5,R12<45),46-R12,2))))))) -> 0 | U12: =IF(SUMIF(AW$11:AW$97,$C12,AV$11:AV$97)=0," ",SUMIF(AW$11:AW$97,$C12,AV$11:AV$97)) | V12: =IF(U12=" ",0,IF(U12=1,50,IF(U12=2,48,IF(U12=3,46,IF(U12=4,44,IF(U12=5,42,IF(AND(U12>5,U12<45),46-U12,2))))))) -> 0 | X12: =IF(SUMIF(AZ$11:AZ$97,$C12,AY$11:AY$97)=0," ",SUMIF(AZ$11:AZ$97,$C12,AY$11:AY$97)) | Y12: =IF(X12=" ",0,IF(X12=1,50,IF(X12=2,48,IF(X12=3,46,IF(X12=4,44,IF(X12=5,42,IF(AND(X12>5,X12<45),46-X12,2))))))) -> 0 | AA12: =IF(SUMIF(BC$11:BC$97,$C12,BB$11:BB$97)=0," ",SUMIF(BC$11:BC$97,$C12,BB$11:BB$97)) | AB12: =IF(AA12=" ",0,IF(AA12=1,50,IF(AA12=2,48,IF(AA12=3,46,IF(AA12=4,44,IF(AA12=5,42,IF(AND(AA12>5,AA12<45),46-AA12,2))))))) -> 0 | AD12: =IF(SUMIF(BF$11:BF$97,$C12,BE$11:BE$97)=0," ",SUMIF(BF$11:BF$97,$C12,BE$11:BE$97)) | AE12: =IF(AD12=" ",0,IF(AD12=1,50,IF(AD12=2,48,IF(AD12=3,46,IF(AD12=4,44,IF(AD12=5,42,IF(AND(AD12>5,AD12<45),46-AD12,2))))))) -> 0 | AF12: =J12+M12+P12+S12+V12+Y12+AB12+AE12 -> 48 | AG12: =A12 -> 2 | AH12: =AF12-MIN(J12,M12,P12,S12,V12,Y12,AB12,AE12) -> 48 | AJ12: 2 | AK12: 124 | AM12: 2 | AP12: 2 | AS12: 2 | AV12: 2 | AY12: 2 | BB12: 2 | BE12: 2
A13: 3 | B13: =AF13 -> 46 | C13: 113 | D13: Melece SIMIEN | E13: H | F13: Olympique cycliste Val d'Oise | H13: 1 | I13: 3 | J13: =IF(I13=" ",0,IF(I13=1,50,IF(I13=2,48,IF(I13=3,46,IF(I13=4,44,IF(I13=5,42,IF(AND(I13>5,I13<45),46-I13,2))))))) -> 46 | L13: =IF(SUMIF(AN$11:AN$97,$C13,AM$11:AM$97)=0," ",SUMIF(AN$11:AN$97,$C13,AM$11:AM$97)) | M13: =IF(L13=" ",0,IF(L13=1,50,IF(L13=2,48,IF(L13=3,46,IF(L13=4,44,IF(L13=5,42,IF(AND(L13>5,L13<45),46-L13,2))))))) -> 0 | O13: =IF(SUMIF(AQ$11:AQ$97,$C13,AP$11:AP$97)=0," ",SUMIF(AQ$11:AQ$97,$C13,AP$11:AP$97)) | P13: =IF(O13=" ",0,IF(O13=1,50,IF(O13=2,48,IF(O13=3,46,IF(O13=4,44,IF(O13=5,42,IF(AND(O13>5,O13<45),46-O13,2))))))) -> 0 | R13: =IF(SUMIF(AT$11:AT$97,$C13,AS$11:AS$97)=0," ",SUMIF(AT$11:AT$97,$C13,AS$11:AS$97)) | S13: =IF(R13=" ",0,IF(R13=1,50,IF(R13=2,48,IF(R13=3,46,IF(R13=4,44,IF(R13=5,42,IF(AND(R13>5,R13<45),46-R13,2))))))) -> 0 | U13: =IF(SUMIF(AW$11:AW$97,$C13,AV$11:AV$97)=0," ",SUMIF(AW$11:AW$97,$C13,AV$11:AV$97)) | V13: =IF(U13=" ",0,IF(U13=1,50,IF(U13=2,48,IF(U13=3,46,IF(U13=4,44,IF(U13=5,42,IF(AND(U13>5,U13<45),46-U13,2))))))) -> 0 | X13: =IF(SUMIF(AZ$11:AZ$97,$C13,AY$11:AY$97)=0," ",SUMIF(AZ$11:AZ$97,$C13,AY$11:AY$97)) | Y13: =IF(X13=" ",0,IF(X13=1,50,IF(X13=2,48,IF(X13=3,46,IF(X13=4,44,IF(X13=5,42,IF(AND(X13>5,X13<45),46-X13,2))))))) -> 0 | AA13: =IF(SUMIF(BC$11:BC$97,$C13,BB$11:BB$97)=0," ",SUMIF(BC$11:BC$97,$C13,BB$11:BB$97)) | AB13: =IF(AA13=" ",0,IF(AA13=1,50,IF(AA13=2,48,IF(AA13=3,46,IF(AA13=4,44,IF(AA13=5,42,IF(AND(AA13>5,AA13<45),46-AA13,2))))))) -> 0 | AD13: =IF(SUMIF(BF$11:BF$97,$C13,BE$11:BE$97)=0," ",SUMIF(BF$11:BF$97,$C13,BE$11:BE$97)) | AE13: =IF(AD13=" ",0,IF(AD13=1,50,IF(AD13=2,48,IF(AD13=3,46,IF(AD13=4,44,IF(AD13=5,42,IF(AND(AD13>5,AD13<45),46-AD13,2))))))) -> 0 | AF13: =J13+M13+P13+S13+V13+Y13+AB13+AE13 -> 46 | AG13: =A13 -> 3 | AH13: =AF13-MIN(J13,M13,P13,S13,V13,Y13,AB13,AE13) -> 46 | AJ13: 3 | AK13: 113 | AM13: 3 | AP13: 3 | AS13: 3 | AV13: 3 | AY13: 3 | BB13: 3 | BE13: 3
A14: 4 | B14: =AF14 -> 44 | C14: 122 | D14: Mael NEVEU | E14: H | F14: ORC Epone | H14: 1 | I14: 4 | J14: =IF(I14=" ",0,IF(I14=1,50,IF(I14=2,48,IF(I14=3,46,IF(I14=4,44,IF(I14=5,42,IF(AND(I14>5,I14<45),46-I14,2))))))) -> 44 | L14: =IF(SUMIF(AN$11:AN$97,$C14,AM$11:AM$97)=0," ",SUMIF(AN$11:AN$97,$C14,AM$11:AM$97)) | M14: =IF(L14=" ",0,IF(L14=1,50,IF(L14=2,48,IF(L14=3,46,IF(L14=4,44,IF(L14=5,42,IF(AND(L14>5,L14<45),46-L14,2))))))) -> 0 | O14: =IF(SUMIF(AQ$11:AQ$97,$C14,AP$11:AP$97)=0," ",SUMIF(AQ$11:AQ$97,$C14,AP$11:AP$97)) | P14: =IF(O14=" ",0,IF(O14=1,50,IF(O14=2,48,IF(O14=3,46,IF(O14=4,44,IF(O14=5,42,IF(AND(O14>5,O14<45),46-O14,2))))))) -> 0 | R14: =IF(SUMIF(AT$11:AT$97,$C14,AS$11:AS$97)=0," ",SUMIF(AT$11:AT$97,$C14,AS$11:AS$97)) | S14: =IF(R14=" ",0,IF(R14=1,50,IF(R14=2,48,IF(R14=3,46,IF(R14=4,44,IF(R14=5,42,IF(AND(R14>5,R14<45),46-R14,2))))))) -> 0 | U14: =IF(SUMIF(AW$11:AW$97,$C14,AV$11:AV$97)=0," ",SUMIF(AW$11:AW$97,$C14,AV$11:AV$97)) | V14: =IF(U14=" ",0,IF(U14=1,50,IF(U14=2,48,IF(U14=3,46,IF(U14=4,44,IF(U14=5,42,IF(AND(U14>5,U14<45),46-U14,2))))))) -> 0 | X14: =IF(SUMIF(AZ$11:AZ$97,$C14,AY$11:AY$97)=0," ",SUMIF(AZ$11:AZ$97,$C14,AY$11:AY$97)) | Y14: =IF(X14=" ",0,IF(X14=1,50,IF(X14=2,48,IF(X14=3,46,IF(X14=4,44,IF(X14=5,42,IF(AND(X14>5,X14<45),46-X14,2))))))) -> 0 | AA14: =IF(SUMIF(BC$11:BC$97,$C14,BB$11:BB$97)=0," ",SUMIF(BC$11:BC$97,$C14,BB$11:BB$97)) | AB14: =IF(AA14=" ",0,IF(AA14=1,50,IF(AA14=2,48,IF(AA14=3,46,IF(AA14=4,44,IF(AA14=5,42,IF(AND(AA14>5,AA14<45),46-AA14,2))))))) -> 0 | AD14: =IF(SUMIF(BF$11:BF$97,$C14,BE$11:BE$97)=0," ",SUMIF(BF$11:BF$97,$C14,BE$11:BE$97)) | AE14: =IF(AD14=" ",0,IF(AD14=1,50,IF(AD14=2,48,IF(AD14=3,46,IF(AD14=4,44,IF(AD14=5,42,IF(AND(AD14>5,AD14<45),46-AD14,2))))))) -> 0 | AF14: =J14+M14+P14+S14+V14+Y14+AB14+AE14 -> 44 | AG14: =A14 -> 4 | AH14: =AF14-MIN(J14,M14,P14,S14,V14,Y14,AB14,AE14) -> 44 | AJ14: 4 | AK14: 122 | AM14: 4 | AP14: 4 | AS14: 4 | AV14: 4 | AY14: 4 | BB14: 4 | BE14: 4
A15: 5 | B15: =AF15 -> 42 | C15: 126 | D15: Leonard LELIMOUSIN | E15: H | F15: ORC Epone | H15: 1 | I15: 5 | J15: =IF(I15=" ",0,IF(I15=1,50,IF(I15=2,48,IF(I15=3,46,IF(I15=4,44,IF(I15=5,42,IF(AND(I15>5,I15<45),46-I15,2))))))) -> 42 | L15: =IF(SUMIF(AN$11:AN$97,$C15,AM$11:AM$97)=0," ",SUMIF(AN$11:AN$97,$C15,AM$11:AM$97)) | M15: =IF(L15=" ",0,IF(L15=1,50,IF(L15=2,48,IF(L15=3,46,IF(L15=4,44,IF(L15=5,42,IF(AND(L15>5,L15<45),46-L15,2))))))) -> 0 | O15: =IF(SUMIF(AQ$11:AQ$97,$C15,AP$11:AP$97)=0," ",SUMIF(AQ$11:AQ$97,$C15,AP$11:AP$97)) | P15: =IF(O15=" ",0,IF(O15=1,50,IF(O15=2,48,IF(O15=3,46,IF(O15=4,44,IF(O15=5,42,IF(AND(O15>5,O15<45),46-O15,2))))))) -> 0 | R15: =IF(SUMIF(AT$11:AT$97,$C15,AS$11:AS$97)=0," ",SUMIF(AT$11:AT$97,$C15,AS$11:AS$97)) | S15: =IF(R15=" ",0,IF(R15=1,50,IF(R15=2,48,IF(R15=3,46,IF(R15=4,44,IF(R15=5,42,IF(AND(R15>5,R15<45),46-R15,2))))))) -> 0 | U15: =IF(SUMIF(AW$11:AW$97,$C15,AV$11:AV$97)=0," ",SUMIF(AW$11:AW$97,$C15,AV$11:AV$97)) | V15: =IF(U15=" ",0,IF(U15=1,50,IF(U15=2,48,IF(U15=3,46,IF(U15=4,44,IF(U15=5,42,IF(AND(U15>5,U15<45),46-U15,2))))))) -> 0 | X15: =IF(SUMIF(AZ$11:AZ$97,$C15,AY$11:AY$97)=0," ",SUMIF(AZ$11:AZ$97,$C15,AY$11:AY$97)) | Y15: =IF(X15=" ",0,IF(X15=1,50,IF(X15=2,48,IF(X15=3,46,IF(X15=4,44,IF(X15=5,42,IF(AND(X15>5,X15<45),46-X15,2))))))) -> 0 | AA15: =IF(SUMIF(BC$11:BC$97,$C15,BB$11:BB$97)=0," ",SUMIF(BC$11:BC$97,$C15,BB$11:BB$97)) | AB15: =IF(AA15=" ",0,IF(AA15=1,50,IF(AA15=2,48,IF(AA15=3,46,IF(AA15=4,44,IF(AA15=5,42,IF(AND(AA15>5,AA15<45),46-AA15,2))))))) -> 0 | AD15: =IF(SUMIF(BF$11:BF$97,$C15,BE$11:BE$97)=0," ",SUMIF(BF$11:BF$97,$C15,BE$11:BE$97)) | AE15: =IF(AD15=" ",0,IF(AD15=1,50,IF(AD15=2,48,IF(AD15=3,46,IF(AD15=4,44,IF(AD15=5,42,IF(AND(AD15>5,AD15<45),46-AD15,2))))))) -> 0 | AF15: =J15+M15+P15+S15+V15+Y15+AB15+AE15 -> 42 | AG15: =A15 -> 5 | AH15: =AF15-MIN(J15,M15,P15,S15,V15,Y15,AB15,AE15) -> 42 | AJ15: 5 | AK15: 126 | AM15: 5 | AP15: 5 | AS15: 5 | AV15: 5 | AY15: 5 | BB15: 5 | BE15: 5
A16: 6 | B16: =AF16 -> 40 | C16: 102 | D16: Jae AUGUSTYNOWICZ | E16: H | F16: BONNIERES VTT | H16: 1 | I16: 6 | J16: =IF(I16=" ",0,IF(I16=1,50,IF(I16=2,48,IF(I16=3,46,IF(I16=4,44,IF(I16=5,42,IF(AND(I16>5,I16<45),46-I16,2))))))) -> 40 | L16: =IF(SUMIF(AN$11:AN$97,$C16,AM$11:AM$97)=0," ",SUMIF(AN$11:AN$97,$C16,AM$11:AM$97)) | M16: =IF(L16=" ",0,IF(L16=1,50,IF(L16=2,48,IF(L16=3,46,IF(L16=4,44,IF(L16=5,42,IF(AND(L16>5,L16<45),46-L16,2))))))) -> 0 | O16: =IF(SUMIF(AQ$11:AQ$97,$C16,AP$11:AP$97)=0," ",SUMIF(AQ$11:AQ$97,$C16,AP$11:AP$97)) | P16: =IF(O16=" ",0,IF(O16=1,50,IF(O16=2,48,IF(O16=3,46,IF(O16=4,44,IF(O16=5,42,IF(AND(O16>5,O16<45),46-O16,2))))))) -> 0 | R16: =IF(SUMIF(AT$11:AT$97,$C16,AS$11:AS$97)=0," ",SUMIF(AT$11:AT$97,$C16,AS$11:AS$97)) | S16: =IF(R16=" ",0,IF(R16=1,50,IF(R16=2,48,IF(R16=3,46,IF(R16=4,44,IF(R16=5,42,IF(AND(R16>5,R16<45),46-R16,2))))))) -> 0 | U16: =IF(SUMIF(AW$11:AW$97,$C16,AV$11:AV$97)=0," ",SUMIF(AW$11:AW$97,$C16,AV$11:AV$97)) | V16: =IF(U16=" ",0,IF(U16=1,50,IF(U16=2,48,IF(U16=3,46,IF(U16=4,44,IF(U16=5,42,IF(AND(U16>5,U16<45),46-U16,2))))))) -> 0 | X16: =IF(SUMIF(AZ$11:AZ$97,$C16,AY$11:AY$97)=0," ",SUMIF(AZ$11:AZ$97,$C16,AY$11:AY$97)) | Y16: =IF(X16=" ",0,IF(X16=1,50,IF(X16=2,48,IF(X16=3,46,IF(X16=4,44,IF(X16=5,42,IF(AND(X16>5,X16<45),46-X16,2))))))) -> 0 | AA16: =IF(SUMIF(BC$11:BC$97,$C16,BB$11:BB$97)=0," ",SUMIF(BC$11:BC$97,$C16,BB$11:BB$97)) | AB16: =IF(AA16=" ",0,IF(AA16=1,50,IF(AA16=2,48,IF(AA16=3,46,IF(AA16=4,44,IF(AA16=5,42,IF(AND(AA16>5,AA16<45),46-AA16,2))))))) -> 0 | AD16: =IF(SUMIF(BF$11:BF$97,$C16,BE$11:BE$97)=0," ",SUMIF(BF$11:BF$97,$C16,BE$11:BE$97)) | AE16: =IF(AD16=" ",0,IF(AD16=1,50,IF(AD16=2,48,IF(AD16=3,46,IF(AD16=4,44,IF(AD16=5,42,IF(AND(AD16>5,AD16<45),46-AD16,2))))))) -> 0 | AF16: =J16+M16+P16+S16+V16+Y16+AB16+AE16 -> 40 | AG16: =A16 -> 6 | AH16: =AF16-MIN(J16,M16,P16,S16,V16,Y16,AB16,AE16) -> 40 | AJ16: 6 | AK16: 102 | AM16: 6 | AP16: 6 | AS16: 6 | AV16: 6 | AY16: 6 | BB16: 6 | BE16: 6
A17: 7 | B17: =AF17 -> 39 | C17: 119 | D17: Tom TREHOUT | E17: H | F17: Orc Epone | H17: 1 | I17: 7 | J17: =IF(I17=" ",0,IF(I17=1,50,IF(I17=2,48,IF(I17=3,46,IF(I17=4,44,IF(I17=5,42,IF(AND(I17>5,I17<45),46-I17,2))))))) -> 39 | L17: =IF(SUMIF(AN$11:AN$97,$C17,AM$11:AM$97)=0," ",SUMIF(AN$11:AN$97,$C17,AM$11:AM$97)) | M17: =IF(L17=" ",0,IF(L17=1,50,IF(L17=2,48,IF(L17=3,46,IF(L17=4,44,IF(L17=5,42,IF(AND(L17>5,L17<45),46-L17,2))))))) -> 0 | O17: =IF(SUMIF(AQ$11:AQ$97,$C17,AP$11:AP$97)=0," ",SUMIF(AQ$11:AQ$97,$C17,AP$11:AP$97)) | P17: =IF(O17=" ",0,IF(O17=1,50,IF(O17=2,48,IF(O17=3,46,IF(O17=4,44,IF(O17=5,42,IF(AND(O17>5,O17<45),46-O17,2))))))) -> 0 | R17: =IF(SUMIF(AT$11:AT$97,$C17,AS$11:AS$97)=0," ",SUMIF(AT$11:AT$97,$C17,AS$11:AS$97)) | S17: =IF(R17=" ",0,IF(R17=1,50,IF(R17=2,48,IF(R17=3,46,IF(R17=4,44,IF(R17=5,42,IF(AND(R17>5,R17<45),46-R17,2))))))) -> 0 | U17: =IF(SUMIF(AW$11:AW$97,$C17,AV$11:AV$97)=0," ",SUMIF(AW$11:AW$97,$C17,AV$11:AV$97)) | V17: =IF(U17=" ",0,IF(U17=1,50,IF(U17=2,48,IF(U17=3,46,IF(U17=4,44,IF(U17=5,42,IF(AND(U17>5,U17<45),46-U17,2))))))) -> 0 | X17: =IF(SUMIF(AZ$11:AZ$97,$C17,AY$11:AY$97)=0," ",SUMIF(AZ$11:AZ$97,$C17,AY$11:AY$97)) | Y17: =IF(X17=" ",0,IF(X17=1,50,IF(X17=2,48,IF(X17=3,46,IF(X17=4,44,IF(X17=5,42,IF(AND(X17>5,X17<45),46-X17,2))))))) -> 0 | AA17: =IF(SUMIF(BC$11:BC$97,$C17,BB$11:BB$97)=0," ",SUMIF(BC$11:BC$97,$C17,BB$11:BB$97)) | AB17: =IF(AA17=" ",0,IF(AA17=1,50,IF(AA17=2,48,IF(AA17=3,46,IF(AA17=4,44,IF(AA17=5,42,IF(AND(AA17>5,AA17<45),46-AA17,2))))))) -> 0 | AD17: =IF(SUMIF(BF$11:BF$97,$C17,BE$11:BE$97)=0," ",SUMIF(BF$11:BF$97,$C17,BE$11:BE$97)) | AE17: =IF(AD17=" ",0,IF(AD17=1,50,IF(AD17=2,48,IF(AD17=3,46,IF(AD17=4,44,IF(AD17=5,42,IF(AND(AD17>5,AD17<45),46-AD17,2))))))) -> 0 | AF17: =J17+M17+P17+S17+V17+Y17+AB17+AE17 -> 39 | AG17: =A17 -> 7 | AH17: =AF17-MIN(J17,M17,P17,S17,V17,Y17,AB17,AE17) -> 39 | AJ17: 7 | AK17: 119 | AM17: 7 | AP17: 7 | AS17: 7 | AV17: 7 | AY17: 7 | BB17: 7 | BE17: 7
A18: 8 | B18: =AF18 -> 38 | C18: 128 | D18: Jules DUMAY | E18: H | F18: ORC Epone | H18: 1 | I18: 8 | J18: =IF(I18=" ",0,IF(I18=1,50,IF(I18=2,48,IF(I18=3,46,IF(I18=4,44,IF(I18=5,42,IF(AND(I18>5,I18<45),46-I18,2))))))) -> 38 | L18: =IF(SUMIF(AN$11:AN$97,$C18,AM$11:AM$97)=0," ",SUMIF(AN$11:AN$97,$C18,AM$11:AM$97)) | M18: =IF(L18=" ",0,IF(L18=1,50,IF(L18=2,48,IF(L18=3,46,IF(L18=4,44,IF(L18=5,42,IF(AND(L18>5,L18<45),46-L18,2))))))) -> 0 | O18: =IF(SUMIF(AQ$11:AQ$97,$C18,AP$11:AP$97)=0," ",SUMIF(AQ$11:AQ$97,$C18,AP$11:AP$97)) | P18: =IF(O18=" ",0,IF(O18=1,50,IF(O18=2,48,IF(O18=3,46,IF(O18=4,44,IF(O18=5,42,IF(AND(O18>5,O18<45),46-O18,2))))))) -> 0 | R18: =IF(SUMIF(AT$11:AT$97,$C18,AS$11:AS$97)=0," ",SUMIF(AT$11:AT$97,$C18,AS$11:AS$97)) | S18: =IF(R18=" ",0,IF(R18=1,50,IF(R18=2,48,IF(R18=3,46,IF(R18=4,44,IF(R18=5,42,IF(AND(R18>5,R18<45),46-R18,2))))))) -> 0 | U18: =IF(SUMIF(AW$11:AW$97,$C18,AV$11:AV$97)=0," ",SUMIF(AW$11:AW$97,$C18,AV$11:AV$97)) | V18: =IF(U18=" ",0,IF(U18=1,50,IF(U18=2,48,IF(U18=3,46,IF(U18=4,44,IF(U18=5,42,IF(AND(U18>5,U18<45),46-U18,2))))))) -> 0 | X18: =IF(SUMIF(AZ$11:AZ$97,$C18,AY$11:AY$97)=0," ",SUMIF(AZ$11:AZ$97,$C18,AY$11:AY$97)) | Y18: =IF(X18=" ",0,IF(X18=1,50,IF(X18=2,48,IF(X18=3,46,IF(X18=4,44,IF(X18=5,42,IF(AND(X18>5,X18<45),46-X18,2))))))) -> 0 | AA18: =IF(SUMIF(BC$11:BC$97,$C18,BB$11:BB$97)=0," ",SUMIF(BC$11:BC$97,$C18,BB$11:BB$97)) | AB18: =IF(AA18=" ",0,IF(AA18=1,50,IF(AA18=2,48,IF(AA18=3,46,IF(AA18=4,44,IF(AA18=5,42,IF(AND(AA18>5,AA18<45),46-AA18,2))))))) -> 0 | AD18: =IF(SUMIF(BF$11:BF$97,$C18,BE$11:BE$97)=0," ",SUMIF(BF$11:BF$97,$C18,BE$11:BE$97)) | AE18: =IF(AD18=" ",0,IF(AD18=1,50,IF(AD18=2,48,IF(AD18=3,46,IF(AD18=4,44,IF(AD18=5,42,IF(AND(AD18>5,AD18<45),46-AD18,2))))))) -> 0 | AF18: =J18+M18+P18+S18+V18+Y18+AB18+AE18 -> 38 | AG18: =A18 -> 8 | AH18: =AF18-MIN(J18,M18,P18,S18,V18,Y18,AB18,AE18) -> 38 | AJ18: 8 | AK18: 128 | AM18: 8 | AP18: 8 | AS18: 8 | AV18: 8 | AY18: 8 | BB18: 8 | BE18: 8
A19: 9 | B19: =AF19 -> 37 | C19: 101 | D19: Louis FROT | E19: H | F19: MARINES | H19: 1 | I19: 9 | J19: =IF(I19=" ",0,IF(I19=1,50,IF(I19=2,48,IF(I19=3,46,IF(I19=4,44,IF(I19=5,42,IF(AND(I19>5,I19<45),46-I19,2))))))) -> 37 | L19: =IF(SUMIF(AN$11:AN$97,$C19,AM$11:AM$97)=0," ",SUMIF(AN$11:AN$97,$C19,AM$11:AM$97)) | M19: =IF(L19=" ",0,IF(L19=1,50,IF(L19=2,48,IF(L19=3,46,IF(L19=4,44,IF(L19=5,42,IF(AND(L19>5,L19<45),46-L19,2))))))) -> 0 | O19: =IF(SUMIF(AQ$11:AQ$97,$C19,AP$11:AP$97)=0," ",SUMIF(AQ$11:AQ$97,$C19,AP$11:AP$97)) | P19: =IF(O19=" ",0,IF(O19=1,50,IF(O19=2,48,IF(O19=3,46,IF(O19=4,44,IF(O19=5,42,IF(AND(O19>5,O19<45),46-O19,2))))))) -> 0 | R19: =IF(SUMIF(AT$11:AT$97,$C19,AS$11:AS$97)=0," ",SUMIF(AT$11:AT$97,$C19,AS$11:AS$97)) | S19: =IF(R19=" ",0,IF(R19=1,50,IF(R19=2,48,IF(R19=3,46,IF(R19=4,44,IF(R19=5,42,IF(AND(R19>5,R19<45),46-R19,2))))))) -> 0 | U19: =IF(SUMIF(AW$11:AW$97,$C19,AV$11:AV$97)=0," ",SUMIF(AW$11:AW$97,$C19,AV$11:AV$97)) | V19: =IF(U19=" ",0,IF(U19=1,50,IF(U19=2,48,IF(U19=3,46,IF(U19=4,44,IF(U19=5,42,IF(AND(U19>5,U19<45),46-U19,2))))))) -> 0 | X19: =IF(SUMIF(AZ$11:AZ$97,$C19,AY$11:AY$97)=0," ",SUMIF(AZ$11:AZ$97,$C19,AY$11:AY$97)) | Y19: =IF(X19=" ",0,IF(X19=1,50,IF(X19=2,48,IF(X19=3,46,IF(X19=4,44,IF(X19=5,42,IF(AND(X19>5,X19<45),46-X19,2))))))) -> 0 | AA19: =IF(SUMIF(BC$11:BC$97,$C19,BB$11:BB$97)=0," ",SUMIF(BC$11:BC$97,$C19,BB$11:BB$97)) | AB19: =IF(AA19=" ",0,IF(AA19=1,50,IF(AA19=2,48,IF(AA19=3,46,IF(AA19=4,44,IF(AA19=5,42,IF(AND(AA19>5,AA19<45),46-AA19,2))))))) -> 0 | AD19: =IF(SUMIF(BF$11:BF$97,$C19,BE$11:BE$97)=0," ",SUMIF(BF$11:BF$97,$C19,BE$11:BE$97)) | AE19: =IF(AD19=" ",0,IF(AD19=1,50,IF(AD19=2,48,IF(AD19=3,46,IF(AD19=4,44,IF(AD19=5,42,IF(AND(AD19>5,AD19<45),46-AD19,2))))))) -> 0 | AF19: =J19+M19+P19+S19+V19+Y19+AB19+AE19 -> 37 | AG19: =A19 -> 9 | AH19: =AF19-MIN(J19,M19,P19,S19,V19,Y19,AB19,AE19) -> 37 | AJ19: 9 | AK19: 101 | AM19: 9 | AP19: 9 | AS19: 9 | AV19: 9 | AY19: 9 | BB19: 9 | BE19: 9
A20: 10 | B20: =AF20 -> 36 | C20: 129 | D20: Louis CATTANEO | E20: H | F20: CLAMART | H20: 1 | I20: 10 | J20: =IF(I20=" ",0,IF(I20=1,50,IF(I20=2,48,IF(I20=3,46,IF(I20=4,44,IF(I20=5,42,IF(AND(I20>5,I20<45),46-I20,2))))))) -> 36 | L20: =IF(SUMIF(AN$11:AN$97,$C20,AM$11:AM$97)=0," ",SUMIF(AN$11:AN$97,$C20,AM$11:AM$97)) | M20: =IF(L20=" ",0,IF(L20=1,50,IF(L20=2,48,IF(L20=3,46,IF(L20=4,44,IF(L20=5,42,IF(AND(L20>5,L20<45),46-L20,2))))))) -> 0 | O20: =IF(SUMIF(AQ$11:AQ$97,$C20,AP$11:AP$97)=0," ",SUMIF(AQ$11:AQ$97,$C20,AP$11:AP$97)) | P20: =IF(O20=" ",0,IF(O20=1,50,IF(O20=2,48,IF(O20=3,46,IF(O20=4,44,IF(O20=5,42,IF(AND(O20>5,O20<45),46-O20,2))))))) -> 0 | R20: =IF(SUMIF(AT$11:AT$97,$C20,AS$11:AS$97)=0," ",SUMIF(AT$11:AT$97,$C20,AS$11:AS$97)) | S20: =IF(R20=" ",0,IF(R20=1,50,IF(R20=2,48,IF(R20=3,46,IF(R20=4,44,IF(R20=5,42,IF(AND(R20>5,R20<45),46-R20,2))))))) -> 0 | U20: =IF(SUMIF(AW$11:AW$97,$C20,AV$11:AV$97)=0," ",SUMIF(AW$11:AW$97,$C20,AV$11:AV$97)) | V20: =IF(U20=" ",0,IF(U20=1,50,IF(U20=2,48,IF(U20=3,46,IF(U20=4,44,IF(U20=5,42,IF(AND(U20>5,U20<45),46-U20,2))))))) -> 0 | X20: =IF(SUMIF(AZ$11:AZ$97,$C20,AY$11:AY$97)=0," ",SUMIF(AZ$11:AZ$97,$C20,AY$11:AY$97)) | Y20: =IF(X20=" ",0,IF(X20=1,50,IF(X20=2,48,IF(X20=3,46,IF(X20=4,44,IF(X20=5,42,IF(AND(X20>5,X20<45),46-X20,2))))))) -> 0 | AA20: =IF(SUMIF(BC$11:BC$97,$C20,BB$11:BB$97)=0," ",SUMIF(BC$11:BC$97,$C20,BB$11:BB$97)) | AB20: =IF(AA20=" ",0,IF(AA20=1,50,IF(AA20=2,48,IF(AA20=3,46,IF(AA20=4,44,IF(AA20=5,42,IF(AND(AA20>5,AA20<45),46-AA20,2))))))) -> 0 | AD20: =IF(SUMIF(BF$11:BF$97,$C20,BE$11:BE$97)=0," ",SUMIF(BF$11:BF$97,$C20,BE$11:BE$97)) | AE20: =IF(AD20=" ",0,IF(AD20=1,50,IF(AD20=2,48,IF(AD20=3,46,IF(AD20=4,44,IF(AD20=5,42,IF(AND(AD20>5,AD20<45),46-AD20,2))))))) -> 0 | AF20: =J20+M20+P20+S20+V20+Y20+AB20+AE20 -> 36 | AG20: =A20 -> 10 | AH20: =AF20-MIN(J20,M20,P20,S20,V20,Y20,AB20,AE20) -> 36 | AJ20: 10 | AK20: 129 | AM20: 10 | AP20: 10 | AS20: 10 | AV20: 10 | AY20: 10 | BB20: 10 | BE20: 10
A21: 11 | B21: =AF21 -> 35 | C21: 182 | D21: Louise LECLERC CHATENET | E21: F | F21: UCVE ETREPAGNY | H21: 1 | I21: 11 | J21: =IF(I21=" ",0,IF(I21=1,50,IF(I21=2,48,IF(I21=3,46,IF(I21=4,44,IF(I21=5,42,IF(AND(I21>5,I21<45),46-I21,2))))))) -> 35 | L21: =IF(SUMIF(AN$11:AN$97,$C21,AM$11:AM$97)=0," ",SUMIF(AN$11:AN$97,$C21,AM$11:AM$97)) | M21: =IF(L21=" ",0,IF(L21=1,50,IF(L21=2,48,IF(L21=3,46,IF(L21=4,44,IF(L21=5,42,IF(AND(L21>5,L21<45),46-L21,2))))))) -> 0 | O21: =IF(SUMIF(AQ$11:AQ$97,$C21,AP$11:AP$97)=0," ",SUMIF(AQ$11:AQ$97,$C21,AP$11:AP$97)) | P21: =IF(O21=" ",0,IF(O21=1,50,IF(O21=2,48,IF(O21=3,46,IF(O21=4,44,IF(O21=5,42,IF(AND(O21>5,O21<45),46-O21,2))))))) -> 0 | R21: =IF(SUMIF(AT$11:AT$97,$C21,AS$11:AS$97)=0," ",SUMIF(AT$11:AT$97,$C21,AS$11:AS$97)) | S21: =IF(R21=" ",0,IF(R21=1,50,IF(R21=2,48,IF(R21=3,46,IF(R21=4,44,IF(R21=5,42,IF(AND(R21>5,R21<45),46-R21,2))))))) -> 0 | U21: =IF(SUMIF(AW$11:AW$97,$C21,AV$11:AV$97)=0," ",SUMIF(AW$11:AW$97,$C21,AV$11:AV$97)) | V21: =IF(U21=" ",0,IF(U21=1,50,IF(U21=2,48,IF(U21=3,46,IF(U21=4,44,IF(U21=5,42,IF(AND(U21>5,U21<45),46-U21,2))))))) -> 0 | X21: =IF(SUMIF(AZ$11:AZ$97,$C21,AY$11:AY$97)=0," ",SUMIF(AZ$11:AZ$97,$C21,AY$11:AY$97)) | Y21: =IF(X21=" ",0,IF(X21=1,50,IF(X21=2,48,IF(X21=3,46,IF(X21=4,44,IF(X21=5,42,IF(AND(X21>5,X21<45),46-X21,2))))))) -> 0 | AA21: =IF(SUMIF(BC$11:BC$97,$C21,BB$11:BB$97)=0," ",SUMIF(BC$11:BC$97,$C21,BB$11:BB$97)) | AB21: =IF(AA21=" ",0,IF(AA21=1,50,IF(AA21=2,48,IF(AA21=3,46,IF(AA21=4,44,IF(AA21=5,42,IF(AND(AA21>5,AA21<45),46-AA21,2))))))) -> 0 | AD21: =IF(SUMIF(BF$11:BF$97,$C21,BE$11:BE$97)=0," ",SUMIF(BF$11:BF$97,$C21,BE$11:BE$97)) | AE21: =IF(AD21=" ",0,IF(AD21=1,50,IF(AD21=2,48,IF(AD21=3,46,IF(AD21=4,44,IF(AD21=5,42,IF(AND(AD21>5,AD21<45),46-AD21,2))))))) -> 0 | AF21: =J21+M21+P21+S21+V21+Y21+AB21+AE21 -> 35 | AG21: =A21 -> 11 | AH21: =AF21-MIN(J21,M21,P21,S21,V21,Y21,AB21,AE21) -> 35 | AJ21: 11 | AK21: 182 | AM21: 11 | AP21: 11 | AS21: 11 | AV21: 11 | AY21: 11 | BB21: 11 | BE21: 11
A22: 12 | B22: =AF22 -> 34 | C22: 117 | D22: Guilhem DACHY | E22: H | F22: CVC Mery | H22: 1 | I22: 12 | J22: =IF(I22=" ",0,IF(I22=1,50,IF(I22=2,48,IF(I22=3,46,IF(I22=4,44,IF(I22=5,42,IF(AND(I22>5,I22<45),46-I22,2))))))) -> 34 | L22: =IF(SUMIF(AN$11:AN$97,$C22,AM$11:AM$97)=0," ",SUMIF(AN$11:AN$97,$C22,AM$11:AM$97)) | M22: =IF(L22=" ",0,IF(L22=1,50,IF(L22=2,48,IF(L22=3,46,IF(L22=4,44,IF(L22=5,42,IF(AND(L22>5,L22<45),46-L22,2))))))) -> 0 | O22: =IF(SUMIF(AQ$11:AQ$97,$C22,AP$11:AP$97)=0," ",SUMIF(AQ$11:AQ$97,$C22,AP$11:AP$97)) | P22: =IF(O22=" ",0,IF(O22=1,50,IF(O22=2,48,IF(O22=3,46,IF(O22=4,44,IF(O22=5,42,IF(AND(O22>5,O22<45),46-O22,2))))))) -> 0 | R22: =IF(SUMIF(AT$11:AT$97,$C22,AS$11:AS$97)=0," ",SUMIF(AT$11:AT$97,$C22,AS$11:AS$97)) | S22: =IF(R22=" ",0,IF(R22=1,50,IF(R22=2,48,IF(R22=3,46,IF(R22=4,44,IF(R22=5,42,IF(AND(R22>5,R22<45),46-R22,2))))))) -> 0 | U22: =IF(SUMIF(AW$11:AW$97,$C22,AV$11:AV$97)=0," ",SUMIF(AW$11:AW$97,$C22,AV$11:AV$97)) | V22: =IF(U22=" ",0,IF(U22=1,50,IF(U22=2,48,IF(U22=3,46,IF(U22=4,44,IF(U22=5,42,IF(AND(U22>5,U22<45),46-U22,2))))))) -> 0 | X22: =IF(SUMIF(AZ$11:AZ$97,$C22,AY$11:AY$97)=0," ",SUMIF(AZ$11:AZ$97,$C22,AY$11:AY$97)) | Y22: =IF(X22=" ",0,IF(X22=1,50,IF(X22=2,48,IF(X22=3,46,IF(X22=4,44,IF(X22=5,42,IF(AND(X22>5,X22<45),46-X22,2))))))) -> 0 | AA22: =IF(SUMIF(BC$11:BC$97,$C22,BB$11:BB$97)=0," ",SUMIF(BC$11:BC$97,$C22,BB$11:BB$97)) | AB22: =IF(AA22=" ",0,IF(AA22=1,50,IF(AA22=2,48,IF(AA22=3,46,IF(AA22=4,44,IF(AA22=5,42,IF(AND(AA22>5,AA22<45),46-AA22,2))))))) -> 0 | AD22: =IF(SUMIF(BF$11:BF$97,$C22,BE$11:BE$97)=0," ",SUMIF(BF$11:BF$97,$C22,BE$11:BE$97)) | AE22: =IF(AD22=" ",0,IF(AD22=1,50,IF(AD22=2,48,IF(AD22=3,46,IF(AD22=4,44,IF(AD22=5,42,IF(AND(AD22>5,AD22<45),46-AD22,2))))))) -> 0 | AF22: =J22+M22+P22+S22+V22+Y22+AB22+AE22 -> 34 | AG22: =A22 -> 12 | AH22: =AF22-MIN(J22,M22,P22,S22,V22,Y22,AB22,AE22) -> 34 | AJ22: 12 | AK22: 117 | AM22: 12 | AP22: 12 | AS22: 12 | AV22: 12 | AY22: 12 | BB22: 12 | BE22: 12
... A40: 30 | B40: =AF40 -> 16 | C40: 107 | D40: Baptiste MARQUIS | E40: H | F40: OGVTT | H40: 1 | I40: 30 | J40: =IF(I40=" ",0,IF(I40=1,50,IF(I40=2,48,IF(I40=3,46,IF(I40=4,44,IF(I40=5,42,IF(AND(I40>5,I40<45),46-I40,2))))))) -> 16 | L40: =IF(SUMIF(AN$11:AN$97,$C40,AM$11:AM$97)=0," ",SUMIF(AN$11:AN$97,$C40,AM$11:AM$97)) | M40: =IF(L40=" ",0,IF(L40=1,50,IF(L40=2,48,IF(L40=3,46,IF(L40=4,44,IF(L40=5,42,IF(AND(L40>5,L40<45),46-L40,2))))))) -> 0 | O40: =IF(SUMIF(AQ$11:AQ$97,$C40,AP$11:AP$97)=0," ",SUMIF(AQ$11:AQ$97,$C40,AP$11:AP$97)) | P40: =IF(O40=" ",0,IF(O40=1,50,IF(O40=2,48,IF(O40=3,46,IF(O40=4,44,IF(O40=5,42,IF(AND(O40>5,O40<45),46-O40,2))))))) -> 0 | R40: =IF(SUMIF(AT$11:AT$97,$C40,AS$11:AS$97)=0," ",SUMIF(AT$11:AT$97,$C40,AS$11:AS$97)) | S40: =IF(R40=" ",0,IF(R40=1,50,IF(R40=2,48,IF(R40=3,46,IF(R40=4,44,IF(R40=5,42,IF(AND(R40>5,R40<45),46-R40,2))))))) -> 0 | U40: =IF(SUMIF(AW$11:AW$97,$C40,AV$11:AV$97)=0," ",SUMIF(AW$11:AW$97,$C40,AV$11:AV$97)) | V40: =IF(U40=" ",0,IF(U40=1,50,IF(U40=2,48,IF(U40=3,46,IF(U40=4,44,IF(U40=5,42,IF(AND(U40>5,U40<45),46-U40,2))))))) -> 0 | X40: =IF(SUMIF(AZ$11:AZ$97,$C40,AY$11:AY$97)=0," ",SUMIF(AZ$11:AZ$97,$C40,AY$11:AY$97)) | Y40: =IF(X40=" ",0,IF(X40=1,50,IF(X40=2,48,IF(X40=3,46,IF(X40=4,44,IF(X40=5,42,IF(AND(X40>5,X40<45),46-X40,2))))))) -> 0 | AA40: =IF(SUMIF(BC$11:BC$97,$C40,BB$11:BB$97)=0," ",SUMIF(BC$11:BC$97,$C40,BB$11:BB$97)) | AB40: =IF(AA40=" ",0,IF(AA40=1,50,IF(AA40=2,48,IF(AA40=3,46,IF(AA40=4,44,IF(AA40=5,42,IF(AND(AA40>5,AA40<45),46-AA40,2))))))) -> 0 | AD40: =IF(SUMIF(BF$11:BF$97,$C40,BE$11:BE$97)=0," ",SUMIF(BF$11:BF$97,$C40,BE$11:BE$97)) | AE40: =IF(AD40=" ",0,IF(AD40=1,50,IF(AD40=2,48,IF(AD40=3,46,IF(AD40=4,44,IF(AD40=5,42,IF(AND(AD40>5,AD40<45),46-AD40,2))))))) -> 0 | AF40: =J40+M40+P40+S40+V40+Y40+AB40+AE40 -> 16 | AG40: =A40 -> 30 | AH40: =AF40-MIN(J40,M40,P40,S40,V40,Y40,AB40,AE40) -> 16 | AJ40: 30 | AK40: 107 | AM40: 30 | AP40: 30 | AS40: 30 | AV40: 30 | AY40: 30 | BB40: 30 | BE40: 30
A41: 31 | B41: =AF41 -> 0 | J41: =IF(I41=" ",0,IF(I41=1,50,IF(I41=2,48,IF(I41=3,46,IF(I41=4,44,IF(I41=5,42,IF(AND(I41>5,I41<45),46-I41,2))))))) -> 0 | L41: =IF(SUMIF(AN$11:AN$97,$C41,AM$11:AM$97)=0," ",SUMIF(AN$11:AN$97,$C41,AM$11:AM$97)) | M41: =IF(L41=" ",0,IF(L41=1,50,IF(L41=2,48,IF(L41=3,46,IF(L41=4,44,IF(L41=5,42,IF(AND(L41>5,L41<45),46-L41,2))))))) -> 0 | O41: =IF(SUMIF(AQ$11:AQ$97,$C41,AP$11:AP$97)=0," ",SUMIF(AQ$11:AQ$97,$C41,AP$11:AP$97)) | P41: =IF(O41=" ",0,IF(O41=1,50,IF(O41=2,48,IF(O41=3,46,IF(O41=4,44,IF(O41=5,42,IF(AND(O41>5,O41<45),46-O41,2))))))) -> 0 | R41: =IF(SUMIF(AT$11:AT$97,$C41,AS$11:AS$97)=0," ",SUMIF(AT$11:AT$97,$C41,AS$11:AS$97)) | S41: =IF(R41=" ",0,IF(R41=1,50,IF(R41=2,48,IF(R41=3,46,IF(R41=4,44,IF(R41=5,42,IF(AND(R41>5,R41<45),46-R41,2))))))) -> 0 | U41: =IF(SUMIF(AW$11:AW$97,$C41,AV$11:AV$97)=0," ",SUMIF(AW$11:AW$97,$C41,AV$11:AV$97)) | V41: =IF(U41=" ",0,IF(U41=1,50,IF(U41=2,48,IF(U41=3,46,IF(U41=4,44,IF(U41=5,42,IF(AND(U41>5,U41<45),46-U41,2))))))) -> 0 | X41: =IF(SUMIF(AZ$11:AZ$97,$C41,AY$11:AY$97)=0," ",SUMIF(AZ$11:AZ$97,$C41,AY$11:AY$97)) | Y41: =IF(X41=" ",0,IF(X41=1,50,IF(X41=2,48,IF(X41=3,46,IF(X41=4,44,IF(X41=5,42,IF(AND(X41>5,X41<45),46-X41,2))))))) -> 0 | AA41: =IF(SUMIF(BC$11:BC$97,$C41,BB$11:BB$97)=0," ",SUMIF(BC$11:BC$97,$C41,BB$11:BB$97)) | AB41: =IF(AA41=" ",0,IF(AA41=1,50,IF(AA41=2,48,IF(AA41=3,46,IF(AA41=4,44,IF(AA41=5,42,IF(AND(AA41>5,AA41<45),46-AA41,2))))))) -> 0 | AD41: =IF(SUMIF(BF$11:BF$97,$C41,BE$11:BE$97)=0," ",SUMIF(BF$11:BF$97,$C41,BE$11:BE$97)) | AE41: =IF(AD41=" ",0,IF(AD41=1,50,IF(AD41=2,48,IF(AD41=3,46,IF(AD41=4,44,IF(AD41=5,42,IF(AND(AD41>5,AD41<45),46-AD41,2))))))) -> 0 | AF41: =J41+M41+P41+S41+V41+Y41+AB41+AE41 -> 0 | AG41: =A41 -> 31 | AH41: =AF41-MIN(J41,M41,P41,S41,V41,Y41,AB41,AE41) -> 0 | AJ41: 31 | AM41: 31 | AP41: 31 | AS41: 31 | AV41: 31 | AY41: 31 | BB41: 31 | BE41: 31
A42: 32 | B42: =AF42 -> 0 | I42: =IF(SUMIF(AK$11:AK$97,$C42,AJ$11:AJ$97)=0," ",SUMIF(AK$11:AK$97,$C42,AJ$11:AJ$97)) | J42: =IF(I42=" ",0,IF(I42=1,50,IF(I42=2,48,IF(I42=3,46,IF(I42=4,44,IF(I42=5,42,IF(AND(I42>5,I42<45),46-I42,2))))))) -> 0 | L42: =IF(SUMIF(AN$11:AN$97,$C42,AM$11:AM$97)=0," ",SUMIF(AN$11:AN$97,$C42,AM$11:AM$97)) | M42: =IF(L42=" ",0,IF(L42=1,50,IF(L42=2,48,IF(L42=3,46,IF(L42=4,44,IF(L42=5,42,IF(AND(L42>5,L42<45),46-L42,2))))))) -> 0 | O42: =IF(SUMIF(AQ$11:AQ$97,$C42,AP$11:AP$97)=0," ",SUMIF(AQ$11:AQ$97,$C42,AP$11:AP$97)) | P42: =IF(O42=" ",0,IF(O42=1,50,IF(O42=2,48,IF(O42=3,46,IF(O42=4,44,IF(O42=5,42,IF(AND(O42>5,O42<45),46-O42,2))))))) -> 0 | R42: =IF(SUMIF(AT$11:AT$97,$C42,AS$11:AS$97)=0," ",SUMIF(AT$11:AT$97,$C42,AS$11:AS$97)) | S42: =IF(R42=" ",0,IF(R42=1,50,IF(R42=2,48,IF(R42=3,46,IF(R42=4,44,IF(R42=5,42,IF(AND(R42>5,R42<45),46-R42,2))))))) -> 0 | U42: =IF(SUMIF(AW$11:AW$97,$C42,AV$11:AV$97)=0," ",SUMIF(AW$11:AW$97,$C42,AV$11:AV$97)) | V42: =IF(U42=" ",0,IF(U42=1,50,IF(U42=2,48,IF(U42=3,46,IF(U42=4,44,IF(U42=5,42,IF(AND(U42>5,U42<45),46-U42,2))))))) -> 0 | X42: =IF(SUMIF(AZ$11:AZ$97,$C42,AY$11:AY$97)=0," ",SUMIF(AZ$11:AZ$97,$C42,AY$11:AY$97)) | Y42: =IF(X42=" ",0,IF(X42=1,50,IF(X42=2,48,IF(X42=3,46,IF(X42=4,44,IF(X42=5,42,IF(AND(X42>5,X42<45),46-X42,2))))))) -> 0 | AA42: =IF(SUMIF(BC$11:BC$97,$C42,BB$11:BB$97)=0," ",SUMIF(BC$11:BC$97,$C42,BB$11:BB$97)) | AB42: =IF(AA42=" ",0,IF(AA42=1,50,IF(AA42=2,48,IF(AA42=3,46,IF(AA42=4,44,IF(AA42=5,42,IF(AND(AA42>5,AA42<45),46-AA42,2))))))) -> 0 | AD42: =IF(SUMIF(BF$11:BF$97,$C42,BE$11:BE$97)=0," ",SUMIF(BF$11:BF$97,$C42,BE$11:BE$97)) | AE42: =IF(AD42=" ",0,IF(AD42=1,50,IF(AD42=2,48,IF(AD42=3,46,IF(AD42=4,44,IF(AD42=5,42,IF(AND(AD42>5,AD42<45),46-AD42,2))))))) -> 0 | AF42: =J42+M42+P42+S42+V42+Y42+AB42+AE42 -> 0 | AG42: =A42 -> 32 | AH42: =AF42-MIN(J42,M42,P42,S42,V42,Y42,AB42,AE42) -> 0 | AJ42: 32 | AM42: 32 | AP42: 32 | AS42: 32 | AV42: 32 | AY42: 32 | BB42: 32 | BE42: 32
A43: 33 | B43: =AF43 -> 0 | I43: =IF(SUMIF(AK$11:AK$97,$C43,AJ$11:AJ$97)=0," ",SUMIF(AK$11:AK$97,$C43,AJ$11:AJ$97)) | J43: =IF(I43=" ",0,IF(I43=1,50,IF(I43=2,48,IF(I43=3,46,IF(I43=4,44,IF(I43=5,42,IF(AND(I43>5,I43<45),46-I43,2))))))) -> 0 | L43: =IF(SUMIF(AN$11:AN$97,$C43,AM$11:AM$97)=0," ",SUMIF(AN$11:AN$97,$C43,AM$11:AM$97)) | M43: =IF(L43=" ",0,IF(L43=1,50,IF(L43=2,48,IF(L43=3,46,IF(L43=4,44,IF(L43=5,42,IF(AND(L43>5,L43<45),46-L43,2))))))) -> 0 | O43: =IF(SUMIF(AQ$11:AQ$97,$C43,AP$11:AP$97)=0," ",SUMIF(AQ$11:AQ$97,$C43,AP$11:AP$97)) | P43: =IF(O43=" ",0,IF(O43=1,50,IF(O43=2,48,IF(O43=3,46,IF(O43=4,44,IF(O43=5,42,IF(AND(O43>5,O43<45),46-O43,2))))))) -> 0 | R43: =IF(SUMIF(AT$11:AT$97,$C43,AS$11:AS$97)=0," ",SUMIF(AT$11:AT$97,$C43,AS$11:AS$97)) | S43: =IF(R43=" ",0,IF(R43=1,50,IF(R43=2,48,IF(R43=3,46,IF(R43=4,44,IF(R43=5,42,IF(AND(R43>5,R43<45),46-R43,2))))))) -> 0 | U43: =IF(SUMIF(AW$11:AW$97,$C43,AV$11:AV$97)=0," ",SUMIF(AW$11:AW$97,$C43,AV$11:AV$97)) | V43: =IF(U43=" ",0,IF(U43=1,50,IF(U43=2,48,IF(U43=3,46,IF(U43=4,44,IF(U43=5,42,IF(AND(U43>5,U43<45),46-U43,2))))))) -> 0 | X43: =IF(SUMIF(AZ$11:AZ$97,$C43,AY$11:AY$97)=0," ",SUMIF(AZ$11:AZ$97,$C43,AY$11:AY$97)) | Y43: =IF(X43=" ",0,IF(X43=1,50,IF(X43=2,48,IF(X43=3,46,IF(X43=4,44,IF(X43=5,42,IF(AND(X43>5,X43<45),46-X43,2))))))) -> 0 | AA43: =IF(SUMIF(BC$11:BC$97,$C43,BB$11:BB$97)=0," ",SUMIF(BC$11:BC$97,$C43,BB$11:BB$97)) | AB43: =IF(AA43=" ",0,IF(AA43=1,50,IF(AA43=2,48,IF(AA43=3,46,IF(AA43=4,44,IF(AA43=5,42,IF(AND(AA43>5,AA43<45),46-AA43,2))))))) -> 0 | AD43: =IF(SUMIF(BF$11:BF$97,$C43,BE$11:BE$97)=0," ",SUMIF(BF$11:BF$97,$C43,BE$11:BE$97)) | AE43: =IF(AD43=" ",0,IF(AD43=1,50,IF(AD43=2,48,IF(AD43=3,46,IF(AD43=4,44,IF(AD43=5,42,IF(AND(AD43>5,AD43<45),46-AD43,2))))))) -> 0 | AF43: =J43+M43+P43+S43+V43+Y43+AB43+AE43 -> 0 | AG43: =A43 -> 33 | AH43: =AF43-MIN(J43,M43,P43,S43,V43,Y43,AB43,AE43) -> 0 | AJ43: 33 | AM43: 33 | AP43: 33 | AS43: 33 | AV43: 33 | AY43: 33 | BB43: 33 | BE43: 33
A44: 34 | B44: =AF44 -> 0 | I44: =IF(SUMIF(AK$11:AK$97,$C44,AJ$11:AJ$97)=0," ",SUMIF(AK$11:AK$97,$C44,AJ$11:AJ$97)) | J44: =IF(I44=" ",0,IF(I44=1,50,IF(I44=2,48,IF(I44=3,46,IF(I44=4,44,IF(I44=5,42,IF(AND(I44>5,I44<45),46-I44,2))))))) -> 0 | L44: =IF(SUMIF(AN$11:AN$97,$C44,AM$11:AM$97)=0," ",SUMIF(AN$11:AN$97,$C44,AM$11:AM$97)) | M44: =IF(L44=" ",0,IF(L44=1,50,IF(L44=2,48,IF(L44=3,46,IF(L44=4,44,IF(L44=5,42,IF(AND(L44>5,L44<45),46-L44,2))))))) -> 0 | O44: =IF(SUMIF(AQ$11:AQ$97,$C44,AP$11:AP$97)=0," ",SUMIF(AQ$11:AQ$97,$C44,AP$11:AP$97)) | P44: =IF(O44=" ",0,IF(O44=1,50,IF(O44=2,48,IF(O44=3,46,IF(O44=4,44,IF(O44=5,42,IF(AND(O44>5,O44<45),46-O44,2))))))) -> 0 | R44: =IF(SUMIF(AT$11:AT$97,$C44,AS$11:AS$97)=0," ",SUMIF(AT$11:AT$97,$C44,AS$11:AS$97)) | S44: =IF(R44=" ",0,IF(R44=1,50,IF(R44=2,48,IF(R44=3,46,IF(R44=4,44,IF(R44=5,42,IF(AND(R44>5,R44<45),46-R44,2))))))) -> 0 | U44: =IF(SUMIF(AW$11:AW$97,$C44,AV$11:AV$97)=0," ",SUMIF(AW$11:AW$97,$C44,AV$11:AV$97)) | V44: =IF(U44=" ",0,IF(U44=1,50,IF(U44=2,48,IF(U44=3,46,IF(U44=4,44,IF(U44=5,42,IF(AND(U44>5,U44<45),46-U44,2))))))) -> 0 | X44: =IF(SUMIF(AZ$11:AZ$97,$C44,AY$11:AY$97)=0," ",SUMIF(AZ$11:AZ$97,$C44,AY$11:AY$97)) | Y44: =IF(X44=" ",0,IF(X44=1,50,IF(X44=2,48,IF(X44=3,46,IF(X44=4,44,IF(X44=5,42,IF(AND(X44>5,X44<45),46-X44,2))))))) -> 0 | AA44: =IF(SUMIF(BC$11:BC$97,$C44,BB$11:BB$97)=0," ",SUMIF(BC$11:BC$97,$C44,BB$11:BB$97)) | AB44: =IF(AA44=" ",0,IF(AA44=1,50,IF(AA44=2,48,IF(AA44=3,46,IF(AA44=4,44,IF(AA44=5,42,IF(AND(AA44>5,AA44<45),46-AA44,2))))))) -> 0 | AD44: =IF(SUMIF(BF$11:BF$97,$C44,BE$11:BE$97)=0," ",SUMIF(BF$11:BF$97,$C44,BE$11:BE$97)) | AE44: =IF(AD44=" ",0,IF(AD44=1,50,IF(AD44=2,48,IF(AD44=3,46,IF(AD44=4,44,IF(AD44=5,42,IF(AND(AD44>5,AD44<45),46-AD44,2))))))) -> 0 | AF44: =J44+M44+P44+S44+V44+Y44+AB44+AE44 -> 0 | AG44: =A44 -> 34 | AH44: =AF44-MIN(J44,M44,P44,S44,V44,Y44,AB44,AE44) -> 0 | AJ44: 34 | AM44: 34 | AP44: 34 | AS44: 34 | AV44: 34 | AY44: 34 | BB44: 34 | BE44: 34
A45: 35 | B45: =AF45 -> 0 | I45: =IF(SUMIF(AK$11:AK$97,$C45,AJ$11:AJ$97)=0," ",SUMIF(AK$11:AK$97,$C45,AJ$11:AJ$97)) | J45: =IF(I45=" ",0,IF(I45=1,50,IF(I45=2,48,IF(I45=3,46,IF(I45=4,44,IF(I45=5,42,IF(AND(I45>5,I45<45),46-I45,2))))))) -> 0 | L45: =IF(SUMIF(AN$11:AN$97,$C45,AM$11:AM$97)=0," ",SUMIF(AN$11:AN$97,$C45,AM$11:AM$97)) | M45: =IF(L45=" ",0,IF(L45=1,50,IF(L45=2,48,IF(L45=3,46,IF(L45=4,44,IF(L45=5,42,IF(AND(L45>5,L45<45),46-L45,2))))))) -> 0 | O45: =IF(SUMIF(AQ$11:AQ$97,$C45,AP$11:AP$97)=0," ",SUMIF(AQ$11:AQ$97,$C45,AP$11:AP$97)) | P45: =IF(O45=" ",0,IF(O45=1,50,IF(O45=2,48,IF(O45=3,46,IF(O45=4,44,IF(O45=5,42,IF(AND(O45>5,O45<45),46-O45,2))))))) -> 0 | R45: =IF(SUMIF(AT$11:AT$97,$C45,AS$11:AS$97)=0," ",SUMIF(AT$11:AT$97,$C45,AS$11:AS$97)) | S45: =IF(R45=" ",0,IF(R45=1,50,IF(R45=2,48,IF(R45=3,46,IF(R45=4,44,IF(R45=5,42,IF(AND(R45>5,R45<45),46-R45,2))))))) -> 0 | U45: =IF(SUMIF(AW$11:AW$97,$C45,AV$11:AV$97)=0," ",SUMIF(AW$11:AW$97,$C45,AV$11:AV$97)) | V45: =IF(U45=" ",0,IF(U45=1,50,IF(U45=2,48,IF(U45=3,46,IF(U45=4,44,IF(U45=5,42,IF(AND(U45>5,U45<45),46-U45,2))))))) -> 0 | X45: =IF(SUMIF(AZ$11:AZ$97,$C45,AY$11:AY$97)=0," ",SUMIF(AZ$11:AZ$97,$C45,AY$11:AY$97)) | Y45: =IF(X45=" ",0,IF(X45=1,50,IF(X45=2,48,IF(X45=3,46,IF(X45=4,44,IF(X45=5,42,IF(AND(X45>5,X45<45),46-X45,2))))))) -> 0 | AA45: =IF(SUMIF(BC$11:BC$97,$C45,BB$11:BB$97)=0," ",SUMIF(BC$11:BC$97,$C45,BB$11:BB$97)) | AB45: =IF(AA45=" ",0,IF(AA45=1,50,IF(AA45=2,48,IF(AA45=3,46,IF(AA45=4,44,IF(AA45=5,42,IF(AND(AA45>5,AA45<45),46-AA45,2))))))) -> 0 | AD45: =IF(SUMIF(BF$11:BF$97,$C45,BE$11:BE$97)=0," ",SUMIF(BF$11:BF$97,$C45,BE$11:BE$97)) | AE45: =IF(AD45=" ",0,IF(AD45=1,50,IF(AD45=2,48,IF(AD45=3,46,IF(AD45=4,44,IF(AD45=5,42,IF(AND(AD45>5,AD45<45),46-AD45,2))))))) -> 0 | AF45: =J45+M45+P45+S45+V45+Y45+AB45+AE45 -> 0 | AG45: =A45 -> 35 | AH45: =AF45-MIN(J45,M45,P45,S45,V45,Y45,AB45,AE45) -> 0 | AJ45: 35 | AM45: 35 | AP45: 35 | AS45: 35 | AV45: 35 | AY45: 35 | BB45: 35 | BE45: 35
A46: 36 | B46: =AF46 -> 0 | I46: =IF(SUMIF(AK$11:AK$97,$C46,AJ$11:AJ$97)=0," ",SUMIF(AK$11:AK$97,$C46,AJ$11:AJ$97)) | J46: =IF(I46=" ",0,IF(I46=1,50,IF(I46=2,48,IF(I46=3,46,IF(I46=4,44,IF(I46=5,42,IF(AND(I46>5,I46<45),46-I46,2))))))) -> 0 | L46: =IF(SUMIF(AN$11:AN$97,$C46,AM$11:AM$97)=0," ",SUMIF(AN$11:AN$97,$C46,AM$11:AM$97)) | M46: =IF(L46=" ",0,IF(L46=1,50,IF(L46=2,48,IF(L46=3,46,IF(L46=4,44,IF(L46=5,42,IF(AND(L46>5,L46<45),46-L46,2))))))) -> 0 | O46: =IF(SUMIF(AQ$11:AQ$97,$C46,AP$11:AP$97)=0," ",SUMIF(AQ$11:AQ$97,$C46,AP$11:AP$97)) | P46: =IF(O46=" ",0,IF(O46=1,50,IF(O46=2,48,IF(O46=3,46,IF(O46=4,44,IF(O46=5,42,IF(AND(O46>5,O46<45),46-O46,2))))))) -> 0 | R46: =IF(SUMIF(AT$11:AT$97,$C46,AS$11:AS$97)=0," ",SUMIF(AT$11:AT$97,$C46,AS$11:AS$97)) | S46: =IF(R46=" ",0,IF(R46=1,50,IF(R46=2,48,IF(R46=3,46,IF(R46=4,44,IF(R46=5,42,IF(AND(R46>5,R46<45),46-R46,2))))))) -> 0 | U46: =IF(SUMIF(AW$11:AW$97,$C46,AV$11:AV$97)=0," ",SUMIF(AW$11:AW$97,$C46,AV$11:AV$97)) | V46: =IF(U46=" ",0,IF(U46=1,50,IF(U46=2,48,IF(U46=3,46,IF(U46=4,44,IF(U46=5,42,IF(AND(U46>5,U46<45),46-U46,2))))))) -> 0 | X46: =IF(SUMIF(AZ$11:AZ$97,$C46,AY$11:AY$97)=0," ",SUMIF(AZ$11:AZ$97,$C46,AY$11:AY$97)) | Y46: =IF(X46=" ",0,IF(X46=1,50,IF(X46=2,48,IF(X46=3,46,IF(X46=4,44,IF(X46=5,42,IF(AND(X46>5,X46<45),46-X46,2))))))) -> 0 | AA46: =IF(SUMIF(BC$11:BC$97,$C46,BB$11:BB$97)=0," ",SUMIF(BC$11:BC$97,$C46,BB$11:BB$97)) | AB46: =IF(AA46=" ",0,IF(AA46=1,50,IF(AA46=2,48,IF(AA46=3,46,IF(AA46=4,44,IF(AA46=5,42,IF(AND(AA46>5,AA46<45),46-AA46,2))))))) -> 0 | AD46: =IF(SUMIF(BF$11:BF$97,$C46,BE$11:BE$97)=0," ",SUMIF(BF$11:BF$97,$C46,BE$11:BE$97)) | AE46: =IF(AD46=" ",0,IF(AD46=1,50,IF(AD46=2,48,IF(AD46=3,46,IF(AD46=4,44,IF(AD46=5,42,IF(AND(AD46>5,AD46<45),46-AD46,2))))))) -> 0 | AF46: =J46+M46+P46+S46+V46+Y46+AB46+AE46 -> 0 | AG46: =A46 -> 36 | AH46: =AF46-MIN(J46,M46,P46,S46,V46,Y46,AB46,AE46) -> 0 | AJ46: 36 | AM46: 36 | AP46: 36 | AS46: 36 | AV46: 36 | AY46: 36 | BB46: 36 | BE46: 36
A47: 37 | B47: =AF47 -> 0 | I47: =IF(SUMIF(AK$11:AK$97,$C47,AJ$11:AJ$97)=0," ",SUMIF(AK$11:AK$97,$C47,AJ$11:AJ$97)) | J47: =IF(I47=" ",0,IF(I47=1,50,IF(I47=2,48,IF(I47=3,46,IF(I47=4,44,IF(I47=5,42,IF(AND(I47>5,I47<45),46-I47,2))))))) -> 0 | L47: =IF(SUMIF(AN$11:AN$97,$C47,AM$11:AM$97)=0," ",SUMIF(AN$11:AN$97,$C47,AM$11:AM$97)) | M47: =IF(L47=" ",0,IF(L47=1,50,IF(L47=2,48,IF(L47=3,46,IF(L47=4,44,IF(L47=5,42,IF(AND(L47>5,L47<45),46-L47,2))))))) -> 0 | O47: =IF(SUMIF(AQ$11:AQ$97,$C47,AP$11:AP$97)=0," ",SUMIF(AQ$11:AQ$97,$C47,AP$11:AP$97)) | P47: =IF(O47=" ",0,IF(O47=1,50,IF(O47=2,48,IF(O47=3,46,IF(O47=4,44,IF(O47=5,42,IF(AND(O47>5,O47<45),46-O47,2))))))) -> 0 | R47: =IF(SUMIF(AT$11:AT$97,$C47,AS$11:AS$97)=0," ",SUMIF(AT$11:AT$97,$C47,AS$11:AS$97)) | S47: =IF(R47=" ",0,IF(R47=1,50,IF(R47=2,48,IF(R47=3,46,IF(R47=4,44,IF(R47=5,42,IF(AND(R47>5,R47<45),46-R47,2))))))) -> 0 | U47: =IF(SUMIF(AW$11:AW$97,$C47,AV$11:AV$97)=0," ",SUMIF(AW$11:AW$97,$C47,AV$11:AV$97)) | V47: =IF(U47=" ",0,IF(U47=1,50,IF(U47=2,48,IF(U47=3,46,IF(U47=4,44,IF(U47=5,42,IF(AND(U47>5,U47<45),46-U47,2))))))) -> 0 | X47: =IF(SUMIF(AZ$11:AZ$97,$C47,AY$11:AY$97)=0," ",SUMIF(AZ$11:AZ$97,$C47,AY$11:AY$97)) | Y47: =IF(X47=" ",0,IF(X47=1,50,IF(X47=2,48,IF(X47=3,46,IF(X47=4,44,IF(X47=5,42,IF(AND(X47>5,X47<45),46-X47,2))))))) -> 0 | AA47: =IF(SUMIF(BC$11:BC$97,$C47,BB$11:BB$97)=0," ",SUMIF(BC$11:BC$97,$C47,BB$11:BB$97)) | AB47: =IF(AA47=" ",0,IF(AA47=1,50,IF(AA47=2,48,IF(AA47=3,46,IF(AA47=4,44,IF(AA47=5,42,IF(AND(AA47>5,AA47<45),46-AA47,2))))))) -> 0 | AD47: =IF(SUMIF(BF$11:BF$97,$C47,BE$11:BE$97)=0," ",SUMIF(BF$11:BF$97,$C47,BE$11:BE$97)) | AE47: =IF(AD47=" ",0,IF(AD47=1,50,IF(AD47=2,48,IF(AD47=3,46,IF(AD47=4,44,IF(AD47=5,42,IF(AND(AD47>5,AD47<45),46-AD47,2))))))) -> 0 | AF47: =J47+M47+P47+S47+V47+Y47+AB47+AE47 -> 0 | AG47: =A47 -> 37 | AH47: =AF47-MIN(J47,M47,P47,S47,V47,Y47,AB47,AE47) -> 0 | AJ47: 37 | AM47: 37 | AP47: 37 | AS47: 37 | AV47: 37 | AY47: 37 | BB47: 37 | BE47: 37
A48: 38 | B48: =AF48 -> 0 | I48: =IF(SUMIF(AK$11:AK$97,$C48,AJ$11:AJ$97)=0," ",SUMIF(AK$11:AK$97,$C48,AJ$11:AJ$97)) | J48: =IF(I48=" ",0,IF(I48=1,50,IF(I48=2,48,IF(I48=3,46,IF(I48=4,44,IF(I48=5,42,IF(AND(I48>5,I48<45),46-I48,2))))))) -> 0 | L48: =IF(SUMIF(AN$11:AN$97,$C48,AM$11:AM$97)=0," ",SUMIF(AN$11:AN$97,$C48,AM$11:AM$97)) | M48: =IF(L48=" ",0,IF(L48=1,50,IF(L48=2,48,IF(L48=3,46,IF(L48=4,44,IF(L48=5,42,IF(AND(L48>5,L48<45),46-L48,2))))))) -> 0 | O48: =IF(SUMIF(AQ$11:AQ$97,$C48,AP$11:AP$97)=0," ",SUMIF(AQ$11:AQ$97,$C48,AP$11:AP$97)) | P48: =IF(O48=" ",0,IF(O48=1,50,IF(O48=2,48,IF(O48=3,46,IF(O48=4,44,IF(O48=5,42,IF(AND(O48>5,O48<45),46-O48,2))))))) -> 0 | R48: =IF(SUMIF(AT$11:AT$97,$C48,AS$11:AS$97)=0," ",SUMIF(AT$11:AT$97,$C48,AS$11:AS$97)) | S48: =IF(R48=" ",0,IF(R48=1,50,IF(R48=2,48,IF(R48=3,46,IF(R48=4,44,IF(R48=5,42,IF(AND(R48>5,R48<45),46-R48,2))))))) -> 0 | U48: =IF(SUMIF(AW$11:AW$97,$C48,AV$11:AV$97)=0," ",SUMIF(AW$11:AW$97,$C48,AV$11:AV$97)) | V48: =IF(U48=" ",0,IF(U48=1,50,IF(U48=2,48,IF(U48=3,46,IF(U48=4,44,IF(U48=5,42,IF(AND(U48>5,U48<45),46-U48,2))))))) -> 0 | X48: =IF(SUMIF(AZ$11:AZ$97,$C48,AY$11:AY$97)=0," ",SUMIF(AZ$11:AZ$97,$C48,AY$11:AY$97)) | Y48: =IF(X48=" ",0,IF(X48=1,50,IF(X48=2,48,IF(X48=3,46,IF(X48=4,44,IF(X48=5,42,IF(AND(X48>5,X48<45),46-X48,2))))))) -> 0 | AA48: =IF(SUMIF(BC$11:BC$97,$C48,BB$11:BB$97)=0," ",SUMIF(BC$11:BC$97,$C48,BB$11:BB$97)) | AB48: =IF(AA48=" ",0,IF(AA48=1,50,IF(AA48=2,48,IF(AA48=3,46,IF(AA48=4,44,IF(AA48=5,42,IF(AND(AA48>5,AA48<45),46-AA48,2))))))) -> 0 | AD48: =IF(SUMIF(BF$11:BF$97,$C48,BE$11:BE$97)=0," ",SUMIF(BF$11:BF$97,$C48,BE$11:BE$97)) | AE48: =IF(AD48=" ",0,IF(AD48=1,50,IF(AD48=2,48,IF(AD48=3,46,IF(AD48=4,44,IF(AD48=5,42,IF(AND(AD48>5,AD48<45),46-AD48,2))))))) -> 0 | AF48: =J48+M48+P48+S48+V48+Y48+AB48+AE48 -> 0 | AG48: =A48 -> 38 | AH48: =AF48-MIN(J48,M48,P48,S48,V48,Y48,AB48,AE48) -> 0 | AJ48: 38 | AM48: 38 | AP48: 38 | AS48: 38 | AV48: 38 | AY48: 38 | BB48: 38 | BE48: 38
A49: 39 | B49: =AF49 -> 0 | I49: =IF(SUMIF(AK$11:AK$97,$C49,AJ$11:AJ$97)=0," ",SUMIF(AK$11:AK$97,$C49,AJ$11:AJ$97)) | J49: =IF(I49=" ",0,IF(I49=1,50,IF(I49=2,48,IF(I49=3,46,IF(I49=4,44,IF(I49=5,42,IF(AND(I49>5,I49<45),46-I49,2))))))) -> 0 | L49: =IF(SUMIF(AN$11:AN$97,$C49,AM$11:AM$97)=0," ",SUMIF(AN$11:AN$97,$C49,AM$11:AM$97)) | M49: =IF(L49=" ",0,IF(L49=1,50,IF(L49=2,48,IF(L49=3,46,IF(L49=4,44,IF(L49=5,42,IF(AND(L49>5,L49<45),46-L49,2))))))) -> 0 | O49: =IF(SUMIF(AQ$11:AQ$97,$C49,AP$11:AP$97)=0," ",SUMIF(AQ$11:AQ$97,$C49,AP$11:AP$97)) | P49: =IF(O49=" ",0,IF(O49=1,50,IF(O49=2,48,IF(O49=3,46,IF(O49=4,44,IF(O49=5,42,IF(AND(O49>5,O49<45),46-O49,2))))))) -> 0 | R49: =IF(SUMIF(AT$11:AT$97,$C49,AS$11:AS$97)=0," ",SUMIF(AT$11:AT$97,$C49,AS$11:AS$97)) | S49: =IF(R49=" ",0,IF(R49=1,50,IF(R49=2,48,IF(R49=3,46,IF(R49=4,44,IF(R49=5,42,IF(AND(R49>5,R49<45),46-R49,2))))))) -> 0 | U49: =IF(SUMIF(AW$11:AW$97,$C49,AV$11:AV$97)=0," ",SUMIF(AW$11:AW$97,$C49,AV$11:AV$97)) | V49: =IF(U49=" ",0,IF(U49=1,50,IF(U49=2,48,IF(U49=3,46,IF(U49=4,44,IF(U49=5,42,IF(AND(U49>5,U49<45),46-U49,2))))))) -> 0 | X49: =IF(SUMIF(AZ$11:AZ$97,$C49,AY$11:AY$97)=0," ",SUMIF(AZ$11:AZ$97,$C49,AY$11:AY$97)) | Y49: =IF(X49=" ",0,IF(X49=1,50,IF(X49=2,48,IF(X49=3,46,IF(X49=4,44,IF(X49=5,42,IF(AND(X49>5,X49<45),46-X49,2))))))) -> 0 | AA49: =IF(SUMIF(BC$11:BC$97,$C49,BB$11:BB$97)=0," ",SUMIF(BC$11:BC$97,$C49,BB$11:BB$97)) | AB49: =IF(AA49=" ",0,IF(AA49=1,50,IF(AA49=2,48,IF(AA49=3,46,IF(AA49=4,44,IF(AA49=5,42,IF(AND(AA49>5,AA49<45),46-AA49,2))))))) -> 0 | AD49: =IF(SUMIF(BF$11:BF$97,$C49,BE$11:BE$97)=0," ",SUMIF(BF$11:BF$97,$C49,BE$11:BE$97)) | AE49: =IF(AD49=" ",0,IF(AD49=1,50,IF(AD49=2,48,IF(AD49=3,46,IF(AD49=4,44,IF(AD49=5,42,IF(AND(AD49>5,AD49<45),46-AD49,2))))))) -> 0 | AF49: =J49+M49+P49+S49+V49+Y49+AB49+AE49 -> 0 | AG49: =A49 -> 39 | AH49: =AF49-MIN(J49,M49,P49,S49,V49,Y49,AB49,AE49) -> 0 | AJ49: 39 | AM49: 39 | AP49: 39 | AS49: 39 | AV49: 39 | AY49: 39 | BB49: 39 | BE49: 39
A50: 40 | B50: =AF50 -> 0 | I50: =IF(SUMIF(AK$11:AK$97,$C50,AJ$11:AJ$97)=0," ",SUMIF(AK$11:AK$97,$C50,AJ$11:AJ$97)) | J50: =IF(I50=" ",0,IF(I50=1,50,IF(I50=2,48,IF(I50=3,46,IF(I50=4,44,IF(I50=5,42,IF(AND(I50>5,I50<45),46-I50,2))))))) -> 0 | L50: =IF(SUMIF(AN$11:AN$97,$C50,AM$11:AM$97)=0," ",SUMIF(AN$11:AN$97,$C50,AM$11:AM$97)) | M50: =IF(L50=" ",0,IF(L50=1,50,IF(L50=2,48,IF(L50=3,46,IF(L50=4,44,IF(L50=5,42,IF(AND(L50>5,L50<45),46-L50,2))))))) -> 0 | O50: =IF(SUMIF(AQ$11:AQ$97,$C50,AP$11:AP$97)=0," ",SUMIF(AQ$11:AQ$97,$C50,AP$11:AP$97)) | P50: =IF(O50=" ",0,IF(O50=1,50,IF(O50=2,48,IF(O50=3,46,IF(O50=4,44,IF(O50=5,42,IF(AND(O50>5,O50<45),46-O50,2))))))) -> 0 | R50: =IF(SUMIF(AT$11:AT$97,$C50,AS$11:AS$97)=0," ",SUMIF(AT$11:AT$97,$C50,AS$11:AS$97)) | S50: =IF(R50=" ",0,IF(R50=1,50,IF(R50=2,48,IF(R50=3,46,IF(R50=4,44,IF(R50=5,42,IF(AND(R50>5,R50<45),46-R50,2))))))) -> 0 | U50: =IF(SUMIF(AW$11:AW$97,$C50,AV$11:AV$97)=0," ",SUMIF(AW$11:AW$97,$C50,AV$11:AV$97)) | V50: =IF(U50=" ",0,IF(U50=1,50,IF(U50=2,48,IF(U50=3,46,IF(U50=4,44,IF(U50=5,42,IF(AND(U50>5,U50<45),46-U50,2))))))) -> 0 | X50: =IF(SUMIF(AZ$11:AZ$97,$C50,AY$11:AY$97)=0," ",SUMIF(AZ$11:AZ$97,$C50,AY$11:AY$97)) | Y50: =IF(X50=" ",0,IF(X50=1,50,IF(X50=2,48,IF(X50=3,46,IF(X50=4,44,IF(X50=5,42,IF(AND(X50>5,X50<45),46-X50,2))))))) -> 0 | AA50: =IF(SUMIF(BC$11:BC$97,$C50,BB$11:BB$97)=0," ",SUMIF(BC$11:BC$97,$C50,BB$11:BB$97)) | AB50: =IF(AA50=" ",0,IF(AA50=1,50,IF(AA50=2,48,IF(AA50=3,46,IF(AA50=4,44,IF(AA50=5,42,IF(AND(AA50>5,AA50<45),46-AA50,2))))))) -> 0 | AD50: =IF(SUMIF(BF$11:BF$97,$C50,BE$11:BE$97)=0," ",SUMIF(BF$11:BF$97,$C50,BE$11:BE$97)) | AE50: =IF(AD50=" ",0,IF(AD50=1,50,IF(AD50=2,48,IF(AD50=3,46,IF(AD50=4,44,IF(AD50=5,42,IF(AND(AD50>5,AD50<45),46-AD50,2))))))) -> 0 | AF50: =J50+M50+P50+S50+V50+Y50+AB50+AE50 -> 0 | AG50: =A50 -> 40 | AH50: =AF50-MIN(J50,M50,P50,S50,V50,Y50,AB50,AE50) -> 0 | AJ50: 40 | AM50: 40 | AP50: 40 | AS50: 40 | AV50: 40 | AY50: 40 | BB50: 40 | BE50: 40
A51: 41 | B51: =AF51 -> 0 | I51: =IF(SUMIF(AK$11:AK$97,$C51,AJ$11:AJ$97)=0," ",SUMIF(AK$11:AK$97,$C51,AJ$11:AJ$97)) | J51: =IF(I51=" ",0,IF(I51=1,50,IF(I51=2,48,IF(I51=3,46,IF(I51=4,44,IF(I51=5,42,IF(AND(I51>5,I51<45),46-I51,2))))))) -> 0 | L51: =IF(SUMIF(AN$11:AN$97,$C51,AM$11:AM$97)=0," ",SUMIF(AN$11:AN$97,$C51,AM$11:AM$97)) | M51: =IF(L51=" ",0,IF(L51=1,50,IF(L51=2,48,IF(L51=3,46,IF(L51=4,44,IF(L51=5,42,IF(AND(L51>5,L51<45),46-L51,2))))))) -> 0 | O51: =IF(SUMIF(AQ$11:AQ$97,$C51,AP$11:AP$97)=0," ",SUMIF(AQ$11:AQ$97,$C51,AP$11:AP$97)) | P51: =IF(O51=" ",0,IF(O51=1,50,IF(O51=2,48,IF(O51=3,46,IF(O51=4,44,IF(O51=5,42,IF(AND(O51>5,O51<45),46-O51,2))))))) -> 0 | R51: =IF(SUMIF(AT$11:AT$97,$C51,AS$11:AS$97)=0," ",SUMIF(AT$11:AT$97,$C51,AS$11:AS$97)) | S51: =IF(R51=" ",0,IF(R51=1,50,IF(R51=2,48,IF(R51=3,46,IF(R51=4,44,IF(R51=5,42,IF(AND(R51>5,R51<45),46-R51,2))))))) -> 0 | U51: =IF(SUMIF(AW$11:AW$97,$C51,AV$11:AV$97)=0," ",SUMIF(AW$11:AW$97,$C51,AV$11:AV$97)) | V51: =IF(U51=" ",0,IF(U51=1,50,IF(U51=2,48,IF(U51=3,46,IF(U51=4,44,IF(U51=5,42,IF(AND(U51>5,U51<45),46-U51,2))))))) -> 0 | X51: =IF(SUMIF(AZ$11:AZ$97,$C51,AY$11:AY$97)=0," ",SUMIF(AZ$11:AZ$97,$C51,AY$11:AY$97)) | Y51: =IF(X51=" ",0,IF(X51=1,50,IF(X51=2,48,IF(X51=3,46,IF(X51=4,44,IF(X51=5,42,IF(AND(X51>5,X51<45),46-X51,2))))))) -> 0 | AA51: =IF(SUMIF(BC$11:BC$97,$C51,BB$11:BB$97)=0," ",SUMIF(BC$11:BC$97,$C51,BB$11:BB$97)) | AB51: =IF(AA51=" ",0,IF(AA51=1,50,IF(AA51=2,48,IF(AA51=3,46,IF(AA51=4,44,IF(AA51=5,42,IF(AND(AA51>5,AA51<45),46-AA51,2))))))) -> 0 | AD51: =IF(SUMIF(BF$11:BF$97,$C51,BE$11:BE$97)=0," ",SUMIF(BF$11:BF$97,$C51,BE$11:BE$97)) | AE51: =IF(AD51=" ",0,IF(AD51=1,50,IF(AD51=2,48,IF(AD51=3,46,IF(AD51=4,44,IF(AD51=5,42,IF(AND(AD51>5,AD51<45),46-AD51,2))))))) -> 0 | AF51: =J51+M51+P51+S51+V51+Y51+AB51+AE51 -> 0 | AG51: =A51 -> 41 | AH51: =AF51-MIN(J51,M51,P51,S51,V51,Y51,AB51,AE51) -> 0 | AJ51: 41 | AM51: 41 | AP51: 41 | AS51: 41 | AV51: 41 | AY51: 41 | BB51: 41 | BE51: 41
A52: 42 | B52: =AF52 -> 0 | I52: =IF(SUMIF(AK$11:AK$97,$C52,AJ$11:AJ$97)=0," ",SUMIF(AK$11:AK$97,$C52,AJ$11:AJ$97)) | J52: =IF(I52=" ",0,IF(I52=1,50,IF(I52=2,48,IF(I52=3,46,IF(I52=4,44,IF(I52=5,42,IF(AND(I52>5,I52<45),46-I52,2))))))) -> 0 | L52: =IF(SUMIF(AN$11:AN$97,$C52,AM$11:AM$97)=0," ",SUMIF(AN$11:AN$97,$C52,AM$11:AM$97)) | M52: =IF(L52=" ",0,IF(L52=1,50,IF(L52=2,48,IF(L52=3,46,IF(L52=4,44,IF(L52=5,42,IF(AND(L52>5,L52<45),46-L52,2))))))) -> 0 | O52: =IF(SUMIF(AQ$11:AQ$97,$C52,AP$11:AP$97)=0," ",SUMIF(AQ$11:AQ$97,$C52,AP$11:AP$97)) | P52: =IF(O52=" ",0,IF(O52=1,50,IF(O52=2,48,IF(O52=3,46,IF(O52=4,44,IF(O52=5,42,IF(AND(O52>5,O52<45),46-O52,2))))))) -> 0 | R52: =IF(SUMIF(AT$11:AT$97,$C52,AS$11:AS$97)=0," ",SUMIF(AT$11:AT$97,$C52,AS$11:AS$97)) | S52: =IF(R52=" ",0,IF(R52=1,50,IF(R52=2,48,IF(R52=3,46,IF(R52=4,44,IF(R52=5,42,IF(AND(R52>5,R52<45),46-R52,2))))))) -> 0 | U52: =IF(SUMIF(AW$11:AW$97,$C52,AV$11:AV$97)=0," ",SUMIF(AW$11:AW$97,$C52,AV$11:AV$97)) | V52: =IF(U52=" ",0,IF(U52=1,50,IF(U52=2,48,IF(U52=3,46,IF(U52=4,44,IF(U52=5,42,IF(AND(U52>5,U52<45),46-U52,2))))))) -> 0 | X52: =IF(SUMIF(AZ$11:AZ$97,$C52,AY$11:AY$97)=0," ",SUMIF(AZ$11:AZ$97,$C52,AY$11:AY$97)) | Y52: =IF(X52=" ",0,IF(X52=1,50,IF(X52=2,48,IF(X52=3,46,IF(X52=4,44,IF(X52=5,42,IF(AND(X52>5,X52<45),46-X52,2))))))) -> 0 | AA52: =IF(SUMIF(BC$11:BC$97,$C52,BB$11:BB$97)=0," ",SUMIF(BC$11:BC$97,$C52,BB$11:BB$97)) | AB52: =IF(AA52=" ",0,IF(AA52=1,50,IF(AA52=2,48,IF(AA52=3,46,IF(AA52=4,44,IF(AA52=5,42,IF(AND(AA52>5,AA52<45),46-AA52,2))))))) -> 0 | AD52: =IF(SUMIF(BF$11:BF$97,$C52,BE$11:BE$97)=0," ",SUMIF(BF$11:BF$97,$C52,BE$11:BE$97)) | AE52: =IF(AD52=" ",0,IF(AD52=1,50,IF(AD52=2,48,IF(AD52=3,46,IF(AD52=4,44,IF(AD52=5,42,IF(AND(AD52>5,AD52<45),46-AD52,2))))))) -> 0 | AF52: =J52+M52+P52+S52+V52+Y52+AB52+AE52 -> 0 | AG52: =A52 -> 42 | AH52: =AF52-MIN(J52,M52,P52,S52,V52,Y52,AB52,AE52) -> 0 | AJ52: 42 | AM52: 42 | AP52: 42 | AS52: 42 | AV52: 42 | AY52: 42 | BB52: 42 | BE52: 42
A53: 43 | B53: =AF53 -> 0 | I53: =IF(SUMIF(AK$11:AK$97,$C53,AJ$11:AJ$97)=0," ",SUMIF(AK$11:AK$97,$C53,AJ$11:AJ$97)) | J53: =IF(I53=" ",0,IF(I53=1,50,IF(I53=2,48,IF(I53=3,46,IF(I53=4,44,IF(I53=5,42,IF(AND(I53>5,I53<45),46-I53,2))))))) -> 0 | L53: =IF(SUMIF(AN$11:AN$97,$C53,AM$11:AM$97)=0," ",SUMIF(AN$11:AN$97,$C53,AM$11:AM$97)) | M53: =IF(L53=" ",0,IF(L53=1,50,IF(L53=2,48,IF(L53=3,46,IF(L53=4,44,IF(L53=5,42,IF(AND(L53>5,L53<45),46-L53,2))))))) -> 0 | O53: =IF(SUMIF(AQ$11:AQ$97,$C53,AP$11:AP$97)=0," ",SUMIF(AQ$11:AQ$97,$C53,AP$11:AP$97)) | P53: =IF(O53=" ",0,IF(O53=1,50,IF(O53=2,48,IF(O53=3,46,IF(O53=4,44,IF(O53=5,42,IF(AND(O53>5,O53<45),46-O53,2))))))) -> 0 | R53: =IF(SUMIF(AT$11:AT$97,$C53,AS$11:AS$97)=0," ",SUMIF(AT$11:AT$97,$C53,AS$11:AS$97)) | S53: =IF(R53=" ",0,IF(R53=1,50,IF(R53=2,48,IF(R53=3,46,IF(R53=4,44,IF(R53=5,42,IF(AND(R53>5,R53<45),46-R53,2))))))) -> 0 | U53: =IF(SUMIF(AW$11:AW$97,$C53,AV$11:AV$97)=0," ",SUMIF(AW$11:AW$97,$C53,AV$11:AV$97)) | V53: =IF(U53=" ",0,IF(U53=1,50,IF(U53=2,48,IF(U53=3,46,IF(U53=4,44,IF(U53=5,42,IF(AND(U53>5,U53<45),46-U53,2))))))) -> 0 | X53: =IF(SUMIF(AZ$11:AZ$97,$C53,AY$11:AY$97)=0," ",SUMIF(AZ$11:AZ$97,$C53,AY$11:AY$97)) | Y53: =IF(X53=" ",0,IF(X53=1,50,IF(X53=2,48,IF(X53=3,46,IF(X53=4,44,IF(X53=5,42,IF(AND(X53>5,X53<45),46-X53,2))))))) -> 0 | AA53: =IF(SUMIF(BC$11:BC$97,$C53,BB$11:BB$97)=0," ",SUMIF(BC$11:BC$97,$C53,BB$11:BB$97)) | AB53: =IF(AA53=" ",0,IF(AA53=1,50,IF(AA53=2,48,IF(AA53=3,46,IF(AA53=4,44,IF(AA53=5,42,IF(AND(AA53>5,AA53<45),46-AA53,2))))))) -> 0 | AD53: =IF(SUMIF(BF$11:BF$97,$C53,BE$11:BE$97)=0," ",SUMIF(BF$11:BF$97,$C53,BE$11:BE$97)) | AE53: =IF(AD53=" ",0,IF(AD53=1,50,IF(AD53=2,48,IF(AD53=3,46,IF(AD53=4,44,IF(AD53=5,42,IF(AND(AD53>5,AD53<45),46-AD53,2))))))) -> 0 | AF53: =J53+M53+P53+S53+V53+Y53+AB53+AE53 -> 0 | AG53: =A53 -> 43 | AH53: =AF53-MIN(J53,M53,P53,S53,V53,Y53,AB53,AE53) -> 0 | AJ53: 43 | AM53: 43 | AP53: 43 | AS53: 43 | AV53: 43 | AY53: 43 | BB53: 43 | BE53: 43
... A90: 80 | B90: =AF90 -> 0 | I90: =IF(SUMIF(AK$11:AK$97,$C90,AJ$11:AJ$97)=0," ",SUMIF(AK$11:AK$97,$C90,AJ$11:AJ$97)) | J90: =IF(I90=" ",0,IF(I90=1,50,IF(I90=2,48,IF(I90=3,46,IF(I90=4,44,IF(I90=5,42,IF(AND(I90>5,I90<45),46-I90,2))))))) -> 0 | L90: =IF(SUMIF(AN$11:AN$97,$C90,AM$11:AM$97)=0," ",SUMIF(AN$11:AN$97,$C90,AM$11:AM$97)) | M90: =IF(L90=" ",0,IF(L90=1,50,IF(L90=2,48,IF(L90=3,46,IF(L90=4,44,IF(L90=5,42,IF(AND(L90>5,L90<45),46-L90,2))))))) -> 0 | O90: =IF(SUMIF(AQ$11:AQ$97,$C90,AP$11:AP$97)=0," ",SUMIF(AQ$11:AQ$97,$C90,AP$11:AP$97)) | P90: =IF(O90=" ",0,IF(O90=1,50,IF(O90=2,48,IF(O90=3,46,IF(O90=4,44,IF(O90=5,42,IF(AND(O90>5,O90<45),46-O90,2))))))) -> 0 | R90: =IF(SUMIF(AT$11:AT$97,$C90,AS$11:AS$97)=0," ",SUMIF(AT$11:AT$97,$C90,AS$11:AS$97)) | S90: =IF(R90=" ",0,IF(R90=1,50,IF(R90=2,48,IF(R90=3,46,IF(R90=4,44,IF(R90=5,42,IF(AND(R90>5,R90<45),46-R90,2))))))) -> 0 | U90: =IF(SUMIF(AW$11:AW$97,$C90,AV$11:AV$97)=0," ",SUMIF(AW$11:AW$97,$C90,AV$11:AV$97)) | V90: =IF(U90=" ",0,IF(U90=1,50,IF(U90=2,48,IF(U90=3,46,IF(U90=4,44,IF(U90=5,42,IF(AND(U90>5,U90<45),46-U90,2))))))) -> 0 | X90: =IF(SUMIF(AZ$11:AZ$97,$C90,AY$11:AY$97)=0," ",SUMIF(AZ$11:AZ$97,$C90,AY$11:AY$97)) | Y90: =IF(X90=" ",0,IF(X90=1,50,IF(X90=2,48,IF(X90=3,46,IF(X90=4,44,IF(X90=5,42,IF(AND(X90>5,X90<45),46-X90,2))))))) -> 0 | AA90: =IF(SUMIF(BC$11:BC$97,$C90,BB$11:BB$97)=0," ",SUMIF(BC$11:BC$97,$C90,BB$11:BB$97)) | AB90: =IF(AA90=" ",0,IF(AA90=1,50,IF(AA90=2,48,IF(AA90=3,46,IF(AA90=4,44,IF(AA90=5,42,IF(AND(AA90>5,AA90<45),46-AA90,2))))))) -> 0 | AD90: =IF(SUMIF(BF$11:BF$97,$C90,BE$11:BE$97)=0," ",SUMIF(BF$11:BF$97,$C90,BE$11:BE$97)) | AE90: =IF(AD90=" ",0,IF(AD90=1,50,IF(AD90=2,48,IF(AD90=3,46,IF(AD90=4,44,IF(AD90=5,42,IF(AND(AD90>5,AD90<45),46-AD90,2))))))) -> 0 | AF90: =J90+M90+P90+S90+V90+Y90+AB90+AE90 -> 0 | AG90: =A90 -> 80 | AH90: =AF90-MIN(J90,M90,P90,S90,V90,Y90,AB90,AE90) -> 0 | AJ90: 80 | AM90: 80 | AP90: 80 | AS90: 80 | AV90: 80 | AY90: 80 | BB90: 80 | BE90: 80
I91: =IF(SUMIF(AK$11:AK$97,$C91,AJ$11:AJ$97)=0," ",SUMIF(AK$11:AK$97,$C91,AJ$11:AJ$97)) | L91: =IF(SUMIF(AN$11:AN$97,$C91,AM$11:AM$97)=0," ",SUMIF(AN$11:AN$97,$C91,AM$11:AM$97)) | O91: =IF(SUMIF(AQ$11:AQ$97,$C91,AP$11:AP$97)=0," ",SUMIF(AQ$11:AQ$97,$C91,AP$11:AP$97)) | R91: =IF(SUMIF(AT$11:AT$97,$C91,AS$11:AS$97)=0," ",SUMIF(AT$11:AT$97,$C91,AS$11:AS$97)) | U91: =IF(SUMIF(AW$11:AW$97,$C91,AV$11:AV$97)=0," ",SUMIF(AW$11:AW$97,$C91,AV$11:AV$97)) | X91: =IF(SUMIF(AZ$11:AZ$97,$C91,AY$11:AY$97)=0," ",SUMIF(AZ$11:AZ$97,$C91,AY$11:AY$97)) | AA91: =IF(SUMIF(BC$11:BC$97,$C91,BB$11:BB$97)=0," ",SUMIF(BC$11:BC$97,$C91,BB$11:BB$97)) | AD91: =IF(SUMIF(BF$11:BF$97,$C91,BE$11:BE$97)=0," ",SUMIF(BF$11:BF$97,$C91,BE$11:BE$97)) | AF91: =J91+M91+P91+S91+V91+Y91+AB91+AE91 -> 0 | AH91: =AF91-MIN(J91,M91,P91,S91,V91,Y91,AB91,AE91) -> 0
I92: =IF(SUMIF(AK$11:AK$97,$C92,AJ$11:AJ$97)=0," ",SUMIF(AK$11:AK$97,$C92,AJ$11:AJ$97)) | L92: =IF(SUMIF(AN$11:AN$97,$C92,AM$11:AM$97)=0," ",SUMIF(AN$11:AN$97,$C92,AM$11:AM$97)) | O92: =IF(SUMIF(AQ$11:AQ$97,$C92,AP$11:AP$97)=0," ",SUMIF(AQ$11:AQ$97,$C92,AP$11:AP$97)) | R92: =IF(SUMIF(AT$11:AT$97,$C92,AS$11:AS$97)=0," ",SUMIF(AT$11:AT$97,$C92,AS$11:AS$97)) | U92: =IF(SUMIF(AW$11:AW$97,$C92,AV$11:AV$97)=0," ",SUMIF(AW$11:AW$97,$C92,AV$11:AV$97)) | X92: =IF(SUMIF(AZ$11:AZ$97,$C92,AY$11:AY$97)=0," ",SUMIF(AZ$11:AZ$97,$C92,AY$11:AY$97)) | AA92: =IF(SUMIF(BC$11:BC$97,$C92,BB$11:BB$97)=0," ",SUMIF(BC$11:BC$97,$C92,BB$11:BB$97)) | AD92: =IF(SUMIF(BF$11:BF$97,$C92,BE$11:BE$97)=0," ",SUMIF(BF$11:BF$97,$C92,BE$11:BE$97))
B100: VAL D'OISE TROPHY UFOLEP JEUNES 2026
D102: SERIE B
D103: garçons et filles | F103: 2018-2019
D104: dossards de 101 à 199
C106: manque 105-111-114
C109: doss | D109: noms | E109: sexe | F109: club | G109: fédé | H109: né le | K109: émargement
C110: =C11 -> 125 | D110: =IF(C11>0,D11," ") -> Arthur FRANCOISE | E110: =IF(C11>0,E11," ") -> H | F110: =IF(C11>0,F11," ") -> ORC EPONE | G110: =IF(C11>0,G11," ") -> 0
C111: =C12 -> 124 | D111: =IF(C12>0,D12," ") -> Tim JABIOL | E111: =IF(C12>0,E12," ") -> H | F111: =IF(C12>0,F12," ") -> Beauvais team cycliste | G111: =IF(C12>0,G12," ")
C112: =C13 -> 113 | D112: =IF(C13>0,D13," ") -> Melece SIMIEN | E112: =IF(C13>0,E13," ") -> H | F112: =IF(C13>0,F13," ") -> Olympique cycliste Val d'Oise | G112: =IF(C13>0,G13," ")
C113: =C14 -> 122 | D113: =IF(C14>0,D14," ") -> Mael NEVEU | E113: =IF(C14>0,E14," ") -> H | F113: =IF(C14>0,F14," ") -> ORC Epone | G113: =IF(C14>0,G14," ")
C114: =C15 -> 126 | D114: =IF(C15>0,D15," ") -> Leonard LELIMOUSIN | E114: =IF(C15>0,E15," ") -> H | F114: =IF(C15>0,F15," ") -> ORC Epone | G114: =IF(C15>0,G15," ")
C115: =C16 -> 102 | D115: =IF(C16>0,D16," ") -> Jae AUGUSTYNOWICZ | E115: =IF(C16>0,E16," ") -> H | F115: =IF(C16>0,F16," ") -> BONNIERES VTT | G115: =IF(C16>0,G16," ")
C116: =C17 -> 119 | D116: =IF(C17>0,D17," ") -> Tom TREHOUT | E116: =IF(C17>0,E17," ") -> H | F116: =IF(C17>0,F17," ") -> Orc Epone | G116: =IF(C17>0,G17," ")
C117: =C18 -> 128 | D117: =IF(C18>0,D18," ") -> Jules DUMAY | E117: =IF(C18>0,E18," ") -> H | F117: =IF(C18>0,F18," ") -> ORC Epone | G117: =IF(C18>0,G18," ")
C118: =C19 -> 101 | D118: =IF(C19>0,D19," ") -> Louis FROT | E118: =IF(C19>0,E19," ") -> H | F118: =IF(C19>0,F19," ") -> MARINES | G118: =IF(C19>0,G19," ")
C119: =C20 -> 129 | D119: =IF(C20>0,D20," ") -> Louis CATTANEO | E119: =IF(C20>0,E20," ") -> H | F119: =IF(C20>0,F20," ") -> CLAMART | G119: =IF(C20>0,G20," ")
C120: =C21 -> 182 | D120: =IF(C21>0,D21," ") -> Louise LECLERC CHATENET | E120: =IF(C21>0,E21," ") -> F | F120: =IF(C21>0,F21," ") -> UCVE ETREPAGNY | G120: =IF(C21>0,G21," ")
C121: =C22 -> 117 | D121: =IF(C22>0,D22," ") -> Guilhem DACHY | E121: =IF(C22>0,E22," ") -> H | F121: =IF(C22>0,F22," ") -> CVC Mery | G121: =IF(C22>0,G22," ")
... C143: =C44 -> 0 | D143: =IF(C44>0,D44," ") | E143: =IF(C44>0,E44," ") | F143: =IF(C44>0,F44," ") | G143: =IF(C44>0,G44," ")
C144: =C39 -> 180 | D144: =IF(C39>0,D45," ") -> 0 | E144: =IF(C45>0,E45," ") | F144: =IF(C45>0,F45," ") | G144: =IF(C45>0,G45," ")
C145: =C40 -> 107 | D145: =IF(C40>0,D46," ") -> 0 | E145: =IF(C46>0,E46," ") | F145: =IF(C46>0,F46," ") | G145: =IF(C46>0,G46," ")
C146: =C47 -> 0 | D146: =IF(C47>0,D47," ") | E146: =IF(C47>0,E47," ") | F146: =IF(C47>0,F47," ") | G146: =IF(C47>0,G47," ")
C147: =C48 -> 0 | D147: =IF(C48>0,D48," ") | E147: =IF(C48>0,E48," ") | F147: =IF(C48>0,F48," ") | G147: =IF(C48>0,G48," ")
C148: =C49 -> 0 | D148: =IF(C49>0,D49," ") | E148: =IF(C49>0,E49," ") | F148: =IF(C49>0,F49," ") | G148: =IF(C49>0,G49," ")
C149: =C50 -> 0 | D149: =IF(C50>0,D50," ") | E149: =IF(C50>0,E50," ") | F149: =IF(C50>0,F50," ") | G149: =IF(C50>0,G50," ")
C150: =C51 -> 0 | D150: =IF(C51>0,D51," ") | E150: =IF(C51>0,E51," ") | F150: =IF(C51>0,F51," ") | G150: =IF(C51>0,G51," ")
C151: =C52 -> 0 | D151: =IF(C52>0,D52," ") | E151: =IF(C52>0,E52," ") | F151: =IF(C52>0,F52," ") | G151: =IF(C52>0,G52," ")
C152: =C53 -> 0 | D152: =IF(C53>0,D53," ") | E152: =IF(C53>0,E53," ") | F152: =IF(C53>0,F53," ") | G152: =IF(C53>0,G53," ")
C153: =C54 -> 0 | D153: =IF(C54>0,D54," ") | E153: =IF(C54>0,E54," ") | F153: =IF(C54>0,F54," ") | G153: =IF(C54>0,G54," ")
C154: =C55 -> 0 | D154: =IF(C55>0,D55," ") | E154: =IF(C55>0,E55," ") | F154: =IF(C55>0,F55," ") | G154: =IF(C55>0,G55," ")
C155: =C56 -> 0 | D155: =IF(C56>0,D56," ") | E155: =IF(C56>0,E56," ") | F155: =IF(C56>0,F56," ") | G155: =IF(C56>0,G56," ")
C156: =C57 -> 0 | D156: =IF(C57>0,D57," ") | E156: =IF(C57>0,E57," ") | F156: =IF(C57>0,F57," ") | G156: =IF(C57>0,G57," ")
C157: =C58 -> 0 | D157: =IF(C58>0,D58," ") | E157: =IF(C58>0,E58," ") | F157: =IF(C58>0,F58," ") | G157: =IF(C58>0,G58," ")
... C187: =C88 -> 0 | D187: =IF(C88>0,D88," ") | E187: =IF(C88>0,E88," ") | F187: =IF(C88>0,F88," ") | G187: =IF(C88>0,G88," ")
D188: =IF(C89>0,D89," ") | F188: =IF(C89>0,F89," ") | G188: =IF(C89>0,G89," ")
D189: =IF(C90>0,D90," ") | F189: =IF(C90>0,F90," ") | G189: =IF(C90>0,G90," ")
F191: =IF(C91>0,F91," ") | G191: =IF(C91>0,G91," ")

Sheet série C
C1: VAL D'OISE TROPHY UFOLEP JEUNES 2026
AF2: =IF(F7=1,SUM(H11:H90),IF(F7=2,SUM(K11:K90),IF(F7=3,SUM(N11:N90),IF(F7=4,SUM(Q11:Q90),IF(F7=5,SUM(T11:T90),IF(F7=6,SUM(W11:W90),IF(F7=7,SUM(Z11:Z90)))))))) -> 38 | AI2: Achères | AJ2: CLASSEMENTS DE CHAQUE MANCHE
AF3: =IF(F7=1,SUM(#REF!),IF(F7=2,SUM(#REF!),IF(F7=3,SUM(#REF!),IF(F7=4,SUM(#REF!),IF(F7=5,SUM(#REF!),IF(F7=6,SUM(#REF!),IF(F7=7,SUM(#REF!)))))))) -> #REF! | AI3: Osny
D4: garçons et filles | F4: 2016-2017 | AI4: Cergy
D5: dossards de 201 à 299 | AI5: Méry
F6: manque 200-208-214-217-280-284 | AI6: Bonnières
D7: Manche | E7: N° | F7: 1 | H7: Manche N°1 | K7: Manche N°2 | N7: Manche N°3 | Q7: Manche N°4 | T7: Manche N°5 | W7: Manche N°6 | Z7: Manche N°7 | AC7: Manche N°8 | AI7: Survilliers
C8: =IF(F7<8,AF2,IF(F7=8,SUM(AC11:AC90))) -> 38 | D8: Inscrits | H8: Achères | K8: Osny | N8: Cergy | Q8: Méry | T8: Bonnières | W8: Survilliers | Z8: Marines | AC8: Marly la ville | AI8: Marines
H9: 46053 | K9: 46067 | N9: 46095 | Q9: 46102 | T9: 46109 | W9: 46165 | Z9: 46179 | AC9: 46186 | AI9: Marly la ville
A10: classement | B10: total points | C10: doss | D10: noms+prénoms | E10: Sexe | F10: club | G10: fédé | H10: inscription n° 1 | I10: place épreuve n° 1 | J10: points épreuve n° 1 | K10: inscription n° 2 | L10: place épreuve n° 2 | M10: points épreuve n° 2 | N10: inscription n° 3 | O10: place épreuve n° 3 | P10: points épreuve n° 3 | Q10: inscription n° 4 | R10: place épreuve n° 4 | S10: points épreuve n° 4 | T10: inscription n° 5 | U10: place épreuve n° 5 | V10: points épreuve n° 5 | W10: inscription n° 6 | X10: place épreuve n° 6 | Y10: points épreuve n° 6 | Z10: inscription n° 7 | AA10: place épreuve n° 7 | AB10: points épreuve n° 7 | AC10: inscription n° 8 | AD10: place épreuve n° 8 | AE10: points épreuve n° 8 | AF10: total points | AG10: classement | AH10: total points modulé | AJ10: place épreuve n° 1 | AK10: dossards épreuve n° 1 | AM10: place épreuve n° 2 | AN10: dossards épreuve n° 2 | AP10: place épreuve n° 3 | AQ10: dossards épreuve n° 3 | AS10: place épreuve n° 4 | AT10: dossards épreuve n° 4 | AV10: place épreuve n° 5 | AW10: dossards épreuve n° 5 | AY10: place épreuve n° 6 | AZ10: dossards épreuve n° 6 | BB10: place épreuve n° 7 | BC10: dossards épreuve n° 7 | BE10: place épreuve n° 8 | BF10: dossards épreuve n° 8
A11: 1 | B11: =AF11 -> 50 | C11: 227 | D11: Liam BROIX | E11: H | F11: AC Marines | H11: 1 | I11: 1 | J11: =IF(I11=" ",0,IF(I11=1,50,IF(I11=2,48,IF(I11=3,46,IF(I11=4,44,IF(I11=5,42,IF(AND(I11>5,I11<45),46-I11,2))))))) -> 50 | L11: =IF(SUMIF(AN$11:AN$97,$C11,AM$11:AM$97)=0," ",SUMIF(AN$11:AN$97,$C11,AM$11:AM$97)) | M11: =IF(L11=" ",0,IF(L11=1,50,IF(L11=2,48,IF(L11=3,46,IF(L11=4,44,IF(L11=5,42,IF(AND(L11>5,L11<45),46-L11,2))))))) -> 0 | O11: =IF(SUMIF(AQ$11:AQ$97,$C11,AP$11:AP$97)=0," ",SUMIF(AQ$11:AQ$97,$C11,AP$11:AP$97)) | P11: =IF(O11=" ",0,IF(O11=1,50,IF(O11=2,48,IF(O11=3,46,IF(O11=4,44,IF(O11=5,42,IF(AND(O11>5,O11<45),46-O11,2))))))) -> 0 | R11: =IF(SUMIF(AT$11:AT$97,$C11,AS$11:AS$97)=0," ",SUMIF(AT$11:AT$97,$C11,AS$11:AS$97)) | S11: =IF(R11=" ",0,IF(R11=1,50,IF(R11=2,48,IF(R11=3,46,IF(R11=4,44,IF(R11=5,42,IF(AND(R11>5,R11<45),46-R11,2))))))) -> 0 | U11: =IF(SUMIF(AW$11:AW$97,$C11,AV$11:AV$97)=0," ",SUMIF(AW$11:AW$97,$C11,AV$11:AV$97)) | V11: =IF(U11=" ",0,IF(U11=1,50,IF(U11=2,48,IF(U11=3,46,IF(U11=4,44,IF(U11=5,42,IF(AND(U11>5,U11<45),46-U11,2))))))) -> 0 | X11: =IF(SUMIF(AZ$11:AZ$97,$C11,AY$11:AY$97)=0," ",SUMIF(AZ$11:AZ$97,$C11,AY$11:AY$97)) | Y11: =IF(X11=" ",0,IF(X11=1,50,IF(X11=2,48,IF(X11=3,46,IF(X11=4,44,IF(X11=5,42,IF(AND(X11>5,X11<45),46-X11,2))))))) -> 0 | AA11: =IF(SUMIF(BC$11:BC$97,$C11,BB$11:BB$97)=0," ",SUMIF(BC$11:BC$97,$C11,BB$11:BB$97)) | AB11: =IF(AA11=" ",0,IF(AA11=1,50,IF(AA11=2,48,IF(AA11=3,46,IF(AA11=4,44,IF(AA11=5,42,IF(AND(AA11>5,AA11<45),46-AA11,2))))))) -> 0 | AD11: =IF(SUMIF(BF$11:BF$97,$C11,BE$11:BE$97)=0," ",SUMIF(BF$11:BF$97,$C11,BE$11:BE$97)) | AE11: =IF(AD11=" ",0,IF(AD11=1,50,IF(AD11=2,48,IF(AD11=3,46,IF(AD11=4,44,IF(AD11=5,42,IF(AND(AD11>5,AD11<45),46-AD11,2))))))) -> 0 | AF11: =J11+M11+P11+S11+V11+Y11+AB11+AE11 -> 50 | AG11: =A11 -> 1 | AH11: =AF11-MIN(J11,M11,P11,S11,V11,Y11,AB11,AE11) -> 50 | AJ11: 1 | AK11: 227 | AM11: 1 | AP11: 1 | AS11: 1 | AV11: 1 | AY11: 1 | BB11: 1 | BE11: 1
A12: 2 | B12: =AF12 -> 48 | C12: 232 | D12: Hugo MONTAGNAC | E12: H | F12: AC MARINES | H12: 1 | I12: 2 | J12: =IF(I12=" ",0,IF(I12=1,50,IF(I12=2,48,IF(I12=3,46,IF(I12=4,44,IF(I12=5,42,IF(AND(I12>5,I12<45),46-I12,2))))))) -> 48 | L12: =IF(SUMIF(AN$11:AN$97,$C12,AM$11:AM$97)=0," ",SUMIF(AN$11:AN$97,$C12,AM$11:AM$97)) | M12: =IF(L12=" ",0,IF(L12=1,50,IF(L12=2,48,IF(L12=3,46,IF(L12=4,44,IF(L12=5,42,IF(AND(L12>5,L12<45),46-L12,2))))))) -> 0 | O12: =IF(SUMIF(AQ$11:AQ$97,$C12,AP$11:AP$97)=0," ",SUMIF(AQ$11:AQ$97,$C12,AP$11:AP$97)) | P12: =IF(O12=" ",0,IF(O12=1,50,IF(O12=2,48,IF(O12=3,46,IF(O12=4,44,IF(O12=5,42,IF(AND(O12>5,O12<45),46-O12,2))))))) -> 0 | R12: =IF(SUMIF(AT$11:AT$97,$C12,AS$11:AS$97)=0," ",SUMIF(AT$11:AT$97,$C12,AS$11:AS$97)) | S12: =IF(R12=" ",0,IF(R12=1,50,IF(R12=2,48,IF(R12=3,46,IF(R12=4,44,IF(R12=5,42,IF(AND(R12>5,R12<45),46-R12,2))))))) -> 0 | U12: =IF(SUMIF(AW$11:AW$97,$C12,AV$11:AV$97)=0," ",SUMIF(AW$11:AW$97,$C12,AV$11:AV$97)) | V12: =IF(U12=" ",0,IF(U12=1,50,IF(U12=2,48,IF(U12=3,46,IF(U12=4,44,IF(U12=5,42,IF(AND(U12>5,U12<45),46-U12,2))))))) -> 0 | X12: =IF(SUMIF(AZ$11:AZ$97,$C12,AY$11:AY$97)=0," ",SUMIF(AZ$11:AZ$97,$C12,AY$11:AY$97)) | Y12: =IF(X12=" ",0,IF(X12=1,50,IF(X12=2,48,IF(X12=3,46,IF(X12=4,44,IF(X12=5,42,IF(AND(X12>5,X12<45),46-X12,2))))))) -> 0 | AA12: =IF(SUMIF(BC$11:BC$97,$C12,BB$11:BB$97)=0," ",SUMIF(BC$11:BC$97,$C12,BB$11:BB$97)) | AB12: =IF(AA12=" ",0,IF(AA12=1,50,IF(AA12=2,48,IF(AA12=3,46,IF(AA12=4,44,IF(AA12=5,42,IF(AND(AA12>5,AA12<45),46-AA12,2))))))) -> 0 | AD12: =IF(SUMIF(BF$11:BF$97,$C12,BE$11:BE$97)=0," ",SUMIF(BF$11:BF$97,$C12,BE$11:BE$97)) | AE12: =IF(AD12=" ",0,IF(AD12=1,50,IF(AD12=2,48,IF(AD12=3,46,IF(AD12=4,44,IF(AD12=5,42,IF(AND(AD12>5,AD12<45),46-AD12,2))))))) -> 0 | AF12: =J12+M12+P12+S12+V12+Y12+AB12+AE12 -> 48 | AG12: =A12 -> 2 | AH12: =AF12-MIN(J12,M12,P12,S12,V12,Y12,AB12,AE12) -> 48 | AJ12: 2 | AK12: 232 | AM12: 2 | AP12: 2 | AS12: 2 | AV12: 2 | AY12: 2 | BB12: 2 | BE12: 2
A13: 3 | B13: =AF13 -> 46 | C13: 234 | D13: Yacine Wazaa | E13: H | F13: Harde Survillier | H13: 1 | I13: 3 | J13: =IF(I13=" ",0,IF(I13=1,50,IF(I13=2,48,IF(I13=3,46,IF(I13=4,44,IF(I13=5,42,IF(AND(I13>5,I13<45),46-I13,2))))))) -> 46 | L13: =IF(SUMIF(AN$11:AN$97,$C13,AM$11:AM$97)=0," ",SUMIF(AN$11:AN$97,$C13,AM$11:AM$97)) | M13: =IF(L13=" ",0,IF(L13=1,50,IF(L13=2,48,IF(L13=3,46,IF(L13=4,44,IF(L13=5,42,IF(AND(L13>5,L13<45),46-L13,2))))))) -> 0 | O13: =IF(SUMIF(AQ$11:AQ$97,$C13,AP$11:AP$97)=0," ",SUMIF(AQ$11:AQ$97,$C13,AP$11:AP$97)) | P13: =IF(O13=" ",0,IF(O13=1,50,IF(O13=2,48,IF(O13=3,46,IF(O13=4,44,IF(O13=5,42,IF(AND(O13>5,O13<45),46-O13,2))))))) -> 0 | R13: =IF(SUMIF(AT$11:AT$97,$C13,AS$11:AS$97)=0," ",SUMIF(AT$11:AT$97,$C13,AS$11:AS$97)) | S13: =IF(R13=" ",0,IF(R13=1,50,IF(R13=2,48,IF(R13=3,46,IF(R13=4,44,IF(R13=5,42,IF(AND(R13>5,R13<45),46-R13,2))))))) -> 0 | U13: =IF(SUMIF(AW$11:AW$97,$C13,AV$11:AV$97)=0," ",SUMIF(AW$11:AW$97,$C13,AV$11:AV$97)) | V13: =IF(U13=" ",0,IF(U13=1,50,IF(U13=2,48,IF(U13=3,46,IF(U13=4,44,IF(U13=5,42,IF(AND(U13>5,U13<45),46-U13,2))))))) -> 0 | X13: =IF(SUMIF(AZ$11:AZ$97,$C13,AY$11:AY$97)=0," ",SUMIF(AZ$11:AZ$97,$C13,AY$11:AY$97)) | Y13: =IF(X13=" ",0,IF(X13=1,50,IF(X13=2,48,IF(X13=3,46,IF(X13=4,44,IF(X13=5,42,IF(AND(X13>5,X13<45),46-X13,2))))))) -> 0 | AA13: =IF(SUMIF(BC$11:BC$97,$C13,BB$11:BB$97)=0," ",SUMIF(BC$11:BC$97,$C13,BB$11:BB$97)) | AB13: =IF(AA13=" ",0,IF(AA13=1,50,IF(AA13=2,48,IF(AA13=3,46,IF(AA13=4,44,IF(AA13=5,42,IF(AND(AA13>5,AA13<45),46-AA13,2))))))) -> 0 | AD13: =IF(SUMIF(BF$11:BF$97,$C13,BE$11:BE$97)=0," ",SUMIF(BF$11:BF$97,$C13,BE$11:BE$97)) | AE13: =IF(AD13=" ",0,IF(AD13=1,50,IF(AD13=2,48,IF(AD13=3,46,IF(AD13=4,44,IF(AD13=5,42,IF(AND(AD13>5,AD13<45),46-AD13,2))))))) -> 0 | AF13: =J13+M13+P13+S13+V13+Y13+AB13+AE13 -> 46 | AG13: =A13 -> 3 | AH13: =AF13-MIN(J13,M13,P13,S13,V13,Y13,AB13,AE13) -> 46 | AJ13: 3 | AK13: 234 | AM13: 3 | AP13: 3 | AS13: 3 | AV13: 3 | AY13: 3 | BB13: 3 | BE13: 3
A14: 4 | B14: =AF14 -> 44 | C14: 224 | D14: Liam BREUCQ | E14: H | F14: ORC Epone | H14: 1 | I14: 4 | J14: =IF(I14=" ",0,IF(I14=1,50,IF(I14=2,48,IF(I14=3,46,IF(I14=4,44,IF(I14=5,42,IF(AND(I14>5,I14<45),46-I14,2))))))) -> 44 | L14: =IF(SUMIF(AN$11:AN$97,$C14,AM$11:AM$97)=0," ",SUMIF(AN$11:AN$97,$C14,AM$11:AM$97)) | M14: =IF(L14=" ",0,IF(L14=1,50,IF(L14=2,48,IF(L14=3,46,IF(L14=4,44,IF(L14=5,42,IF(AND(L14>5,L14<45),46-L14,2))))))) -> 0 | O14: =IF(SUMIF(AQ$11:AQ$97,$C14,AP$11:AP$97)=0," ",SUMIF(AQ$11:AQ$97,$C14,AP$11:AP$97)) | P14: =IF(O14=" ",0,IF(O14=1,50,IF(O14=2,48,IF(O14=3,46,IF(O14=4,44,IF(O14=5,42,IF(AND(O14>5,O14<45),46-O14,2))))))) -> 0 | R14: =IF(SUMIF(AT$11:AT$97,$C14,AS$11:AS$97)=0," ",SUMIF(AT$11:AT$97,$C14,AS$11:AS$97)) | S14: =IF(R14=" ",0,IF(R14=1,50,IF(R14=2,48,IF(R14=3,46,IF(R14=4,44,IF(R14=5,42,IF(AND(R14>5,R14<45),46-R14,2))))))) -> 0 | U14: =IF(SUMIF(AW$11:AW$97,$C14,AV$11:AV$97)=0," ",SUMIF(AW$11:AW$97,$C14,AV$11:AV$97)) | V14: =IF(U14=" ",0,IF(U14=1,50,IF(U14=2,48,IF(U14=3,46,IF(U14=4,44,IF(U14=5,42,IF(AND(U14>5,U14<45),46-U14,2))))))) -> 0 | X14: =IF(SUMIF(AZ$11:AZ$97,$C14,AY$11:AY$97)=0," ",SUMIF(AZ$11:AZ$97,$C14,AY$11:AY$97)) | Y14: =IF(X14=" ",0,IF(X14=1,50,IF(X14=2,48,IF(X14=3,46,IF(X14=4,44,IF(X14=5,42,IF(AND(X14>5,X14<45),46-X14,2))))))) -> 0 | AA14: =IF(SUMIF(BC$11:BC$97,$C14,BB$11:BB$97)=0," ",SUMIF(BC$11:BC$97,$C14,BB$11:BB$97)) | AB14: =IF(AA14=" ",0,IF(AA14=1,50,IF(AA14=2,48,IF(AA14=3,46,IF(AA14=4,44,IF(AA14=5,42,IF(AND(AA14>5,AA14<45),46-AA14,2))))))) -> 0 | AD14: =IF(SUMIF(BF$11:BF$97,$C14,BE$11:BE$97)=0," ",SUMIF(BF$11:BF$97,$C14,BE$11:BE$97)) | AE14: =IF(AD14=" ",0,IF(AD14=1,50,IF(AD14=2,48,IF(AD14=3,46,IF(AD14=4,44,IF(AD14=5,42,IF(AND(AD14>5,AD14<45),46-AD14,2))))))) -> 0 | AF14: =J14+M14+P14+S14+V14+Y14+AB14+AE14 -> 44 | AG14: =A14 -> 4 | AH14: =AF14-MIN(J14,M14,P14,S14,V14,Y14,AB14,AE14) -> 44 | AJ14: 4 | AK14: 224 | AM14: 4 | AP14: 4 | AS14: 4 | AV14: 4 | AY14: 4 | BB14: 4 | BE14: 4
A15: 5 | B15: =AF15 -> 42 | C15: 204 | D15: Jules MARCHAND | E15: H | F15: BONNIERES VTT | H15: 1 | I15: 5 | J15: =IF(I15=" ",0,IF(I15=1,50,IF(I15=2,48,IF(I15=3,46,IF(I15=4,44,IF(I15=5,42,IF(AND(I15>5,I15<45),46-I15,2))))))) -> 42 | L15: =IF(SUMIF(AN$11:AN$97,$C15,AM$11:AM$97)=0," ",SUMIF(AN$11:AN$97,$C15,AM$11:AM$97)) | M15: =IF(L15=" ",0,IF(L15=1,50,IF(L15=2,48,IF(L15=3,46,IF(L15=4,44,IF(L15=5,42,IF(AND(L15>5,L15<45),46-L15,2))))))) -> 0 | O15: =IF(SUMIF(AQ$11:AQ$97,$C15,AP$11:AP$97)=0," ",SUMIF(AQ$11:AQ$97,$C15,AP$11:AP$97)) | P15: =IF(O15=" ",0,IF(O15=1,50,IF(O15=2,48,IF(O15=3,46,IF(O15=4,44,IF(O15=5,42,IF(AND(O15>5,O15<45),46-O15,2))))))) -> 0 | R15: =IF(SUMIF(AT$11:AT$97,$C15,AS$11:AS$97)=0," ",SUMIF(AT$11:AT$97,$C15,AS$11:AS$97)) | S15: =IF(R15=" ",0,IF(R15=1,50,IF(R15=2,48,IF(R15=3,46,IF(R15=4,44,IF(R15=5,42,IF(AND(R15>5,R15<45),46-R15,2))))))) -> 0 | U15: =IF(SUMIF(AW$11:AW$97,$C15,AV$11:AV$97)=0," ",SUMIF(AW$11:AW$97,$C15,AV$11:AV$97)) | V15: =IF(U15=" ",0,IF(U15=1,50,IF(U15=2,48,IF(U15=3,46,IF(U15=4,44,IF(U15=5,42,IF(AND(U15>5,U15<45),46-U15,2))))))) -> 0 | X15: =IF(SUMIF(AZ$11:AZ$97,$C15,AY$11:AY$97)=0," ",SUMIF(AZ$11:AZ$97,$C15,AY$11:AY$97)) | Y15: =IF(X15=" ",0,IF(X15=1,50,IF(X15=2,48,IF(X15=3,46,IF(X15=4,44,IF(X15=5,42,IF(AND(X15>5,X15<45),46-X15,2))))))) -> 0 | AA15: =IF(SUMIF(BC$11:BC$97,$C15,BB$11:BB$97)=0," ",SUMIF(BC$11:BC$97,$C15,BB$11:BB$97)) | AB15: =IF(AA15=" ",0,IF(AA15=1,50,IF(AA15=2,48,IF(AA15=3,46,IF(AA15=4,44,IF(AA15=5,42,IF(AND(AA15>5,AA15<45),46-AA15,2))))))) -> 0 | AD15: =IF(SUMIF(BF$11:BF$97,$C15,BE$11:BE$97)=0," ",SUMIF(BF$11:BF$97,$C15,BE$11:BE$97)) | AE15: =IF(AD15=" ",0,IF(AD15=1,50,IF(AD15=2,48,IF(AD15=3,46,IF(AD15=4,44,IF(AD15=5,42,IF(AND(AD15>5,AD15<45),46-AD15,2))))))) -> 0 | AF15: =J15+M15+P15+S15+V15+Y15+AB15+AE15 -> 42 | AG15: =A15 -> 5 | AH15: =AF15-MIN(J15,M15,P15,S15,V15,Y15,AB15,AE15) -> 42 | AJ15: 5 | AK15: 204 | AM15: 5 | AP15: 5 | AS15: 5 | AV15: 5 | AY15: 5 | BB15: 5 | BE15: 5
A16: 6 | B16: =AF16 -> 40 | C16: 225 | D16: Louis CARBONNEAUX | E16: H | F16: CC du valois | H16: 1 | I16: 6 | J16: =IF(I16=" ",0,IF(I16=1,50,IF(I16=2,48,IF(I16=3,46,IF(I16=4,44,IF(I16=5,42,IF(AND(I16>5,I16<45),46-I16,2))))))) -> 40 | L16: =IF(SUMIF(AN$11:AN$97,$C16,AM$11:AM$97)=0," ",SUMIF(AN$11:AN$97,$C16,AM$11:AM$97)) | M16: =IF(L16=" ",0,IF(L16=1,50,IF(L16=2,48,IF(L16=3,46,IF(L16=4,44,IF(L16=5,42,IF(AND(L16>5,L16<45),46-L16,2))))))) -> 0 | O16: =IF(SUMIF(AQ$11:AQ$97,$C16,AP$11:AP$97)=0," ",SUMIF(AQ$11:AQ$97,$C16,AP$11:AP$97)) | P16: =IF(O16=" ",0,IF(O16=1,50,IF(O16=2,48,IF(O16=3,46,IF(O16=4,44,IF(O16=5,42,IF(AND(O16>5,O16<45),46-O16,2))))))) -> 0 | R16: =IF(SUMIF(AT$11:AT$97,$C16,AS$11:AS$97)=0," ",SUMIF(AT$11:AT$97,$C16,AS$11:AS$97)) | S16: =IF(R16=" ",0,IF(R16=1,50,IF(R16=2,48,IF(R16=3,46,IF(R16=4,44,IF(R16=5,42,IF(AND(R16>5,R16<45),46-R16,2))))))) -> 0 | U16: =IF(SUMIF(AW$11:AW$97,$C16,AV$11:AV$97)=0," ",SUMIF(AW$11:AW$97,$C16,AV$11:AV$97)) | V16: =IF(U16=" ",0,IF(U16=1,50,IF(U16=2,48,IF(U16=3,46,IF(U16=4,44,IF(U16=5,42,IF(AND(U16>5,U16<45),46-U16,2))))))) -> 0 | X16: =IF(SUMIF(AZ$11:AZ$97,$C16,AY$11:AY$97)=0," ",SUMIF(AZ$11:AZ$97,$C16,AY$11:AY$97)) | Y16: =IF(X16=" ",0,IF(X16=1,50,IF(X16=2,48,IF(X16=3,46,IF(X16=4,44,IF(X16=5,42,IF(AND(X16>5,X16<45),46-X16,2))))))) -> 0 | AA16: =IF(SUMIF(BC$11:BC$97,$C16,BB$11:BB$97)=0," ",SUMIF(BC$11:BC$97,$C16,BB$11:BB$97)) | AB16: =IF(AA16=" ",0,IF(AA16=1,50,IF(AA16=2,48,IF(AA16=3,46,IF(AA16=4,44,IF(AA16=5,42,IF(AND(AA16>5,AA16<45),46-AA16,2))))))) -> 0 | AD16: =IF(SUMIF(BF$11:BF$97,$C16,BE$11:BE$97)=0," ",SUMIF(BF$11:BF$97,$C16,BE$11:BE$97)) | AE16: =IF(AD16=" ",0,IF(AD16=1,50,IF(AD16=2,48,IF(AD16=3,46,IF(AD16=4,44,IF(AD16=5,42,IF(AND(AD16>5,AD16<45),46-AD16,2))))))) -> 0 | AF16: =J16+M16+P16+S16+V16+Y16+AB16+AE16 -> 40 | AG16: =A16 -> 6 | AH16: =AF16-MIN(J16,M16,P16,S16,V16,Y16,AB16,AE16) -> 40 | AJ16: 6 | AK16: 225 | AM16: 6 | AP16: 6 | AS16: 6 | AV16: 6 | AY16: 6 | BB16: 6 | BE16: 6
A17: 7 | B17: =AF17 -> 39 | C17: 229 | D17: Mael HUGNIT | E17: H | F17: ORC Epone | H17: 1 | I17: 7 | J17: =IF(I17=" ",0,IF(I17=1,50,IF(I17=2,48,IF(I17=3,46,IF(I17=4,44,IF(I17=5,42,IF(AND(I17>5,I17<45),46-I17,2))))))) -> 39 | L17: =IF(SUMIF(AN$11:AN$97,$C17,AM$11:AM$97)=0," ",SUMIF(AN$11:AN$97,$C17,AM$11:AM$97)) | M17: =IF(L17=" ",0,IF(L17=1,50,IF(L17=2,48,IF(L17=3,46,IF(L17=4,44,IF(L17=5,42,IF(AND(L17>5,L17<45),46-L17,2))))))) -> 0 | O17: =IF(SUMIF(AQ$11:AQ$97,$C17,AP$11:AP$97)=0," ",SUMIF(AQ$11:AQ$97,$C17,AP$11:AP$97)) | P17: =IF(O17=" ",0,IF(O17=1,50,IF(O17=2,48,IF(O17=3,46,IF(O17=4,44,IF(O17=5,42,IF(AND(O17>5,O17<45),46-O17,2))))))) -> 0 | R17: =IF(SUMIF(AT$11:AT$97,$C17,AS$11:AS$97)=0," ",SUMIF(AT$11:AT$97,$C17,AS$11:AS$97)) | S17: =IF(R17=" ",0,IF(R17=1,50,IF(R17=2,48,IF(R17=3,46,IF(R17=4,44,IF(R17=5,42,IF(AND(R17>5,R17<45),46-R17,2))))))) -> 0 | U17: =IF(SUMIF(AW$11:AW$97,$C17,AV$11:AV$97)=0," ",SUMIF(AW$11:AW$97,$C17,AV$11:AV$97)) | V17: =IF(U17=" ",0,IF(U17=1,50,IF(U17=2,48,IF(U17=3,46,IF(U17=4,44,IF(U17=5,42,IF(AND(U17>5,U17<45),46-U17,2))))))) -> 0 | X17: =IF(SUMIF(AZ$11:AZ$97,$C17,AY$11:AY$97)=0," ",SUMIF(AZ$11:AZ$97,$C17,AY$11:AY$97)) | Y17: =IF(X17=" ",0,IF(X17=1,50,IF(X17=2,48,IF(X17=3,46,IF(X17=4,44,IF(X17=5,42,IF(AND(X17>5,X17<45),46-X17,2))))))) -> 0 | AA17: =IF(SUMIF(BC$11:BC$97,$C17,BB$11:BB$97)=0," ",SUMIF(BC$11:BC$97,$C17,BB$11:BB$97)) | AB17: =IF(AA17=" ",0,IF(AA17=1,50,IF(AA17=2,48,IF(AA17=3,46,IF(AA17=4,44,IF(AA17=5,42,IF(AND(AA17>5,AA17<45),46-AA17,2))))))) -> 0 | AD17: =IF(SUMIF(BF$11:BF$97,$C17,BE$11:BE$97)=0," ",SUMIF(BF$11:BF$97,$C17,BE$11:BE$97)) | AE17: =IF(AD17=" ",0,IF(AD17=1,50,IF(AD17=2,48,IF(AD17=3,46,IF(AD17=4,44,IF(AD17=5,42,IF(AND(AD17>5,AD17<45),46-AD17,2))))))) -> 0 | AF17: =J17+M17+P17+S17+V17+Y17+AB17+AE17 -> 39 | AG17: =A17 -> 7 | AH17: =AF17-MIN(J17,M17,P17,S17,V17,Y17,AB17,AE17) -> 39 | AJ17: 7 | AK17: 229 | AM17: 7 | AP17: 7 | AS17: 7 | AV17: 7 | AY17: 7 | BB17: 7 | BE17: 7
A18: 8 | B18: =AF18 -> 38 | C18: 213 | D18: Antonin DE ROSSO | E18: H | F18: Ocvo | H18: 1 | I18: 8 | J18: =IF(I18=" ",0,IF(I18=1,50,IF(I18=2,48,IF(I18=3,46,IF(I18=4,44,IF(I18=5,42,IF(AND(I18>5,I18<45),46-I18,2))))))) -> 38 | L18: =IF(SUMIF(AN$11:AN$97,$C18,AM$11:AM$97)=0," ",SUMIF(AN$11:AN$97,$C18,AM$11:AM$97)) | M18: =IF(L18=" ",0,IF(L18=1,50,IF(L18=2,48,IF(L18=3,46,IF(L18=4,44,IF(L18=5,42,IF(AND(L18>5,L18<45),46-L18,2))))))) -> 0 | O18: =IF(SUMIF(AQ$11:AQ$97,$C18,AP$11:AP$97)=0," ",SUMIF(AQ$11:AQ$97,$C18,AP$11:AP$97)) | P18: =IF(O18=" ",0,IF(O18=1,50,IF(O18=2,48,IF(O18=3,46,IF(O18=4,44,IF(O18=5,42,IF(AND(O18>5,O18<45),46-O18,2))))))) -> 0 | R18: =IF(SUMIF(AT$11:AT$97,$C18,AS$11:AS$97)=0," ",SUMIF(AT$11:AT$97,$C18,AS$11:AS$97)) | S18: =IF(R18=" ",0,IF(R18=1,50,IF(R18=2,48,IF(R18=3,46,IF(R18=4,44,IF(R18=5,42,IF(AND(R18>5,R18<45),46-R18,2))))))) -> 0 | U18: =IF(SUMIF(AW$11:AW$97,$C18,AV$11:AV$97)=0," ",SUMIF(AW$11:AW$97,$C18,AV$11:AV$97)) | V18: =IF(U18=" ",0,IF(U18=1,50,IF(U18=2,48,IF(U18=3,46,IF(U18=4,44,IF(U18=5,42,IF(AND(U18>5,U18<45),46-U18,2))))))) -> 0 | X18: =IF(SUMIF(AZ$11:AZ$97,$C18,AY$11:AY$97)=0," ",SUMIF(AZ$11:AZ$97,$C18,AY$11:AY$97)) | Y18: =IF(X18=" ",0,IF(X18=1,50,IF(X18=2,48,IF(X18=3,46,IF(X18=4,44,IF(X18=5,42,IF(AND(X18>5,X18<45),46-X18,2))))))) -> 0 | AA18: =IF(SUMIF(BC$11:BC$97,$C18,BB$11:BB$97)=0," ",SUMIF(BC$11:BC$97,$C18,BB$11:BB$97)) | AB18: =IF(AA18=" ",0,IF(AA18=1,50,IF(AA18=2,48,IF(AA18=3,46,IF(AA18=4,44,IF(AA18=5,42,IF(AND(AA18>5,AA18<45),46-AA18,2))))))) -> 0 | AD18: =IF(SUMIF(BF$11:BF$97,$C18,BE$11:BE$97)=0," ",SUMIF(BF$11:BF$97,$C18,BE$11:BE$97)) | AE18: =IF(AD18=" ",0,IF(AD18=1,50,IF(AD18=2,48,IF(AD18=3,46,IF(AD18=4,44,IF(AD18=5,42,IF(AND(AD18>5,AD18<45),46-AD18,2))))))) -> 0 | AF18: =J18+M18+P18+S18+V18+Y18+AB18+AE18 -> 38 | AG18: =A18 -> 8 | AH18: =AF18-MIN(J18,M18,P18,S18,V18,Y18,AB18,AE18) -> 38 | AJ18: 8 | AK18: 213 | AM18: 8 | AP18: 8 | AS18: 8 | AV18: 8 | AY18: 8 | BB18: 8 | BE18: 8
A19: 9 | B19: =AF19 -> 37 | C19: 216 | D19: Adam BERDIL | E19: H | F19: OCVO | H19: 1 | I19: 9 | J19: =IF(I19=" ",0,IF(I19=1,50,IF(I19=2,48,IF(I19=3,46,IF(I19=4,44,IF(I19=5,42,IF(AND(I19>5,I19<45),46-I19,2))))))) -> 37 | L19: =IF(SUMIF(AN$11:AN$97,$C19,AM$11:AM$97)=0," ",SUMIF(AN$11:AN$97,$C19,AM$11:AM$97)) | M19: =IF(L19=" ",0,IF(L19=1,50,IF(L19=2,48,IF(L19=3,46,IF(L19=4,44,IF(L19=5,42,IF(AND(L19>5,L19<45),46-L19,2))))))) -> 0 | O19: =IF(SUMIF(AQ$11:AQ$97,$C19,AP$11:AP$97)=0," ",SUMIF(AQ$11:AQ$97,$C19,AP$11:AP$97)) | P19: =IF(O19=" ",0,IF(O19=1,50,IF(O19=2,48,IF(O19=3,46,IF(O19=4,44,IF(O19=5,42,IF(AND(O19>5,O19<45),46-O19,2))))))) -> 0 | R19: =IF(SUMIF(AT$11:AT$97,$C19,AS$11:AS$97)=0," ",SUMIF(AT$11:AT$97,$C19,AS$11:AS$97)) | S19: =IF(R19=" ",0,IF(R19=1,50,IF(R19=2,48,IF(R19=3,46,IF(R19=4,44,IF(R19=5,42,IF(AND(R19>5,R19<45),46-R19,2))))))) -> 0 | U19: =IF(SUMIF(AW$11:AW$97,$C19,AV$11:AV$97)=0," ",SUMIF(AW$11:AW$97,$C19,AV$11:AV$97)) | V19: =IF(U19=" ",0,IF(U19=1,50,IF(U19=2,48,IF(U19=3,46,IF(U19=4,44,IF(U19=5,42,IF(AND(U19>5,U19<45),46-U19,2))))))) -> 0 | X19: =IF(SUMIF(AZ$11:AZ$97,$C19,AY$11:AY$97)=0," ",SUMIF(AZ$11:AZ$97,$C19,AY$11:AY$97)) | Y19: =IF(X19=" ",0,IF(X19=1,50,IF(X19=2,48,IF(X19=3,46,IF(X19=4,44,IF(X19=5,42,IF(AND(X19>5,X19<45),46-X19,2))))))) -> 0 | AA19: =IF(SUMIF(BC$11:BC$97,$C19,BB$11:BB$97)=0," ",SUMIF(BC$11:BC$97,$C19,BB$11:BB$97)) | AB19: =IF(AA19=" ",0,IF(AA19=1,50,IF(AA19=2,48,IF(AA19=3,46,IF(AA19=4,44,IF(AA19=5,42,IF(AND(AA19>5,AA19<45),46-AA19,2))))))) -> 0 | AD19: =IF(SUMIF(BF$11:BF$97,$C19,BE$11:BE$97)=0," ",SUMIF(BF$11:BF$97,$C19,BE$11:BE$97)) | AE19: =IF(AD19=" ",0,IF(AD19=1,50,IF(AD19=2,48,IF(AD19=3,46,IF(AD19=4,44,IF(AD19=5,42,IF(AND(AD19>5,AD19<45),46-AD19,2))))))) -> 0 | AF19: =J19+M19+P19+S19+V19+Y19+AB19+AE19 -> 37 | AG19: =A19 -> 9 | AH19: =AF19-MIN(J19,M19,P19,S19,V19,Y19,AB19,AE19) -> 37 | AJ19: 9 | AK19: 216 | AM19: 9 | AP19: 9 | AS19: 9 | AV19: 9 | AY19: 9 | BB19: 9 | BE19: 9
A20: 10 | B20: =AF20 -> 36 | C20: 226 | D20: Gabriel MONNIER | E20: H | F20: ORC | H20: 1 | I20: 10 | J20: =IF(I20=" ",0,IF(I20=1,50,IF(I20=2,48,IF(I20=3,46,IF(I20=4,44,IF(I20=5,42,IF(AND(I20>5,I20<45),46-I20,2))))))) -> 36 | L20: =IF(SUMIF(AN$11:AN$97,$C20,AM$11:AM$97)=0," ",SUMIF(AN$11:AN$97,$C20,AM$11:AM$97)) | M20: =IF(L20=" ",0,IF(L20=1,50,IF(L20=2,48,IF(L20=3,46,IF(L20=4,44,IF(L20=5,42,IF(AND(L20>5,L20<45),46-L20,2))))))) -> 0 | O20: =IF(SUMIF(AQ$11:AQ$97,$C20,AP$11:AP$97)=0," ",SUMIF(AQ$11:AQ$97,$C20,AP$11:AP$97)) | P20: =IF(O20=" ",0,IF(O20=1,50,IF(O20=2,48,IF(O20=3,46,IF(O20=4,44,IF(O20=5,42,IF(AND(O20>5,O20<45),46-O20,2))))))) -> 0 | R20: =IF(SUMIF(AT$11:AT$97,$C20,AS$11:AS$97)=0," ",SUMIF(AT$11:AT$97,$C20,AS$11:AS$97)) | S20: =IF(R20=" ",0,IF(R20=1,50,IF(R20=2,48,IF(R20=3,46,IF(R20=4,44,IF(R20=5,42,IF(AND(R20>5,R20<45),46-R20,2))))))) -> 0 | U20: =IF(SUMIF(AW$11:AW$97,$C20,AV$11:AV$97)=0," ",SUMIF(AW$11:AW$97,$C20,AV$11:AV$97)) | V20: =IF(U20=" ",0,IF(U20=1,50,IF(U20=2,48,IF(U20=3,46,IF(U20=4,44,IF(U20=5,42,IF(AND(U20>5,U20<45),46-U20,2))))))) -> 0 | X20: =IF(SUMIF(AZ$11:AZ$97,$C20,AY$11:AY$97)=0," ",SUMIF(AZ$11:AZ$97,$C20,AY$11:AY$97)) | Y20: =IF(X20=" ",0,IF(X20=1,50,IF(X20=2,48,IF(X20=3,46,IF(X20=4,44,IF(X20=5,42,IF(AND(X20>5,X20<45),46-X20,2))))))) -> 0 | AA20: =IF(SUMIF(BC$11:BC$97,$C20,BB$11:BB$97)=0," ",SUMIF(BC$11:BC$97,$C20,BB$11:BB$97)) | AB20: =IF(AA20=" ",0,IF(AA20=1,50,IF(AA20=2,48,IF(AA20=3,46,IF(AA20=4,44,IF(AA20=5,42,IF(AND(AA20>5,AA20<45),46-AA20,2))))))) -> 0 | AD20: =IF(SUMIF(BF$11:BF$97,$C20,BE$11:BE$97)=0," ",SUMIF(BF$11:BF$97,$C20,BE$11:BE$97)) | AE20: =IF(AD20=" ",0,IF(AD20=1,50,IF(AD20=2,48,IF(AD20=3,46,IF(AD20=4,44,IF(AD20=5,42,IF(AND(AD20>5,AD20<45),46-AD20,2))))))) -> 0 | AF20: =J20+M20+P20+S20+V20+Y20+AB20+AE20 -> 36 | AG20: =A20 -> 10 | AH20: =AF20-MIN(J20,M20,P20,S20,V20,Y20,AB20,AE20) -> 36 | AJ20: 10 | AK20: 226 | AM20: 10 | AP20: 10 | AS20: 10 | AV20: 10 | AY20: 10 | BB20: 10 | BE20: 10
A21: 11 | B21: =AF21 -> 35 | C21: 218 | D21: Nolan GUILEM | E21: H | F21: UCFM | H21: 1 | I21: 11 | J21: =IF(I21=" ",0,IF(I21=1,50,IF(I21=2,48,IF(I21=3,46,IF(I21=4,44,IF(I21=5,42,IF(AND(I21>5,I21<45),46-I21,2))))))) -> 35 | L21: =IF(SUMIF(AN$11:AN$97,$C21,AM$11:AM$97)=0," ",SUMIF(AN$11:AN$97,$C21,AM$11:AM$97)) | M21: =IF(L21=" ",0,IF(L21=1,50,IF(L21=2,48,IF(L21=3,46,IF(L21=4,44,IF(L21=5,42,IF(AND(L21>5,L21<45),46-L21,2))))))) -> 0 | O21: =IF(SUMIF(AQ$11:AQ$97,$C21,AP$11:AP$97)=0," ",SUMIF(AQ$11:AQ$97,$C21,AP$11:AP$97)) | P21: =IF(O21=" ",0,IF(O21=1,50,IF(O21=2,48,IF(O21=3,46,IF(O21=4,44,IF(O21=5,42,IF(AND(O21>5,O21<45),46-O21,2))))))) -> 0 | R21: =IF(SUMIF(AT$11:AT$97,$C21,AS$11:AS$97)=0," ",SUMIF(AT$11:AT$97,$C21,AS$11:AS$97)) | S21: =IF(R21=" ",0,IF(R21=1,50,IF(R21=2,48,IF(R21=3,46,IF(R21=4,44,IF(R21=5,42,IF(AND(R21>5,R21<45),46-R21,2))))))) -> 0 | U21: =IF(SUMIF(AW$11:AW$97,$C21,AV$11:AV$97)=0," ",SUMIF(AW$11:AW$97,$C21,AV$11:AV$97)) | V21: =IF(U21=" ",0,IF(U21=1,50,IF(U21=2,48,IF(U21=3,46,IF(U21=4,44,IF(U21=5,42,IF(AND(U21>5,U21<45),46-U21,2))))))) -> 0 | X21: =IF(SUMIF(AZ$11:AZ$97,$C21,AY$11:AY$97)=0," ",SUMIF(AZ$11:AZ$97,$C21,AY$11:AY$97)) | Y21: =IF(X21=" ",0,IF(X21=1,50,IF(X21=2,48,IF(X21=3,46,IF(X21=4,44,IF(X21=5,42,IF(AND(X21>5,X21<45),46-X21,2))))))) -> 0 | AA21: =IF(SUMIF(BC$11:BC$97,$C21,BB$11:BB$97)=0," ",SUMIF(BC$11:BC$97,$C21,BB$11:BB$97)) | AB21: =IF(AA21=" ",0,IF(AA21=1,50,IF(AA21=2,48,IF(AA21=3,46,IF(AA21=4,44,IF(AA21=5,42,IF(AND(AA21>5,AA21<45),46-AA21,2))))))) -> 0 | AD21: =IF(SUMIF(BF$11:BF$97,$C21,BE$11:BE$97)=0," ",SUMIF(BF$11:BF$97,$C21,BE$11:BE$97)) | AE21: =IF(AD21=" ",0,IF(AD21=1,50,IF(AD21=2,48,IF(AD21=3,46,IF(AD21=4,44,IF(AD21=5,42,IF(AND(AD21>5,AD21<45),46-AD21,2))))))) -> 0 | AF21: =J21+M21+P21+S21+V21+Y21+AB21+AE21 -> 35 | AG21: =A21 -> 11 | AH21: =AF21-MIN(J21,M21,P21,S21,V21,Y21,AB21,AE21) -> 35 | AJ21: 11 | AK21: 218 | AM21: 11 | AP21: 11 | AS21: 11 | AV21: 11 | AY21: 11 | BB21: 11 | BE21: 11
A22: 12 | B22: =AF22 -> 34 | C22: 223 | D22: Samuel MONNET | E22: H | F22: AC Marines | H22: 1 | I22: 12 | J22: =IF(I22=" ",0,IF(I22=1,50,IF(I22=2,48,IF(I22=3,46,IF(I22=4,44,IF(I22=5,42,IF(AND(I22>5,I22<45),46-I22,2))))))) -> 34 | L22: =IF(SUMIF(AN$11:AN$97,$C22,AM$11:AM$97)=0," ",SUMIF(AN$11:AN$97,$C22,AM$11:AM$97)) | M22: =IF(L22=" ",0,IF(L22=1,50,IF(L22=2,48,IF(L22=3,46,IF(L22=4,44,IF(L22=5,42,IF(AND(L22>5,L22<45),46-L22,2))))))) -> 0 | O22: =IF(SUMIF(AQ$11:AQ$97,$C22,AP$11:AP$97)=0," ",SUMIF(AQ$11:AQ$97,$C22,AP$11:AP$97)) | P22: =IF(O22=" ",0,IF(O22=1,50,IF(O22=2,48,IF(O22=3,46,IF(O22=4,44,IF(O22=5,42,IF(AND(O22>5,O22<45),46-O22,2))))))) -> 0 | R22: =IF(SUMIF(AT$11:AT$97,$C22,AS$11:AS$97)=0," ",SUMIF(AT$11:AT$97,$C22,AS$11:AS$97)) | S22: =IF(R22=" ",0,IF(R22=1,50,IF(R22=2,48,IF(R22=3,46,IF(R22=4,44,IF(R22=5,42,IF(AND(R22>5,R22<45),46-R22,2))))))) -> 0 | U22: =IF(SUMIF(AW$11:AW$97,$C22,AV$11:AV$97)=0," ",SUMIF(AW$11:AW$97,$C22,AV$11:AV$97)) | V22: =IF(U22=" ",0,IF(U22=1,50,IF(U22=2,48,IF(U22=3,46,IF(U22=4,44,IF(U22=5,42,IF(AND(U22>5,U22<45),46-U22,2))))))) -> 0 | X22: =IF(SUMIF(AZ$11:AZ$97,$C22,AY$11:AY$97)=0," ",SUMIF(AZ$11:AZ$97,$C22,AY$11:AY$97)) | Y22: =IF(X22=" ",0,IF(X22=1,50,IF(X22=2,48,IF(X22=3,46,IF(X22=4,44,IF(X22=5,42,IF(AND(X22>5,X22<45),46-X22,2))))))) -> 0 | AA22: =IF(SUMIF(BC$11:BC$97,$C22,BB$11:BB$97)=0," ",SUMIF(BC$11:BC$97,$C22,BB$11:BB$97)) | AB22: =IF(AA22=" ",0,IF(AA22=1,50,IF(AA22=2,48,IF(AA22=3,46,IF(AA22=4,44,IF(AA22=5,42,IF(AND(AA22>5,AA22<45),46-AA22,2))))))) -> 0 | AD22: =IF(SUMIF(BF$11:BF$97,$C22,BE$11:BE$97)=0," ",SUMIF(BF$11:BF$97,$C22,BE$11:BE$97)) | AE22: =IF(AD22=" ",0,IF(AD22=1,50,IF(AD22=2,48,IF(AD22=3,46,IF(AD22=4,44,IF(AD22=5,42,IF(AND(AD22>5,AD22<45),46-AD22,2))))))) -> 0 | AF22: =J22+M22+P22+S22+V22+Y22+AB22+AE22 -> 34 | AG22: =A22 -> 12 | AH22: =AF22-MIN(J22,M22,P22,S22,V22,Y22,AB22,AE22) -> 34 | AJ22: 12 | AK22: 223 | AM22: 12 | AP22: 12 | AS22: 12 | AV22: 12 | AY22: 12 | BB22: 12 | BE22: 12
... A48: 38 | B48: =AF48 -> 8 | C48: 287 | D48: Meline GALOT | E48: F | F48: OC GIF VTT | H48: 1 | I48: 38 | J48: =IF(I48=" ",0,IF(I48=1,50,IF(I48=2,48,IF(I48=3,46,IF(I48=4,44,IF(I48=5,42,IF(AND(I48>5,I48<45),46-I48,2))))))) -> 8 | L48: =IF(SUMIF(AN$11:AN$97,$C48,AM$11:AM$97)=0," ",SUMIF(AN$11:AN$97,$C48,AM$11:AM$97)) | M48: =IF(L48=" ",0,IF(L48=1,50,IF(L48=2,48,IF(L48=3,46,IF(L48=4,44,IF(L48=5,42,IF(AND(L48>5,L48<45),46-L48,2))))))) -> 0 | O48: =IF(SUMIF(AQ$11:AQ$97,$C48,AP$11:AP$97)=0," ",SUMIF(AQ$11:AQ$97,$C48,AP$11:AP$97)) | P48: =IF(O48=" ",0,IF(O48=1,50,IF(O48=2,48,IF(O48=3,46,IF(O48=4,44,IF(O48=5,42,IF(AND(O48>5,O48<45),46-O48,2))))))) -> 0 | R48: =IF(SUMIF(AT$11:AT$97,$C48,AS$11:AS$97)=0," ",SUMIF(AT$11:AT$97,$C48,AS$11:AS$97)) | S48: =IF(R48=" ",0,IF(R48=1,50,IF(R48=2,48,IF(R48=3,46,IF(R48=4,44,IF(R48=5,42,IF(AND(R48>5,R48<45),46-R48,2))))))) -> 0 | U48: =IF(SUMIF(AW$11:AW$97,$C48,AV$11:AV$97)=0," ",SUMIF(AW$11:AW$97,$C48,AV$11:AV$97)) | V48: =IF(U48=" ",0,IF(U48=1,50,IF(U48=2,48,IF(U48=3,46,IF(U48=4,44,IF(U48=5,42,IF(AND(U48>5,U48<45),46-U48,2))))))) -> 0 | X48: =IF(SUMIF(AZ$11:AZ$97,$C48,AY$11:AY$97)=0," ",SUMIF(AZ$11:AZ$97,$C48,AY$11:AY$97)) | Y48: =IF(X48=" ",0,IF(X48=1,50,IF(X48=2,48,IF(X48=3,46,IF(X48=4,44,IF(X48=5,42,IF(AND(X48>5,X48<45),46-X48,2))))))) -> 0 | AA48: =IF(SUMIF(BC$11:BC$97,$C48,BB$11:BB$97)=0," ",SUMIF(BC$11:BC$97,$C48,BB$11:BB$97)) | AB48: =IF(AA48=" ",0,IF(AA48=1,50,IF(AA48=2,48,IF(AA48=3,46,IF(AA48=4,44,IF(AA48=5,42,IF(AND(AA48>5,AA48<45),46-AA48,2))))))) -> 0 | AD48: =IF(SUMIF(BF$11:BF$97,$C48,BE$11:BE$97)=0," ",SUMIF(BF$11:BF$97,$C48,BE$11:BE$97)) | AE48: =IF(AD48=" ",0,IF(AD48=1,50,IF(AD48=2,48,IF(AD48=3,46,IF(AD48=4,44,IF(AD48=5,42,IF(AND(AD48>5,AD48<45),46-AD48,2))))))) -> 0 | AF48: =J48+M48+P48+S48+V48+Y48+AB48+AE48 -> 8 | AG48: =A48 -> 38 | AH48: =AF48-MIN(J48,M48,P48,S48,V48,Y48,AB48,AE48) -> 8 | AJ48: 38 | AK48: 287 | AM48: 38 | AP48: 38 | AS48: 38 | AV48: 38 | AY48: 38 | BB48: 38 | BE48: 38
A49: 39 | B49: =AF49 -> 0 | J49: =IF(I49=" ",0,IF(I49=1,50,IF(I49=2,48,IF(I49=3,46,IF(I49=4,44,IF(I49=5,42,IF(AND(I49>5,I49<45),46-I49,2))))))) -> 0 | L49: =IF(SUMIF(AN$11:AN$97,$C49,AM$11:AM$97)=0," ",SUMIF(AN$11:AN$97,$C49,AM$11:AM$97)) | M49: =IF(L49=" ",0,IF(L49=1,50,IF(L49=2,48,IF(L49=3,46,IF(L49=4,44,IF(L49=5,42,IF(AND(L49>5,L49<45),46-L49,2))))))) -> 0 | O49: =IF(SUMIF(AQ$11:AQ$97,$C49,AP$11:AP$97)=0," ",SUMIF(AQ$11:AQ$97,$C49,AP$11:AP$97)) | P49: =IF(O49=" ",0,IF(O49=1,50,IF(O49=2,48,IF(O49=3,46,IF(O49=4,44,IF(O49=5,42,IF(AND(O49>5,O49<45),46-O49,2))))))) -> 0 | R49: =IF(SUMIF(AT$11:AT$97,$C49,AS$11:AS$97)=0," ",SUMIF(AT$11:AT$97,$C49,AS$11:AS$97)) | S49: =IF(R49=" ",0,IF(R49=1,50,IF(R49=2,48,IF(R49=3,46,IF(R49=4,44,IF(R49=5,42,IF(AND(R49>5,R49<45),46-R49,2))))))) -> 0 | U49: =IF(SUMIF(AW$11:AW$97,$C49,AV$11:AV$97)=0," ",SUMIF(AW$11:AW$97,$C49,AV$11:AV$97)) | V49: =IF(U49=" ",0,IF(U49=1,50,IF(U49=2,48,IF(U49=3,46,IF(U49=4,44,IF(U49=5,42,IF(AND(U49>5,U49<45),46-U49,2))))))) -> 0 | X49: =IF(SUMIF(AZ$11:AZ$97,$C49,AY$11:AY$97)=0," ",SUMIF(AZ$11:AZ$97,$C49,AY$11:AY$97)) | Y49: =IF(X49=" ",0,IF(X49=1,50,IF(X49=2,48,IF(X49=3,46,IF(X49=4,44,IF(X49=5,42,IF(AND(X49>5,X49<45),46-X49,2))))))) -> 0 | AA49: =IF(SUMIF(BC$11:BC$97,$C49,BB$11:BB$97)=0," ",SUMIF(BC$11:BC$97,$C49,BB$11:BB$97)) | AB49: =IF(AA49=" ",0,IF(AA49=1,50,IF(AA49=2,48,IF(AA49=3,46,IF(AA49=4,44,IF(AA49=5,42,IF(AND(AA49>5,AA49<45),46-AA49,2))))))) -> 0 | AD49: =IF(SUMIF(BF$11:BF$97,$C49,BE$11:BE$97)=0," ",SUMIF(BF$11:BF$97,$C49,BE$11:BE$97)) | AE49: =IF(AD49=" ",0,IF(AD49=1,50,IF(AD49=2,48,IF(AD49=3,46,IF(AD49=4,44,IF(AD49=5,42,IF(AND(AD49>5,AD49<45),46-AD49,2))))))) -> 0 | AF49: =J49+M49+P49+S49+V49+Y49+AB49+AE49 -> 0 | AG49: =A49 -> 39 | AH49: =AF49-MIN(J49,M49,P49,S49,V49,Y49,AB49,AE49) -> 0 | AJ49: 39 | AM49: 39 | AP49: 39 | AS49: 39 | AV49: 39 | AY49: 39 | BB49: 39 | BE49: 39
A50: 40 | B50: =AF50 -> 0 | J50: =IF(I50=" ",0,IF(I50=1,50,IF(I50=2,48,IF(I50=3,46,IF(I50=4,44,IF(I50=5,42,IF(AND(I50>5,I50<45),46-I50,2))))))) -> 0 | L50: =IF(SUMIF(AN$11:AN$97,$C50,AM$11:AM$97)=0," ",SUMIF(AN$11:AN$97,$C50,AM$11:AM$97)) | M50: =IF(L50=" ",0,IF(L50=1,50,IF(L50=2,48,IF(L50=3,46,IF(L50=4,44,IF(L50=5,42,IF(AND(L50>5,L50<45),46-L50,2))))))) -> 0 | O50: =IF(SUMIF(AQ$11:AQ$97,$C50,AP$11:AP$97)=0," ",SUMIF(AQ$11:AQ$97,$C50,AP$11:AP$97)) | P50: =IF(O50=" ",0,IF(O50=1,50,IF(O50=2,48,IF(O50=3,46,IF(O50=4,44,IF(O50=5,42,IF(AND(O50>5,O50<45),46-O50,2))))))) -> 0 | R50: =IF(SUMIF(AT$11:AT$97,$C50,AS$11:AS$97)=0," ",SUMIF(AT$11:AT$97,$C50,AS$11:AS$97)) | S50: =IF(R50=" ",0,IF(R50=1,50,IF(R50=2,48,IF(R50=3,46,IF(R50=4,44,IF(R50=5,42,IF(AND(R50>5,R50<45),46-R50,2))))))) -> 0 | U50: =IF(SUMIF(AW$11:AW$97,$C50,AV$11:AV$97)=0," ",SUMIF(AW$11:AW$97,$C50,AV$11:AV$97)) | V50: =IF(U50=" ",0,IF(U50=1,50,IF(U50=2,48,IF(U50=3,46,IF(U50=4,44,IF(U50=5,42,IF(AND(U50>5,U50<45),46-U50,2))))))) -> 0 | X50: =IF(SUMIF(AZ$11:AZ$97,$C50,AY$11:AY$97)=0," ",SUMIF(AZ$11:AZ$97,$C50,AY$11:AY$97)) | Y50: =IF(X50=" ",0,IF(X50=1,50,IF(X50=2,48,IF(X50=3,46,IF(X50=4,44,IF(X50=5,42,IF(AND(X50>5,X50<45),46-X50,2))))))) -> 0 | AA50: =IF(SUMIF(BC$11:BC$97,$C50,BB$11:BB$97)=0," ",SUMIF(BC$11:BC$97,$C50,BB$11:BB$97)) | AB50: =IF(AA50=" ",0,IF(AA50=1,50,IF(AA50=2,48,IF(AA50=3,46,IF(AA50=4,44,IF(AA50=5,42,IF(AND(AA50>5,AA50<45),46-AA50,2))))))) -> 0 | AD50: =IF(SUMIF(BF$11:BF$97,$C50,BE$11:BE$97)=0," ",SUMIF(BF$11:BF$97,$C50,BE$11:BE$97)) | AE50: =IF(AD50=" ",0,IF(AD50=1,50,IF(AD50=2,48,IF(AD50=3,46,IF(AD50=4,44,IF(AD50=5,42,IF(AND(AD50>5,AD50<45),46-AD50,2))))))) -> 0 | AF50: =J50+M50+P50+S50+V50+Y50+AB50+AE50 -> 0 | AG50: =A50 -> 40 | AH50: =AF50-MIN(J50,M50,P50,S50,V50,Y50,AB50,AE50) -> 0 | AJ50: 40 | AM50: 40 | AP50: 40 | AS50: 40 | AV50: 40 | AY50: 40 | BB50: 40 | BE50: 40
A51: 41 | B51: =AF51 -> 0 | J51: =IF(I51=" ",0,IF(I51=1,50,IF(I51=2,48,IF(I51=3,46,IF(I51=4,44,IF(I51=5,42,IF(AND(I51>5,I51<45),46-I51,2))))))) -> 0 | L51: =IF(SUMIF(AN$11:AN$97,$C51,AM$11:AM$97)=0," ",SUMIF(AN$11:AN$97,$C51,AM$11:AM$97)) | M51: =IF(L51=" ",0,IF(L51=1,50,IF(L51=2,48,IF(L51=3,46,IF(L51=4,44,IF(L51=5,42,IF(AND(L51>5,L51<45),46-L51,2))))))) -> 0 | O51: =IF(SUMIF(AQ$11:AQ$97,$C51,AP$11:AP$97)=0," ",SUMIF(AQ$11:AQ$97,$C51,AP$11:AP$97)) | P51: =IF(O51=" ",0,IF(O51=1,50,IF(O51=2,48,IF(O51=3,46,IF(O51=4,44,IF(O51=5,42,IF(AND(O51>5,O51<45),46-O51,2))))))) -> 0 | R51: =IF(SUMIF(AT$11:AT$97,$C51,AS$11:AS$97)=0," ",SUMIF(AT$11:AT$97,$C51,AS$11:AS$97)) | S51: =IF(R51=" ",0,IF(R51=1,50,IF(R51=2,48,IF(R51=3,46,IF(R51=4,44,IF(R51=5,42,IF(AND(R51>5,R51<45),46-R51,2))))))) -> 0 | U51: =IF(SUMIF(AW$11:AW$97,$C51,AV$11:AV$97)=0," ",SUMIF(AW$11:AW$97,$C51,AV$11:AV$97)) | V51: =IF(U51=" ",0,IF(U51=1,50,IF(U51=2,48,IF(U51=3,46,IF(U51=4,44,IF(U51=5,42,IF(AND(U51>5,U51<45),46-U51,2))))))) -> 0 | X51: =IF(SUMIF(AZ$11:AZ$97,$C51,AY$11:AY$97)=0," ",SUMIF(AZ$11:AZ$97,$C51,AY$11:AY$97)) | Y51: =IF(X51=" ",0,IF(X51=1,50,IF(X51=2,48,IF(X51=3,46,IF(X51=4,44,IF(X51=5,42,IF(AND(X51>5,X51<45),46-X51,2))))))) -> 0 | AA51: =IF(SUMIF(BC$11:BC$97,$C51,BB$11:BB$97)=0," ",SUMIF(BC$11:BC$97,$C51,BB$11:BB$97)) | AB51: =IF(AA51=" ",0,IF(AA51=1,50,IF(AA51=2,48,IF(AA51=3,46,IF(AA51=4,44,IF(AA51=5,42,IF(AND(AA51>5,AA51<45),46-AA51,2))))))) -> 0 | AD51: =IF(SUMIF(BF$11:BF$97,$C51,BE$11:BE$97)=0," ",SUMIF(BF$11:BF$97,$C51,BE$11:BE$97)) | AE51: =IF(AD51=" ",0,IF(AD51=1,50,IF(AD51=2,48,IF(AD51=3,46,IF(AD51=4,44,IF(AD51=5,42,IF(AND(AD51>5,AD51<45),46-AD51,2))))))) -> 0 | AF51: =J51+M51+P51+S51+V51+Y51+AB51+AE51 -> 0 | AG51: =A51 -> 41 | AH51: =AF51-MIN(J51,M51,P51,S51,V51,Y51,AB51,AE51) -> 0 | AJ51: 41 | AM51: 41 | AP51: 41 | AS51: 41 | AV51: 41 | AY51: 41 | BB51: 41 | BE51: 41
A52: 42 | B52: =AF52 -> 0 | J52: =IF(I52=" ",0,IF(I52=1,50,IF(I52=2,48,IF(I52=3,46,IF(I52=4,44,IF(I52=5,42,IF(AND(I52>5,I52<45),46-I52,2))))))) -> 0 | L52: =IF(SUMIF(AN$11:AN$97,$C52,AM$11:AM$97)=0," ",SUMIF(AN$11:AN$97,$C52,AM$11:AM$97)) | M52: =IF(L52=" ",0,IF(L52=1,50,IF(L52=2,48,IF(L52=3,46,IF(L52=4,44,IF(L52=5,42,IF(AND(L52>5,L52<45),46-L52,2))))))) -> 0 | O52: =IF(SUMIF(AQ$11:AQ$97,$C52,AP$11:AP$97)=0," ",SUMIF(AQ$11:AQ$97,$C52,AP$11:AP$97)) | P52: =IF(O52=" ",0,IF(O52=1,50,IF(O52=2,48,IF(O52=3,46,IF(O52=4,44,IF(O52=5,42,IF(AND(O52>5,O52<45),46-O52,2))))))) -> 0 | R52: =IF(SUMIF(AT$11:AT$97,$C52,AS$11:AS$97)=0," ",SUMIF(AT$11:AT$97,$C52,AS$11:AS$97)) | S52: =IF(R52=" ",0,IF(R52=1,50,IF(R52=2,48,IF(R52=3,46,IF(R52=4,44,IF(R52=5,42,IF(AND(R52>5,R52<45),46-R52,2))))))) -> 0 | U52: =IF(SUMIF(AW$11:AW$97,$C52,AV$11:AV$97)=0," ",SUMIF(AW$11:AW$97,$C52,AV$11:AV$97)) | V52: =IF(U52=" ",0,IF(U52=1,50,IF(U52=2,48,IF(U52=3,46,IF(U52=4,44,IF(U52=5,42,IF(AND(U52>5,U52<45),46-U52,2))))))) -> 0 | X52: =IF(SUMIF(AZ$11:AZ$97,$C52,AY$11:AY$97)=0," ",SUMIF(AZ$11:AZ$97,$C52,AY$11:AY$97)) | Y52: =IF(X52=" ",0,IF(X52=1,50,IF(X52=2,48,IF(X52=3,46,IF(X52=4,44,IF(X52=5,42,IF(AND(X52>5,X52<45),46-X52,2))))))) -> 0 | AA52: =IF(SUMIF(BC$11:BC$97,$C52,BB$11:BB$97)=0," ",SUMIF(BC$11:BC$97,$C52,BB$11:BB$97)) | AB52: =IF(AA52=" ",0,IF(AA52=1,50,IF(AA52=2,48,IF(AA52=3,46,IF(AA52=4,44,IF(AA52=5,42,IF(AND(AA52>5,AA52<45),46-AA52,2))))))) -> 0 | AD52: =IF(SUMIF(BF$11:BF$97,$C52,BE$11:BE$97)=0," ",SUMIF(BF$11:BF$97,$C52,BE$11:BE$97)) | AE52: =IF(AD52=" ",0,IF(AD52=1,50,IF(AD52=2,48,IF(AD52=3,46,IF(AD52=4,44,IF(AD52=5,42,IF(AND(AD52>5,AD52<45),46-AD52,2))))))) -> 0 | AF52: =J52+M52+P52+S52+V52+Y52+AB52+AE52 -> 0 | AG52: =A52 -> 42 | AH52: =AF52-MIN(J52,M52,P52,S52,V52,Y52,AB52,AE52) -> 0 | AJ52: 42 | AM52: 42 | AP52: 42 | AS52: 42 | AV52: 42 | AY52: 42 | BB52: 42 | BE52: 42
A53: 43 | B53: =AF53 -> 0 | J53: =IF(I53=" ",0,IF(I53=1,50,IF(I53=2,48,IF(I53=3,46,IF(I53=4,44,IF(I53=5,42,IF(AND(I53>5,I53<45),46-I53,2))))))) -> 0 | L53: =IF(SUMIF(AN$11:AN$97,$C53,AM$11:AM$97)=0," ",SUMIF(AN$11:AN$97,$C53,AM$11:AM$97)) | M53: =IF(L53=" ",0,IF(L53=1,50,IF(L53=2,48,IF(L53=3,46,IF(L53=4,44,IF(L53=5,42,IF(AND(L53>5,L53<45),46-L53,2))))))) -> 0 | O53: =IF(SUMIF(AQ$11:AQ$97,$C53,AP$11:AP$97)=0," ",SUMIF(AQ$11:AQ$97,$C53,AP$11:AP$97)) | P53: =IF(O53=" ",0,IF(O53=1,50,IF(O53=2,48,IF(O53=3,46,IF(O53=4,44,IF(O53=5,42,IF(AND(O53>5,O53<45),46-O53,2))))))) -> 0 | R53: =IF(SUMIF(AT$11:AT$97,$C53,AS$11:AS$97)=0," ",SUMIF(AT$11:AT$97,$C53,AS$11:AS$97)) | S53: =IF(R53=" ",0,IF(R53=1,50,IF(R53=2,48,IF(R53=3,46,IF(R53=4,44,IF(R53=5,42,IF(AND(R53>5,R53<45),46-R53,2))))))) -> 0 | U53: =IF(SUMIF(AW$11:AW$97,$C53,AV$11:AV$97)=0," ",SUMIF(AW$11:AW$97,$C53,AV$11:AV$97)) | V53: =IF(U53=" ",0,IF(U53=1,50,IF(U53=2,48,IF(U53=3,46,IF(U53=4,44,IF(U53=5,42,IF(AND(U53>5,U53<45),46-U53,2))))))) -> 0 | X53: =IF(SUMIF(AZ$11:AZ$97,$C53,AY$11:AY$97)=0," ",SUMIF(AZ$11:AZ$97,$C53,AY$11:AY$97)) | Y53: =IF(X53=" ",0,IF(X53=1,50,IF(X53=2,48,IF(X53=3,46,IF(X53=4,44,IF(X53=5,42,IF(AND(X53>5,X53<45),46-X53,2))))))) -> 0 | AA53: =IF(SUMIF(BC$11:BC$97,$C53,BB$11:BB$97)=0," ",SUMIF(BC$11:BC$97,$C53,BB$11:BB$97)) | AB53: =IF(AA53=" ",0,IF(AA53=1,50,IF(AA53=2,48,IF(AA53=3,46,IF(AA53=4,44,IF(AA53=5,42,IF(AND(AA53>5,AA53<45),46-AA53,2))))))) -> 0 | AD53: =IF(SUMIF(BF$11:BF$97,$C53,BE$11:BE$97)=0," ",SUMIF(BF$11:BF$97,$C53,BE$11:BE$97)) | AE53: =IF(AD53=" ",0,IF(AD53=1,50,IF(AD53=2,48,IF(AD53=3,46,IF(AD53=4,44,IF(AD53=5,42,IF(AND(AD53>5,AD53<45),46-AD53,2))))))) -> 0 | AF53: =J53+M53+P53+S53+V53+Y53+AB53+AE53 -> 0 | AG53: =A53 -> 43 | AH53: =AF53-MIN(J53,M53,P53,S53,V53,Y53,AB53,AE53) -> 0 | AJ53: 43 | AM53: 43 | AP53: 43 | AS53: 43 | AV53: 43 | AY53: 43 | BB53: 43 | BE53: 43
A54: 44 | B54: =AF54 -> 0 | J54: =IF(I54=" ",0,IF(I54=1,50,IF(I54=2,48,IF(I54=3,46,IF(I54=4,44,IF(I54=5,42,IF(AND(I54>5,I54<45),46-I54,2))))))) -> 0 | L54: =IF(SUMIF(AN$11:AN$97,$C54,AM$11:AM$97)=0," ",SUMIF(AN$11:AN$97,$C54,AM$11:AM$97)) | M54: =IF(L54=" ",0,IF(L54=1,50,IF(L54=2,48,IF(L54=3,46,IF(L54=4,44,IF(L54=5,42,IF(AND(L54>5,L54<45),46-L54,2))))))) -> 0 | O54: =IF(SUMIF(AQ$11:AQ$97,$C54,AP$11:AP$97)=0," ",SUMIF(AQ$11:AQ$97,$C54,AP$11:AP$97)) | P54: =IF(O54=" ",0,IF(O54=1,50,IF(O54=2,48,IF(O54=3,46,IF(O54=4,44,IF(O54=5,42,IF(AND(O54>5,O54<45),46-O54,2))))))) -> 0 | R54: =IF(SUMIF(AT$11:AT$97,$C54,AS$11:AS$97)=0," ",SUMIF(AT$11:AT$97,$C54,AS$11:AS$97)) | S54: =IF(R54=" ",0,IF(R54=1,50,IF(R54=2,48,IF(R54=3,46,IF(R54=4,44,IF(R54=5,42,IF(AND(R54>5,R54<45),46-R54,2))))))) -> 0 | U54: =IF(SUMIF(AW$11:AW$97,$C54,AV$11:AV$97)=0," ",SUMIF(AW$11:AW$97,$C54,AV$11:AV$97)) | V54: =IF(U54=" ",0,IF(U54=1,50,IF(U54=2,48,IF(U54=3,46,IF(U54=4,44,IF(U54=5,42,IF(AND(U54>5,U54<45),46-U54,2))))))) -> 0 | X54: =IF(SUMIF(AZ$11:AZ$97,$C54,AY$11:AY$97)=0," ",SUMIF(AZ$11:AZ$97,$C54,AY$11:AY$97)) | Y54: =IF(X54=" ",0,IF(X54=1,50,IF(X54=2,48,IF(X54=3,46,IF(X54=4,44,IF(X54=5,42,IF(AND(X54>5,X54<45),46-X54,2))))))) -> 0 | AA54: =IF(SUMIF(BC$11:BC$97,$C54,BB$11:BB$97)=0," ",SUMIF(BC$11:BC$97,$C54,BB$11:BB$97)) | AB54: =IF(AA54=" ",0,IF(AA54=1,50,IF(AA54=2,48,IF(AA54=3,46,IF(AA54=4,44,IF(AA54=5,42,IF(AND(AA54>5,AA54<45),46-AA54,2))))))) -> 0 | AD54: =IF(SUMIF(BF$11:BF$97,$C54,BE$11:BE$97)=0," ",SUMIF(BF$11:BF$97,$C54,BE$11:BE$97)) | AE54: =IF(AD54=" ",0,IF(AD54=1,50,IF(AD54=2,48,IF(AD54=3,46,IF(AD54=4,44,IF(AD54=5,42,IF(AND(AD54>5,AD54<45),46-AD54,2))))))) -> 0 | AF54: =J54+M54+P54+S54+V54+Y54+AB54+AE54 -> 0 | AG54: =A54 -> 44 | AH54: =AF54-MIN(J54,M54,P54,S54,V54,Y54,AB54,AE54) -> 0 | AJ54: 44 | AM54: 44 | AP54: 44 | AS54: 44 | AV54: 44 | AY54: 44 | BB54: 44 | BE54: 44
A55: 45 | B55: =AF55 -> 0 | I55: =IF(SUMIF(AK$11:AK$97,$C55,AJ$11:AJ$97)=0," ",SUMIF(AK$11:AK$97,$C55,AJ$11:AJ$97)) | J55: =IF(I55=" ",0,IF(I55=1,50,IF(I55=2,48,IF(I55=3,46,IF(I55=4,44,IF(I55=5,42,IF(AND(I55>5,I55<45),46-I55,2))))))) -> 0 | L55: =IF(SUMIF(AN$11:AN$97,$C55,AM$11:AM$97)=0," ",SUMIF(AN$11:AN$97,$C55,AM$11:AM$97)) | M55: =IF(L55=" ",0,IF(L55=1,50,IF(L55=2,48,IF(L55=3,46,IF(L55=4,44,IF(L55=5,42,IF(AND(L55>5,L55<45),46-L55,2))))))) -> 0 | O55: =IF(SUMIF(AQ$11:AQ$97,$C55,AP$11:AP$97)=0," ",SUMIF(AQ$11:AQ$97,$C55,AP$11:AP$97)) | P55: =IF(O55=" ",0,IF(O55=1,50,IF(O55=2,48,IF(O55=3,46,IF(O55=4,44,IF(O55=5,42,IF(AND(O55>5,O55<45),46-O55,2))))))) -> 0 | R55: =IF(SUMIF(AT$11:AT$97,$C55,AS$11:AS$97)=0," ",SUMIF(AT$11:AT$97,$C55,AS$11:AS$97)) | S55: =IF(R55=" ",0,IF(R55=1,50,IF(R55=2,48,IF(R55=3,46,IF(R55=4,44,IF(R55=5,42,IF(AND(R55>5,R55<45),46-R55,2))))))) -> 0 | U55: =IF(SUMIF(AW$11:AW$97,$C55,AV$11:AV$97)=0," ",SUMIF(AW$11:AW$97,$C55,AV$11:AV$97)) | V55: =IF(U55=" ",0,IF(U55=1,50,IF(U55=2,48,IF(U55=3,46,IF(U55=4,44,IF(U55=5,42,IF(AND(U55>5,U55<45),46-U55,2))))))) -> 0 | X55: =IF(SUMIF(AZ$11:AZ$97,$C55,AY$11:AY$97)=0," ",SUMIF(AZ$11:AZ$97,$C55,AY$11:AY$97)) | Y55: =IF(X55=" ",0,IF(X55=1,50,IF(X55=2,48,IF(X55=3,46,IF(X55=4,44,IF(X55=5,42,IF(AND(X55>5,X55<45),46-X55,2))))))) -> 0 | AA55: =IF(SUMIF(BC$11:BC$97,$C55,BB$11:BB$97)=0," ",SUMIF(BC$11:BC$97,$C55,BB$11:BB$97)) | AB55: =IF(AA55=" ",0,IF(AA55=1,50,IF(AA55=2,48,IF(AA55=3,46,IF(AA55=4,44,IF(AA55=5,42,IF(AND(AA55>5,AA55<45),46-AA55,2))))))) -> 0 | AD55: =IF(SUMIF(BF$11:BF$97,$C55,BE$11:BE$97)=0," ",SUMIF(BF$11:BF$97,$C55,BE$11:BE$97)) | AE55: =IF(AD55=" ",0,IF(AD55=1,50,IF(AD55=2,48,IF(AD55=3,46,IF(AD55=4,44,IF(AD55=5,42,IF(AND(AD55>5,AD55<45),46-AD55,2))))))) -> 0 | AF55: =J55+M55+P55+S55+V55+Y55+AB55+AE55 -> 0 | AG55: =A55 -> 45 | AH55: =AF55-MIN(J55,M55,P55,S55,V55,Y55,AB55,AE55) -> 0 | AJ55: 45 | AM55: 45 | AP55: 45 | AS55: 45 | AV55: 45 | AY55: 45 | BB55: 45 | BE55: 45
A56: 46 | B56: =AF56 -> 0 | I56: =IF(SUMIF(AK$11:AK$97,$C56,AJ$11:AJ$97)=0," ",SUMIF(AK$11:AK$97,$C56,AJ$11:AJ$97)) | J56: =IF(I56=" ",0,IF(I56=1,50,IF(I56=2,48,IF(I56=3,46,IF(I56=4,44,IF(I56=5,42,IF(AND(I56>5,I56<45),46-I56,2))))))) -> 0 | L56: =IF(SUMIF(AN$11:AN$97,$C56,AM$11:AM$97)=0," ",SUMIF(AN$11:AN$97,$C56,AM$11:AM$97)) | M56: =IF(L56=" ",0,IF(L56=1,50,IF(L56=2,48,IF(L56=3,46,IF(L56=4,44,IF(L56=5,42,IF(AND(L56>5,L56<45),46-L56,2))))))) -> 0 | O56: =IF(SUMIF(AQ$11:AQ$97,$C56,AP$11:AP$97)=0," ",SUMIF(AQ$11:AQ$97,$C56,AP$11:AP$97)) | P56: =IF(O56=" ",0,IF(O56=1,50,IF(O56=2,48,IF(O56=3,46,IF(O56=4,44,IF(O56=5,42,IF(AND(O56>5,O56<45),46-O56,2))))))) -> 0 | R56: =IF(SUMIF(AT$11:AT$97,$C56,AS$11:AS$97)=0," ",SUMIF(AT$11:AT$97,$C56,AS$11:AS$97)) | S56: =IF(R56=" ",0,IF(R56=1,50,IF(R56=2,48,IF(R56=3,46,IF(R56=4,44,IF(R56=5,42,IF(AND(R56>5,R56<45),46-R56,2))))))) -> 0 | U56: =IF(SUMIF(AW$11:AW$97,$C56,AV$11:AV$97)=0," ",SUMIF(AW$11:AW$97,$C56,AV$11:AV$97)) | V56: =IF(U56=" ",0,IF(U56=1,50,IF(U56=2,48,IF(U56=3,46,IF(U56=4,44,IF(U56=5,42,IF(AND(U56>5,U56<45),46-U56,2))))))) -> 0 | X56: =IF(SUMIF(AZ$11:AZ$97,$C56,AY$11:AY$97)=0," ",SUMIF(AZ$11:AZ$97,$C56,AY$11:AY$97)) | Y56: =IF(X56=" ",0,IF(X56=1,50,IF(X56=2,48,IF(X56=3,46,IF(X56=4,44,IF(X56=5,42,IF(AND(X56>5,X56<45),46-X56,2))))))) -> 0 | AA56: =IF(SUMIF(BC$11:BC$97,$C56,BB$11:BB$97)=0," ",SUMIF(BC$11:BC$97,$C56,BB$11:BB$97)) | AB56: =IF(AA56=" ",0,IF(AA56=1,50,IF(AA56=2,48,IF(AA56=3,46,IF(AA56=4,44,IF(AA56=5,42,IF(AND(AA56>5,AA56<45),46-AA56,2))))))) -> 0 | AD56: =IF(SUMIF(BF$11:BF$97,$C56,BE$11:BE$97)=0," ",SUMIF(BF$11:BF$97,$C56,BE$11:BE$97)) | AE56: =IF(AD56=" ",0,IF(AD56=1,50,IF(AD56=2,48,IF(AD56=3,46,IF(AD56=4,44,IF(AD56=5,42,IF(AND(AD56>5,AD56<45),46-AD56,2))))))) -> 0 | AF56: =J56+M56+P56+S56+V56+Y56+AB56+AE56 -> 0 | AG56: =A56 -> 46 | AH56: =AF56-MIN(J56,M56,P56,S56,V56,Y56,AB56,AE56) -> 0 | AJ56: 46 | AM56: 46 | AP56: 46 | AS56: 46 | AV56: 46 | AY56: 46 | BB56: 46 | BE56: 46
A57: 47 | B57: =AF57 -> 0 | I57: =IF(SUMIF(AK$11:AK$97,$C57,AJ$11:AJ$97)=0," ",SUMIF(AK$11:AK$97,$C57,AJ$11:AJ$97)) | J57: =IF(I57=" ",0,IF(I57=1,50,IF(I57=2,48,IF(I57=3,46,IF(I57=4,44,IF(I57=5,42,IF(AND(I57>5,I57<45),46-I57,2))))))) -> 0 | L57: =IF(SUMIF(AN$11:AN$97,$C57,AM$11:AM$97)=0," ",SUMIF(AN$11:AN$97,$C57,AM$11:AM$97)) | M57: =IF(L57=" ",0,IF(L57=1,50,IF(L57=2,48,IF(L57=3,46,IF(L57=4,44,IF(L57=5,42,IF(AND(L57>5,L57<45),46-L57,2))))))) -> 0 | O57: =IF(SUMIF(AQ$11:AQ$97,$C57,AP$11:AP$97)=0," ",SUMIF(AQ$11:AQ$97,$C57,AP$11:AP$97)) | P57: =IF(O57=" ",0,IF(O57=1,50,IF(O57=2,48,IF(O57=3,46,IF(O57=4,44,IF(O57=5,42,IF(AND(O57>5,O57<45),46-O57,2))))))) -> 0 | R57: =IF(SUMIF(AT$11:AT$97,$C57,AS$11:AS$97)=0," ",SUMIF(AT$11:AT$97,$C57,AS$11:AS$97)) | S57: =IF(R57=" ",0,IF(R57=1,50,IF(R57=2,48,IF(R57=3,46,IF(R57=4,44,IF(R57=5,42,IF(AND(R57>5,R57<45),46-R57,2))))))) -> 0 | U57: =IF(SUMIF(AW$11:AW$97,$C57,AV$11:AV$97)=0," ",SUMIF(AW$11:AW$97,$C57,AV$11:AV$97)) | V57: =IF(U57=" ",0,IF(U57=1,50,IF(U57=2,48,IF(U57=3,46,IF(U57=4,44,IF(U57=5,42,IF(AND(U57>5,U57<45),46-U57,2))))))) -> 0 | X57: =IF(SUMIF(AZ$11:AZ$97,$C57,AY$11:AY$97)=0," ",SUMIF(AZ$11:AZ$97,$C57,AY$11:AY$97)) | Y57: =IF(X57=" ",0,IF(X57=1,50,IF(X57=2,48,IF(X57=3,46,IF(X57=4,44,IF(X57=5,42,IF(AND(X57>5,X57<45),46-X57,2))))))) -> 0 | AA57: =IF(SUMIF(BC$11:BC$97,$C57,BB$11:BB$97)=0," ",SUMIF(BC$11:BC$97,$C57,BB$11:BB$97)) | AB57: =IF(AA57=" ",0,IF(AA57=1,50,IF(AA57=2,48,IF(AA57=3,46,IF(AA57=4,44,IF(AA57=5,42,IF(AND(AA57>5,AA57<45),46-AA57,2))))))) -> 0 | AD57: =IF(SUMIF(BF$11:BF$97,$C57,BE$11:BE$97)=0," ",SUMIF(BF$11:BF$97,$C57,BE$11:BE$97)) | AE57: =IF(AD57=" ",0,IF(AD57=1,50,IF(AD57=2,48,IF(AD57=3,46,IF(AD57=4,44,IF(AD57=5,42,IF(AND(AD57>5,AD57<45),46-AD57,2))))))) -> 0 | AF57: =J57+M57+P57+S57+V57+Y57+AB57+AE57 -> 0 | AG57: =A57 -> 47 | AH57: =AF57-MIN(J57,M57,P57,S57,V57,Y57,AB57,AE57) -> 0 | AJ57: 47 | AM57: 47 | AP57: 47 | AS57: 47 | AV57: 47 | AY57: 47 | BB57: 47 | BE57: 47
A58: 48 | B58: =AF58 -> 0 | I58: =IF(SUMIF(AK$11:AK$97,$C58,AJ$11:AJ$97)=0," ",SUMIF(AK$11:AK$97,$C58,AJ$11:AJ$97)) | J58: =IF(I58=" ",0,IF(I58=1,50,IF(I58=2,48,IF(I58=3,46,IF(I58=4,44,IF(I58=5,42,IF(AND(I58>5,I58<45),46-I58,2))))))) -> 0 | L58: =IF(SUMIF(AN$11:AN$97,$C58,AM$11:AM$97)=0," ",SUMIF(AN$11:AN$97,$C58,AM$11:AM$97)) | M58: =IF(L58=" ",0,IF(L58=1,50,IF(L58=2,48,IF(L58=3,46,IF(L58=4,44,IF(L58=5,42,IF(AND(L58>5,L58<45),46-L58,2))))))) -> 0 | O58: =IF(SUMIF(AQ$11:AQ$97,$C58,AP$11:AP$97)=0," ",SUMIF(AQ$11:AQ$97,$C58,AP$11:AP$97)) | P58: =IF(O58=" ",0,IF(O58=1,50,IF(O58=2,48,IF(O58=3,46,IF(O58=4,44,IF(O58=5,42,IF(AND(O58>5,O58<45),46-O58,2))))))) -> 0 | R58: =IF(SUMIF(AT$11:AT$97,$C58,AS$11:AS$97)=0," ",SUMIF(AT$11:AT$97,$C58,AS$11:AS$97)) | S58: =IF(R58=" ",0,IF(R58=1,50,IF(R58=2,48,IF(R58=3,46,IF(R58=4,44,IF(R58=5,42,IF(AND(R58>5,R58<45),46-R58,2))))))) -> 0 | U58: =IF(SUMIF(AW$11:AW$97,$C58,AV$11:AV$97)=0," ",SUMIF(AW$11:AW$97,$C58,AV$11:AV$97)) | V58: =IF(U58=" ",0,IF(U58=1,50,IF(U58=2,48,IF(U58=3,46,IF(U58=4,44,IF(U58=5,42,IF(AND(U58>5,U58<45),46-U58,2))))))) -> 0 | X58: =IF(SUMIF(AZ$11:AZ$97,$C58,AY$11:AY$97)=0," ",SUMIF(AZ$11:AZ$97,$C58,AY$11:AY$97)) | Y58: =IF(X58=" ",0,IF(X58=1,50,IF(X58=2,48,IF(X58=3,46,IF(X58=4,44,IF(X58=5,42,IF(AND(X58>5,X58<45),46-X58,2))))))) -> 0 | AA58: =IF(SUMIF(BC$11:BC$97,$C58,BB$11:BB$97)=0," ",SUMIF(BC$11:BC$97,$C58,BB$11:BB$97)) | AB58: =IF(AA58=" ",0,IF(AA58=1,50,IF(AA58=2,48,IF(AA58=3,46,IF(AA58=4,44,IF(AA58=5,42,IF(AND(AA58>5,AA58<45),46-AA58,2))))))) -> 0 | AD58: =IF(SUMIF(BF$11:BF$97,$C58,BE$11:BE$97)=0," ",SUMIF(BF$11:BF$97,$C58,BE$11:BE$97)) | AE58: =IF(AD58=" ",0,IF(AD58=1,50,IF(AD58=2,48,IF(AD58=3,46,IF(AD58=4,44,IF(AD58=5,42,IF(AND(AD58>5,AD58<45),46-AD58,2))))))) -> 0 | AF58: =J58+M58+P58+S58+V58+Y58+AB58+AE58 -> 0 | AG58: =A58 -> 48 | AH58: =AF58-MIN(J58,M58,P58,S58,V58,Y58,AB58,AE58) -> 0 | AJ58: 48 | AM58: 48 | AP58: 48 | AS58: 48 | AV58: 48 | AY58: 48 | BB58: 48 | BE58: 48
A59: 49 | B59: =AF59 -> 0 | I59: =IF(SUMIF(AK$11:AK$97,$C59,AJ$11:AJ$97)=0," ",SUMIF(AK$11:AK$97,$C59,AJ$11:AJ$97)) | J59: =IF(I59=" ",0,IF(I59=1,50,IF(I59=2,48,IF(I59=3,46,IF(I59=4,44,IF(I59=5,42,IF(AND(I59>5,I59<45),46-I59,2))))))) -> 0 | L59: =IF(SUMIF(AN$11:AN$97,$C59,AM$11:AM$97)=0," ",SUMIF(AN$11:AN$97,$C59,AM$11:AM$97)) | M59: =IF(L59=" ",0,IF(L59=1,50,IF(L59=2,48,IF(L59=3,46,IF(L59=4,44,IF(L59=5,42,IF(AND(L59>5,L59<45),46-L59,2))))))) -> 0 | O59: =IF(SUMIF(AQ$11:AQ$97,$C59,AP$11:AP$97)=0," ",SUMIF(AQ$11:AQ$97,$C59,AP$11:AP$97)) | P59: =IF(O59=" ",0,IF(O59=1,50,IF(O59=2,48,IF(O59=3,46,IF(O59=4,44,IF(O59=5,42,IF(AND(O59>5,O59<45),46-O59,2))))))) -> 0 | R59: =IF(SUMIF(AT$11:AT$97,$C59,AS$11:AS$97)=0," ",SUMIF(AT$11:AT$97,$C59,AS$11:AS$97)) | S59: =IF(R59=" ",0,IF(R59=1,50,IF(R59=2,48,IF(R59=3,46,IF(R59=4,44,IF(R59=5,42,IF(AND(R59>5,R59<45),46-R59,2))))))) -> 0 | U59: =IF(SUMIF(AW$11:AW$97,$C59,AV$11:AV$97)=0," ",SUMIF(AW$11:AW$97,$C59,AV$11:AV$97)) | V59: =IF(U59=" ",0,IF(U59=1,50,IF(U59=2,48,IF(U59=3,46,IF(U59=4,44,IF(U59=5,42,IF(AND(U59>5,U59<45),46-U59,2))))))) -> 0 | X59: =IF(SUMIF(AZ$11:AZ$97,$C59,AY$11:AY$97)=0," ",SUMIF(AZ$11:AZ$97,$C59,AY$11:AY$97)) | Y59: =IF(X59=" ",0,IF(X59=1,50,IF(X59=2,48,IF(X59=3,46,IF(X59=4,44,IF(X59=5,42,IF(AND(X59>5,X59<45),46-X59,2))))))) -> 0 | AA59: =IF(SUMIF(BC$11:BC$97,$C59,BB$11:BB$97)=0," ",SUMIF(BC$11:BC$97,$C59,BB$11:BB$97)) | AB59: =IF(AA59=" ",0,IF(AA59=1,50,IF(AA59=2,48,IF(AA59=3,46,IF(AA59=4,44,IF(AA59=5,42,IF(AND(AA59>5,AA59<45),46-AA59,2))))))) -> 0 | AD59: =IF(SUMIF(BF$11:BF$97,$C59,BE$11:BE$97)=0," ",SUMIF(BF$11:BF$97,$C59,BE$11:BE$97)) | AE59: =IF(AD59=" ",0,IF(AD59=1,50,IF(AD59=2,48,IF(AD59=3,46,IF(AD59=4,44,IF(AD59=5,42,IF(AND(AD59>5,AD59<45),46-AD59,2))))))) -> 0 | AF59: =J59+M59+P59+S59+V59+Y59+AB59+AE59 -> 0 | AG59: =A59 -> 49 | AH59: =AF59-MIN(J59,M59,P59,S59,V59,Y59,AB59,AE59) -> 0 | AJ59: 49 | AM59: 49 | AP59: 49 | AS59: 49 | AV59: 49 | AY59: 49 | BB59: 49 | BE59: 49
A60: 50 | B60: =AF60 -> 0 | I60: =IF(SUMIF(AK$11:AK$97,$C60,AJ$11:AJ$97)=0," ",SUMIF(AK$11:AK$97,$C60,AJ$11:AJ$97)) | J60: =IF(I60=" ",0,IF(I60=1,50,IF(I60=2,48,IF(I60=3,46,IF(I60=4,44,IF(I60=5,42,IF(AND(I60>5,I60<45),46-I60,2))))))) -> 0 | L60: =IF(SUMIF(AN$11:AN$97,$C60,AM$11:AM$97)=0," ",SUMIF(AN$11:AN$97,$C60,AM$11:AM$97)) | M60: =IF(L60=" ",0,IF(L60=1,50,IF(L60=2,48,IF(L60=3,46,IF(L60=4,44,IF(L60=5,42,IF(AND(L60>5,L60<45),46-L60,2))))))) -> 0 | O60: =IF(SUMIF(AQ$11:AQ$97,$C60,AP$11:AP$97)=0," ",SUMIF(AQ$11:AQ$97,$C60,AP$11:AP$97)) | P60: =IF(O60=" ",0,IF(O60=1,50,IF(O60=2,48,IF(O60=3,46,IF(O60=4,44,IF(O60=5,42,IF(AND(O60>5,O60<45),46-O60,2))))))) -> 0 | R60: =IF(SUMIF(AT$11:AT$97,$C60,AS$11:AS$97)=0," ",SUMIF(AT$11:AT$97,$C60,AS$11:AS$97)) | S60: =IF(R60=" ",0,IF(R60=1,50,IF(R60=2,48,IF(R60=3,46,IF(R60=4,44,IF(R60=5,42,IF(AND(R60>5,R60<45),46-R60,2))))))) -> 0 | U60: =IF(SUMIF(AW$11:AW$97,$C60,AV$11:AV$97)=0," ",SUMIF(AW$11:AW$97,$C60,AV$11:AV$97)) | V60: =IF(U60=" ",0,IF(U60=1,50,IF(U60=2,48,IF(U60=3,46,IF(U60=4,44,IF(U60=5,42,IF(AND(U60>5,U60<45),46-U60,2))))))) -> 0 | X60: =IF(SUMIF(AZ$11:AZ$97,$C60,AY$11:AY$97)=0," ",SUMIF(AZ$11:AZ$97,$C60,AY$11:AY$97)) | Y60: =IF(X60=" ",0,IF(X60=1,50,IF(X60=2,48,IF(X60=3,46,IF(X60=4,44,IF(X60=5,42,IF(AND(X60>5,X60<45),46-X60,2))))))) -> 0 | AA60: =IF(SUMIF(BC$11:BC$97,$C60,BB$11:BB$97)=0," ",SUMIF(BC$11:BC$97,$C60,BB$11:BB$97)) | AB60: =IF(AA60=" ",0,IF(AA60=1,50,IF(AA60=2,48,IF(AA60=3,46,IF(AA60=4,44,IF(AA60=5,42,IF(AND(AA60>5,AA60<45),46-AA60,2))))))) -> 0 | AD60: =IF(SUMIF(BF$11:BF$97,$C60,BE$11:BE$97)=0," ",SUMIF(BF$11:BF$97,$C60,BE$11:BE$97)) | AE60: =IF(AD60=" ",0,IF(AD60=1,50,IF(AD60=2,48,IF(AD60=3,46,IF(AD60=4,44,IF(AD60=5,42,IF(AND(AD60>5,AD60<45),46-AD60,2))))))) -> 0 | AF60: =J60+M60+P60+S60+V60+Y60+AB60+AE60 -> 0 | AG60: =A60 -> 50 | AH60: =AF60-MIN(J60,M60,P60,S60,V60,Y60,AB60,AE60) -> 0 | AJ60: 50 | AM60: 50 | AP60: 50 | AS60: 50 | AV60: 50 | AY60: 50 | BB60: 50 | BE60: 50
A61: 51 | B61: =AF61 -> 0 | I61: =IF(SUMIF(AK$11:AK$97,$C61,AJ$11:AJ$97)=0," ",SUMIF(AK$11:AK$97,$C61,AJ$11:AJ$97)) | J61: =IF(I61=" ",0,IF(I61=1,50,IF(I61=2,48,IF(I61=3,46,IF(I61=4,44,IF(I61=5,42,IF(AND(I61>5,I61<45),46-I61,2))))))) -> 0 | L61: =IF(SUMIF(AN$11:AN$97,$C61,AM$11:AM$97)=0," ",SUMIF(AN$11:AN$97,$C61,AM$11:AM$97)) | M61: =IF(L61=" ",0,IF(L61=1,50,IF(L61=2,48,IF(L61=3,46,IF(L61=4,44,IF(L61=5,42,IF(AND(L61>5,L61<45),46-L61,2))))))) -> 0 | O61: =IF(SUMIF(AQ$11:AQ$97,$C61,AP$11:AP$97)=0," ",SUMIF(AQ$11:AQ$97,$C61,AP$11:AP$97)) | P61: =IF(O61=" ",0,IF(O61=1,50,IF(O61=2,48,IF(O61=3,46,IF(O61=4,44,IF(O61=5,42,IF(AND(O61>5,O61<45),46-O61,2))))))) -> 0 | R61: =IF(SUMIF(AT$11:AT$97,$C61,AS$11:AS$97)=0," ",SUMIF(AT$11:AT$97,$C61,AS$11:AS$97)) | S61: =IF(R61=" ",0,IF(R61=1,50,IF(R61=2,48,IF(R61=3,46,IF(R61=4,44,IF(R61=5,42,IF(AND(R61>5,R61<45),46-R61,2))))))) -> 0 | U61: =IF(SUMIF(AW$11:AW$97,$C61,AV$11:AV$97)=0," ",SUMIF(AW$11:AW$97,$C61,AV$11:AV$97)) | V61: =IF(U61=" ",0,IF(U61=1,50,IF(U61=2,48,IF(U61=3,46,IF(U61=4,44,IF(U61=5,42,IF(AND(U61>5,U61<45),46-U61,2))))))) -> 0 | X61: =IF(SUMIF(AZ$11:AZ$97,$C61,AY$11:AY$97)=0," ",SUMIF(AZ$11:AZ$97,$C61,AY$11:AY$97)) | Y61: =IF(X61=" ",0,IF(X61=1,50,IF(X61=2,48,IF(X61=3,46,IF(X61=4,44,IF(X61=5,42,IF(AND(X61>5,X61<45),46-X61,2))))))) -> 0 | AA61: =IF(SUMIF(BC$11:BC$97,$C61,BB$11:BB$97)=0," ",SUMIF(BC$11:BC$97,$C61,BB$11:BB$97)) | AB61: =IF(AA61=" ",0,IF(AA61=1,50,IF(AA61=2,48,IF(AA61=3,46,IF(AA61=4,44,IF(AA61=5,42,IF(AND(AA61>5,AA61<45),46-AA61,2))))))) -> 0 | AD61: =IF(SUMIF(BF$11:BF$97,$C61,BE$11:BE$97)=0," ",SUMIF(BF$11:BF$97,$C61,BE$11:BE$97)) | AE61: =IF(AD61=" ",0,IF(AD61=1,50,IF(AD61=2,48,IF(AD61=3,46,IF(AD61=4,44,IF(AD61=5,42,IF(AND(AD61>5,AD61<45),46-AD61,2))))))) -> 0 | AF61: =J61+M61+P61+S61+V61+Y61+AB61+AE61 -> 0 | AG61: =A61 -> 51 | AH61: =AF61-MIN(J61,M61,P61,S61,V61,Y61,AB61,AE61) -> 0 | AJ61: 51 | AM61: 51 | AP61: 51 | AS61: 51 | AV61: 51 | AY61: 51 | BB61: 51 | BE61: 51
A62: 52 | B62: =AF62 -> 0 | I62: =IF(SUMIF(AK$11:AK$97,$C62,AJ$11:AJ$97)=0," ",SUMIF(AK$11:AK$97,$C62,AJ$11:AJ$97)) | J62: =IF(I62=" ",0,IF(I62=1,50,IF(I62=2,48,IF(I62=3,46,IF(I62=4,44,IF(I62=5,42,IF(AND(I62>5,I62<45),46-I62,2))))))) -> 0 | L62: =IF(SUMIF(AN$11:AN$97,$C62,AM$11:AM$97)=0," ",SUMIF(AN$11:AN$97,$C62,AM$11:AM$97)) | M62: =IF(L62=" ",0,IF(L62=1,50,IF(L62=2,48,IF(L62=3,46,IF(L62=4,44,IF(L62=5,42,IF(AND(L62>5,L62<45),46-L62,2))))))) -> 0 | O62: =IF(SUMIF(AQ$11:AQ$97,$C62,AP$11:AP$97)=0," ",SUMIF(AQ$11:AQ$97,$C62,AP$11:AP$97)) | P62: =IF(O62=" ",0,IF(O62=1,50,IF(O62=2,48,IF(O62=3,46,IF(O62=4,44,IF(O62=5,42,IF(AND(O62>5,O62<45),46-O62,2))))))) -> 0 | R62: =IF(SUMIF(AT$11:AT$97,$C62,AS$11:AS$97)=0," ",SUMIF(AT$11:AT$97,$C62,AS$11:AS$97)) | S62: =IF(R62=" ",0,IF(R62=1,50,IF(R62=2,48,IF(R62=3,46,IF(R62=4,44,IF(R62=5,42,IF(AND(R62>5,R62<45),46-R62,2))))))) -> 0 | U62: =IF(SUMIF(AW$11:AW$97,$C62,AV$11:AV$97)=0," ",SUMIF(AW$11:AW$97,$C62,AV$11:AV$97)) | V62: =IF(U62=" ",0,IF(U62=1,50,IF(U62=2,48,IF(U62=3,46,IF(U62=4,44,IF(U62=5,42,IF(AND(U62>5,U62<45),46-U62,2))))))) -> 0 | X62: =IF(SUMIF(AZ$11:AZ$97,$C62,AY$11:AY$97)=0," ",SUMIF(AZ$11:AZ$97,$C62,AY$11:AY$97)) | Y62: =IF(X62=" ",0,IF(X62=1,50,IF(X62=2,48,IF(X62=3,46,IF(X62=4,44,IF(X62=5,42,IF(AND(X62>5,X62<45),46-X62,2))))))) -> 0 | AA62: =IF(SUMIF(BC$11:BC$97,$C62,BB$11:BB$97)=0," ",SUMIF(BC$11:BC$97,$C62,BB$11:BB$97)) | AB62: =IF(AA62=" ",0,IF(AA62=1,50,IF(AA62=2,48,IF(AA62=3,46,IF(AA62=4,44,IF(AA62=5,42,IF(AND(AA62>5,AA62<45),46-AA62,2))))))) -> 0 | AD62: =IF(SUMIF(BF$11:BF$97,$C62,BE$11:BE$97)=0," ",SUMIF(BF$11:BF$97,$C62,BE$11:BE$97)) | AE62: =IF(AD62=" ",0,IF(AD62=1,50,IF(AD62=2,48,IF(AD62=3,46,IF(AD62=4,44,IF(AD62=5,42,IF(AND(AD62>5,AD62<45),46-AD62,2))))))) -> 0 | AF62: =J62+M62+P62+S62+V62+Y62+AB62+AE62 -> 0 | AG62: =A62 -> 52 | AH62: =AF62-MIN(J62,M62,P62,S62,V62,Y62,AB62,AE62) -> 0 | AJ62: 52 | AM62: 52 | AP62: 52 | AS62: 52 | AV62: 52 | AY62: 52 | BB62: 52 | BE62: 52
A63: 53 | B63: =AF63 -> 0 | I63: =IF(SUMIF(AK$11:AK$97,$C63,AJ$11:AJ$97)=0," ",SUMIF(AK$11:AK$97,$C63,AJ$11:AJ$97)) | J63: =IF(I63=" ",0,IF(I63=1,50,IF(I63=2,48,IF(I63=3,46,IF(I63=4,44,IF(I63=5,42,IF(AND(I63>5,I63<45),46-I63,2))))))) -> 0 | L63: =IF(SUMIF(AN$11:AN$97,$C63,AM$11:AM$97)=0," ",SUMIF(AN$11:AN$97,$C63,AM$11:AM$97)) | M63: =IF(L63=" ",0,IF(L63=1,50,IF(L63=2,48,IF(L63=3,46,IF(L63=4,44,IF(L63=5,42,IF(AND(L63>5,L63<45),46-L63,2))))))) -> 0 | O63: =IF(SUMIF(AQ$11:AQ$97,$C63,AP$11:AP$97)=0," ",SUMIF(AQ$11:AQ$97,$C63,AP$11:AP$97)) | P63: =IF(O63=" ",0,IF(O63=1,50,IF(O63=2,48,IF(O63=3,46,IF(O63=4,44,IF(O63=5,42,IF(AND(O63>5,O63<45),46-O63,2))))))) -> 0 | R63: =IF(SUMIF(AT$11:AT$97,$C63,AS$11:AS$97)=0," ",SUMIF(AT$11:AT$97,$C63,AS$11:AS$97)) | S63: =IF(R63=" ",0,IF(R63=1,50,IF(R63=2,48,IF(R63=3,46,IF(R63=4,44,IF(R63=5,42,IF(AND(R63>5,R63<45),46-R63,2))))))) -> 0 | U63: =IF(SUMIF(AW$11:AW$97,$C63,AV$11:AV$97)=0," ",SUMIF(AW$11:AW$97,$C63,AV$11:AV$97)) | V63: =IF(U63=" ",0,IF(U63=1,50,IF(U63=2,48,IF(U63=3,46,IF(U63=4,44,IF(U63=5,42,IF(AND(U63>5,U63<45),46-U63,2))))))) -> 0 | X63: =IF(SUMIF(AZ$11:AZ$97,$C63,AY$11:AY$97)=0," ",SUMIF(AZ$11:AZ$97,$C63,AY$11:AY$97)) | Y63: =IF(X63=" ",0,IF(X63=1,50,IF(X63=2,48,IF(X63=3,46,IF(X63=4,44,IF(X63=5,42,IF(AND(X63>5,X63<45),46-X63,2))))))) -> 0 | AA63: =IF(SUMIF(BC$11:BC$97,$C63,BB$11:BB$97)=0," ",SUMIF(BC$11:BC$97,$C63,BB$11:BB$97)) | AB63: =IF(AA63=" ",0,IF(AA63=1,50,IF(AA63=2,48,IF(AA63=3,46,IF(AA63=4,44,IF(AA63=5,42,IF(AND(AA63>5,AA63<45),46-AA63,2))))))) -> 0 | AD63: =IF(SUMIF(BF$11:BF$97,$C63,BE$11:BE$97)=0," ",SUMIF(BF$11:BF$97,$C63,BE$11:BE$97)) | AE63: =IF(AD63=" ",0,IF(AD63=1,50,IF(AD63=2,48,IF(AD63=3,46,IF(AD63=4,44,IF(AD63=5,42,IF(AND(AD63>5,AD63<45),46-AD63,2))))))) -> 0 | AF63: =J63+M63+P63+S63+V63+Y63+AB63+AE63 -> 0 | AG63: =A63 -> 53 | AH63: =AF63-MIN(J63,M63,P63,S63,V63,Y63,AB63,AE63) -> 0 | AJ63: 53 | AM63: 53 | AP63: 53 | AS63: 53 | AV63: 53 | AY63: 53 | BB63: 53 | BE63: 53
A64: 54 | B64: =AF64 -> 0 | I64: =IF(SUMIF(AK$11:AK$97,$C64,AJ$11:AJ$97)=0," ",SUMIF(AK$11:AK$97,$C64,AJ$11:AJ$97)) | J64: =IF(I64=" ",0,IF(I64=1,50,IF(I64=2,48,IF(I64=3,46,IF(I64=4,44,IF(I64=5,42,IF(AND(I64>5,I64<45),46-I64,2))))))) -> 0 | L64: =IF(SUMIF(AN$11:AN$97,$C64,AM$11:AM$97)=0," ",SUMIF(AN$11:AN$97,$C64,AM$11:AM$97)) | M64: =IF(L64=" ",0,IF(L64=1,50,IF(L64=2,48,IF(L64=3,46,IF(L64=4,44,IF(L64=5,42,IF(AND(L64>5,L64<45),46-L64,2))))))) -> 0 | O64: =IF(SUMIF(AQ$11:AQ$97,$C64,AP$11:AP$97)=0," ",SUMIF(AQ$11:AQ$97,$C64,AP$11:AP$97)) | P64: =IF(O64=" ",0,IF(O64=1,50,IF(O64=2,48,IF(O64=3,46,IF(O64=4,44,IF(O64=5,42,IF(AND(O64>5,O64<45),46-O64,2))))))) -> 0 | R64: =IF(SUMIF(AT$11:AT$97,$C64,AS$11:AS$97)=0," ",SUMIF(AT$11:AT$97,$C64,AS$11:AS$97)) | S64: =IF(R64=" ",0,IF(R64=1,50,IF(R64=2,48,IF(R64=3,46,IF(R64=4,44,IF(R64=5,42,IF(AND(R64>5,R64<45),46-R64,2))))))) -> 0 | U64: =IF(SUMIF(AW$11:AW$97,$C64,AV$11:AV$97)=0," ",SUMIF(AW$11:AW$97,$C64,AV$11:AV$97)) | V64: =IF(U64=" ",0,IF(U64=1,50,IF(U64=2,48,IF(U64=3,46,IF(U64=4,44,IF(U64=5,42,IF(AND(U64>5,U64<45),46-U64,2))))))) -> 0 | X64: =IF(SUMIF(AZ$11:AZ$97,$C64,AY$11:AY$97)=0," ",SUMIF(AZ$11:AZ$97,$C64,AY$11:AY$97)) | Y64: =IF(X64=" ",0,IF(X64=1,50,IF(X64=2,48,IF(X64=3,46,IF(X64=4,44,IF(X64=5,42,IF(AND(X64>5,X64<45),46-X64,2))))))) -> 0 | AA64: =IF(SUMIF(BC$11:BC$97,$C64,BB$11:BB$97)=0," ",SUMIF(BC$11:BC$97,$C64,BB$11:BB$97)) | AB64: =IF(AA64=" ",0,IF(AA64=1,50,IF(AA64=2,48,IF(AA64=3,46,IF(AA64=4,44,IF(AA64=5,42,IF(AND(AA64>5,AA64<45),46-AA64,2))))))) -> 0 | AD64: =IF(SUMIF(BF$11:BF$97,$C64,BE$11:BE$97)=0," ",SUMIF(BF$11:BF$97,$C64,BE$11:BE$97)) | AE64: =IF(AD64=" ",0,IF(AD64=1,50,IF(AD64=2,48,IF(AD64=3,46,IF(AD64=4,44,IF(AD64=5,42,IF(AND(AD64>5,AD64<45),46-AD64,2))))))) -> 0 | AF64: =J64+M64+P64+S64+V64+Y64+AB64+AE64 -> 0 | AG64: =A64 -> 54 | AH64: =AF64-MIN(J64,M64,P64,S64,V64,Y64,AB64,AE64) -> 0 | AJ64: 54 | AM64: 54 | AP64: 54 | AS64: 54 | AV64: 54 | AY64: 54 | BB64: 54 | BE64: 54
A65: 55 | B65: =AF65 -> 0 | I65: =IF(SUMIF(AK$11:AK$97,$C65,AJ$11:AJ$97)=0," ",SUMIF(AK$11:AK$97,$C65,AJ$11:AJ$97)) | J65: =IF(I65=" ",0,IF(I65=1,50,IF(I65=2,48,IF(I65=3,46,IF(I65=4,44,IF(I65=5,42,IF(AND(I65>5,I65<45),46-I65,2))))))) -> 0 | L65: =IF(SUMIF(AN$11:AN$97,$C65,AM$11:AM$97)=0," ",SUMIF(AN$11:AN$97,$C65,AM$11:AM$97)) | M65: =IF(L65=" ",0,IF(L65=1,50,IF(L65=2,48,IF(L65=3,46,IF(L65=4,44,IF(L65=5,42,IF(AND(L65>5,L65<45),46-L65,2))))))) -> 0 | O65: =IF(SUMIF(AQ$11:AQ$97,$C65,AP$11:AP$97)=0," ",SUMIF(AQ$11:AQ$97,$C65,AP$11:AP$97)) | P65: =IF(O65=" ",0,IF(O65=1,50,IF(O65=2,48,IF(O65=3,46,IF(O65=4,44,IF(O65=5,42,IF(AND(O65>5,O65<45),46-O65,2))))))) -> 0 | R65: =IF(SUMIF(AT$11:AT$97,$C65,AS$11:AS$97)=0," ",SUMIF(AT$11:AT$97,$C65,AS$11:AS$97)) | S65: =IF(R65=" ",0,IF(R65=1,50,IF(R65=2,48,IF(R65=3,46,IF(R65=4,44,IF(R65=5,42,IF(AND(R65>5,R65<45),46-R65,2))))))) -> 0 | U65: =IF(SUMIF(AW$11:AW$97,$C65,AV$11:AV$97)=0," ",SUMIF(AW$11:AW$97,$C65,AV$11:AV$97)) | V65: =IF(U65=" ",0,IF(U65=1,50,IF(U65=2,48,IF(U65=3,46,IF(U65=4,44,IF(U65=5,42,IF(AND(U65>5,U65<45),46-U65,2))))))) -> 0 | X65: =IF(SUMIF(AZ$11:AZ$97,$C65,AY$11:AY$97)=0," ",SUMIF(AZ$11:AZ$97,$C65,AY$11:AY$97)) | Y65: =IF(X65=" ",0,IF(X65=1,50,IF(X65=2,48,IF(X65=3,46,IF(X65=4,44,IF(X65=5,42,IF(AND(X65>5,X65<45),46-X65,2))))))) -> 0 | AA65: =IF(SUMIF(BC$11:BC$97,$C65,BB$11:BB$97)=0," ",SUMIF(BC$11:BC$97,$C65,BB$11:BB$97)) | AB65: =IF(AA65=" ",0,IF(AA65=1,50,IF(AA65=2,48,IF(AA65=3,46,IF(AA65=4,44,IF(AA65=5,42,IF(AND(AA65>5,AA65<45),46-AA65,2))))))) -> 0 | AD65: =IF(SUMIF(BF$11:BF$97,$C65,BE$11:BE$97)=0," ",SUMIF(BF$11:BF$97,$C65,BE$11:BE$97)) | AE65: =IF(AD65=" ",0,IF(AD65=1,50,IF(AD65=2,48,IF(AD65=3,46,IF(AD65=4,44,IF(AD65=5,42,IF(AND(AD65>5,AD65<45),46-AD65,2))))))) -> 0 | AF65: =J65+M65+P65+S65+V65+Y65+AB65+AE65 -> 0 | AG65: =A65 -> 55 | AH65: =AF65-MIN(J65,M65,P65,S65,V65,Y65,AB65,AE65) -> 0 | AJ65: 55 | AM65: 55 | AP65: 55 | AS65: 55 | AV65: 55 | AY65: 55 | BB65: 55 | BE65: 55
A66: 56 | B66: =AF66 -> 0 | I66: =IF(SUMIF(AK$11:AK$97,$C66,AJ$11:AJ$97)=0," ",SUMIF(AK$11:AK$97,$C66,AJ$11:AJ$97)) | J66: =IF(I66=" ",0,IF(I66=1,50,IF(I66=2,48,IF(I66=3,46,IF(I66=4,44,IF(I66=5,42,IF(AND(I66>5,I66<45),46-I66,2))))))) -> 0 | L66: =IF(SUMIF(AN$11:AN$97,$C66,AM$11:AM$97)=0," ",SUMIF(AN$11:AN$97,$C66,AM$11:AM$97)) | M66: =IF(L66=" ",0,IF(L66=1,50,IF(L66=2,48,IF(L66=3,46,IF(L66=4,44,IF(L66=5,42,IF(AND(L66>5,L66<45),46-L66,2))))))) -> 0 | O66: =IF(SUMIF(AQ$11:AQ$97,$C66,AP$11:AP$97)=0," ",SUMIF(AQ$11:AQ$97,$C66,AP$11:AP$97)) | P66: =IF(O66=" ",0,IF(O66=1,50,IF(O66=2,48,IF(O66=3,46,IF(O66=4,44,IF(O66=5,42,IF(AND(O66>5,O66<45),46-O66,2))))))) -> 0 | R66: =IF(SUMIF(AT$11:AT$97,$C66,AS$11:AS$97)=0," ",SUMIF(AT$11:AT$97,$C66,AS$11:AS$97)) | S66: =IF(R66=" ",0,IF(R66=1,50,IF(R66=2,48,IF(R66=3,46,IF(R66=4,44,IF(R66=5,42,IF(AND(R66>5,R66<45),46-R66,2))))))) -> 0 | U66: =IF(SUMIF(AW$11:AW$97,$C66,AV$11:AV$97)=0," ",SUMIF(AW$11:AW$97,$C66,AV$11:AV$97)) | V66: =IF(U66=" ",0,IF(U66=1,50,IF(U66=2,48,IF(U66=3,46,IF(U66=4,44,IF(U66=5,42,IF(AND(U66>5,U66<45),46-U66,2))))))) -> 0 | X66: =IF(SUMIF(AZ$11:AZ$97,$C66,AY$11:AY$97)=0," ",SUMIF(AZ$11:AZ$97,$C66,AY$11:AY$97)) | Y66: =IF(X66=" ",0,IF(X66=1,50,IF(X66=2,48,IF(X66=3,46,IF(X66=4,44,IF(X66=5,42,IF(AND(X66>5,X66<45),46-X66,2))))))) -> 0 | AA66: =IF(SUMIF(BC$11:BC$97,$C66,BB$11:BB$97)=0," ",SUMIF(BC$11:BC$97,$C66,BB$11:BB$97)) | AB66: =IF(AA66=" ",0,IF(AA66=1,50,IF(AA66=2,48,IF(AA66=3,46,IF(AA66=4,44,IF(AA66=5,42,IF(AND(AA66>5,AA66<45),46-AA66,2))))))) -> 0 | AD66: =IF(SUMIF(BF$11:BF$97,$C66,BE$11:BE$97)=0," ",SUMIF(BF$11:BF$97,$C66,BE$11:BE$97)) | AE66: =IF(AD66=" ",0,IF(AD66=1,50,IF(AD66=2,48,IF(AD66=3,46,IF(AD66=4,44,IF(AD66=5,42,IF(AND(AD66>5,AD66<45),46-AD66,2))))))) -> 0 | AF66: =J66+M66+P66+S66+V66+Y66+AB66+AE66 -> 0 | AG66: =A66 -> 56 | AH66: =AF66-MIN(J66,M66,P66,S66,V66,Y66,AB66,AE66) -> 0 | AJ66: 56 | AM66: 56 | AP66: 56 | AS66: 56 | AV66: 56 | AY66: 56 | BB66: 56 | BE66: 56
... A90: 80 | B90: =AF90 -> 0 | I90: =IF(SUMIF(AK$11:AK$97,$C90,AJ$11:AJ$97)=0," ",SUMIF(AK$11:AK$97,$C90,AJ$11:AJ$97)) | J90: =IF(I90=" ",0,IF(I90=1,50,IF(I90=2,48,IF(I90=3,46,IF(I90=4,44,IF(I90=5,42,IF(AND(I90>5,I90<45),46-I90,2))))))) -> 0 | L90: =IF(SUMIF(AN$11:AN$97,$C90,AM$11:AM$97)=0," ",SUMIF(AN$11:AN$97,$C90,AM$11:AM$97)) | M90: =IF(L90=" ",0,IF(L90=1,50,IF(L90=2,48,IF(L90=3,46,IF(L90=4,44,IF(L90=5,42,IF(AND(L90>5,L90<45),46-L90,2))))))) -> 0 | O90: =IF(SUMIF(AQ$11:AQ$97,$C90,AP$11:AP$97)=0," ",SUMIF(AQ$11:AQ$97,$C90,AP$11:AP$97)) | P90: =IF(O90=" ",0,IF(O90=1,50,IF(O90=2,48,IF(O90=3,46,IF(O90=4,44,IF(O90=5,42,IF(AND(O90>5,O90<45),46-O90,2))))))) -> 0 | R90: =IF(SUMIF(AT$11:AT$97,$C90,AS$11:AS$97)=0," ",SUMIF(AT$11:AT$97,$C90,AS$11:AS$97)) | S90: =IF(R90=" ",0,IF(R90=1,50,IF(R90=2,48,IF(R90=3,46,IF(R90=4,44,IF(R90=5,42,IF(AND(R90>5,R90<45),46-R90,2))))))) -> 0 | U90: =IF(SUMIF(AW$11:AW$97,$C90,AV$11:AV$97)=0," ",SUMIF(AW$11:AW$97,$C90,AV$11:AV$97)) | V90: =IF(U90=" ",0,IF(U90=1,50,IF(U90=2,48,IF(U90=3,46,IF(U90=4,44,IF(U90=5,42,IF(AND(U90>5,U90<45),46-U90,2))))))) -> 0 | X90: =IF(SUMIF(AZ$11:AZ$97,$C90,AY$11:AY$97)=0," ",SUMIF(AZ$11:AZ$97,$C90,AY$11:AY$97)) | Y90: =IF(X90=" ",0,IF(X90=1,50,IF(X90=2,48,IF(X90=3,46,IF(X90=4,44,IF(X90=5,42,IF(AND(X90>5,X90<45),46-X90,2))))))) -> 0 | AA90: =IF(SUMIF(BC$11:BC$97,$C90,BB$11:BB$97)=0," ",SUMIF(BC$11:BC$97,$C90,BB$11:BB$97)) | AB90: =IF(AA90=" ",0,IF(AA90=1,50,IF(AA90=2,48,IF(AA90=3,46,IF(AA90=4,44,IF(AA90=5,42,IF(AND(AA90>5,AA90<45),46-AA90,2))))))) -> 0 | AD90: =IF(SUMIF(BF$11:BF$97,$C90,BE$11:BE$97)=0," ",SUMIF(BF$11:BF$97,$C90,BE$11:BE$97)) | AE90: =IF(AD90=" ",0,IF(AD90=1,50,IF(AD90=2,48,IF(AD90=3,46,IF(AD90=4,44,IF(AD90=5,42,IF(AND(AD90>5,AD90<45),46-AD90,2))))))) -> 0 | AF90: =J90+M90+P90+S90+V90+Y90+AB90+AE90 -> 0 | AG90: =A90 -> 80 | AH90: =AF90-MIN(J90,M90,P90,S90,V90,Y90,AB90,AE90) -> 0 | AJ90: 80 | AM90: 80 | AP90: 80 | AS90: 80 | AV90: 80 | AY90: 80 | BB90: 80 | BE90: 80
I91: =IF(SUMIF(AK$11:AK$97,$C91,AJ$11:AJ$97)=0," ",SUMIF(AK$11:AK$97,$C91,AJ$11:AJ$97)) | L91: =IF(SUMIF(AN$11:AN$97,$C91,AM$11:AM$97)=0," ",SUMIF(AN$11:AN$97,$C91,AM$11:AM$97)) | O91: =IF(SUMIF(AQ$11:AQ$97,$C91,AP$11:AP$97)=0," ",SUMIF(AQ$11:AQ$97,$C91,AP$11:AP$97)) | R91: =IF(SUMIF(AT$11:AT$97,$C91,AS$11:AS$97)=0," ",SUMIF(AT$11:AT$97,$C91,AS$11:AS$97)) | U91: =IF(SUMIF(AW$11:AW$97,$C91,AV$11:AV$97)=0," ",SUMIF(AW$11:AW$97,$C91,AV$11:AV$97)) | X91: =IF(SUMIF(AZ$11:AZ$97,$C91,AY$11:AY$97)=0," ",SUMIF(AZ$11:AZ$97,$C91,AY$11:AY$97)) | AA91: =IF(SUMIF(BC$11:BC$97,$C91,BB$11:BB$97)=0," ",SUMIF(BC$11:BC$97,$C91,BB$11:BB$97)) | AD91: =IF(SUMIF(BF$11:BF$97,$C91,BE$11:BE$97)=0," ",SUMIF(BF$11:BF$97,$C91,BE$11:BE$97)) | AF91: =J91+M91+P91+S91+V91+Y91+AB91+AE91 -> 0 | AH91: =AF91-MIN(J91,M91,P91,S91,V91,Y91,AB91,AE91) -> 0
I92: =IF(SUMIF(AK$11:AK$97,$C92,AJ$11:AJ$97)=0," ",SUMIF(AK$11:AK$97,$C92,AJ$11:AJ$97)) | L92: =IF(SUMIF(AN$11:AN$97,$C92,AM$11:AM$97)=0," ",SUMIF(AN$11:AN$97,$C92,AM$11:AM$97)) | O92: =IF(SUMIF(AQ$11:AQ$97,$C92,AP$11:AP$97)=0," ",SUMIF(AQ$11:AQ$97,$C92,AP$11:AP$97)) | R92: =IF(SUMIF(AT$11:AT$97,$C92,AS$11:AS$97)=0," ",SUMIF(AT$11:AT$97,$C92,AS$11:AS$97)) | U92: =IF(SUMIF(AW$11:AW$97,$C92,AV$11:AV$97)=0," ",SUMIF(AW$11:AW$97,$C92,AV$11:AV$97)) | X92: =IF(SUMIF(AZ$11:AZ$97,$C92,AY$11:AY$97)=0," ",SUMIF(AZ$11:AZ$97,$C92,AY$11:AY$97)) | AA92: =IF(SUMIF(BC$11:BC$97,$C92,BB$11:BB$97)=0," ",SUMIF(BC$11:BC$97,$C92,BB$11:BB$97)) | AD92: =IF(SUMIF(BF$11:BF$97,$C92,BE$11:BE$97)=0," ",SUMIF(BF$11:BF$97,$C92,BE$11:BE$97))
B100: VAL D'OISE TROPHY UFOLEP JEUNES 2026
D102: SERIE C
D103: garçons et filles | F103: 2016-2017
D104: dossards de 201 à 299
C107: manque 200-208-214-217-280-284
C109: doss | D109: noms | E109: sexe | F109: club | G109: fédé | H109: né le | K109: émargement
C110: =C11 -> 227 | D110: =IF(C11>0,D11," ") -> Liam BROIX | E110: =IF(C11>0,E11," ") -> H | F110: =IF(C11>0,F11," ") -> AC Marines | G110: =IF(C11>0,G11," ") -> 0
C111: =C12 -> 232 | D111: =IF(C12>0,D12," ") -> Hugo MONTAGNAC | E111: =IF(C12>0,E12," ") -> H | F111: =IF(C12>0,F12," ") -> AC MARINES | G111: =IF(C12>0,G12," ")
C112: =C13 -> 234 | D112: =IF(C13>0,D13," ") -> Yacine Wazaa | E112: =IF(C13>0,E13," ") -> H | F112: =IF(C13>0,F13," ") -> Harde Survillier | G112: =IF(C13>0,G13," ")
C113: =C14 -> 224 | D113: =IF(C14>0,D14," ") -> Liam BREUCQ | E113: =IF(C14>0,E14," ") -> H | F113: =IF(C14>0,F14," ") -> ORC Epone | G113: =IF(C14>0,G14," ")
C114: =C15 -> 204 | D114: =IF(C15>0,D15," ") -> Jules MARCHAND | E114: =IF(C15>0,E15," ") -> H | F114: =IF(C15>0,F15," ") -> BONNIERES VTT | G114: =IF(C15>0,G15," ")
C115: =C16 -> 225 | D115: =IF(C16>0,D16," ") -> Louis CARBONNEAUX | E115: =IF(C16>0,E16," ") -> H | F115: =IF(C16>0,F16," ") -> CC du valois | G115: =IF(C16>0,G16," ")
C116: =C17 -> 229 | D116: =IF(C17>0,D17," ") -> Mael HUGNIT | E116: =IF(C17>0,E17," ") -> H | F116: =IF(C17>0,F17," ") -> ORC Epone | G116: =IF(C17>0,G17," ")
C117: =C18 -> 213 | D117: =IF(C18>0,D18," ") -> Antonin DE ROSSO | E117: =IF(C18>0,E18," ") -> H | F117: =IF(C18>0,F18," ") -> Ocvo | G117: =IF(C18>0,G18," ")
C118: =C19 -> 216 | D118: =IF(C19>0,D19," ") -> Adam BERDIL | E118: =IF(C19>0,E19," ") -> H | F118: =IF(C19>0,F19," ") -> OCVO | G118: =IF(C19>0,G19," ")
C119: =C20 -> 226 | D119: =IF(C20>0,D20," ") -> Gabriel MONNIER | E119: =IF(C20>0,E20," ") -> H | F119: =IF(C20>0,F20," ") -> ORC | G119: =IF(C20>0,G20," ")
C120: =C21 -> 218 | D120: =IF(C21>0,D21," ") -> Nolan GUILEM | E120: =IF(C21>0,E21," ") -> H | F120: =IF(C21>0,F21," ") -> UCFM | G120: =IF(C21>0,G21," ")
C121: =C22 -> 223 | D121: =IF(C22>0,D22," ") -> Samuel MONNET | E121: =IF(C22>0,E22," ") -> H | F121: =IF(C22>0,F22," ") -> AC Marines | G121: =IF(C22>0,G22," ")
... C143: =C44 -> 207 | D143: =IF(C44>0,D44," ") -> Enio GENSOLLEN | E143: =IF(C44>0,E44," ") -> H | F143: =IF(C44>0,F44," ") -> OGVTT | G143: =IF(C44>0,G44," ")
C144: =C39 -> 206 | D144: =IF(C39>0,D45," ") -> Victor LEPINE | E144: =IF(C45>0,E45," ") -> H | F144: =IF(C45>0,F45," ") -> CVC MERY | G144: =IF(C45>0,G45," ")
C145: =C40 -> 283 | D145: =IF(C40>0,D46," ") -> Souley Mane SACKO | E145: =IF(C46>0,E46," ") -> H | F145: =IF(C46>0,F46," ") -> CVC Mery | G145: =IF(C46>0,G46," ")
C146: =C47 -> 285 | D146: =IF(C47>0,D47," ") -> Amyna FAYE | E146: =IF(C47>0,E47," ") -> F | F146: =IF(C47>0,F47," ") -> CLOCA Cycle | G146: =IF(C47>0,G47," ")
C147: =C48 -> 287 | D147: =IF(C48>0,D48," ") -> Meline GALOT | E147: =IF(C48>0,E48," ") -> F | F147: =IF(C48>0,F48," ") -> OC GIF VTT | G147: =IF(C48>0,G48," ")
C148: =C49 -> 0 | D148: =IF(C49>0,D49," ") | E148: =IF(C49>0,E49," ") | F148: =IF(C49>0,F49," ") | G148: =IF(C49>0,G49," ")
C149: =C50 -> 0 | D149: =IF(C50>0,D50," ") | E149: =IF(C50>0,E50," ") | F149: =IF(C50>0,F50," ") | G149: =IF(C50>0,G50," ")
C150: =C51 -> 0 | D150: =IF(C51>0,D51," ") | E150: =IF(C51>0,E51," ") | F150: =IF(C51>0,F51," ") | G150: =IF(C51>0,G51," ")
C151: =C52 -> 0 | D151: =IF(C52>0,D52," ") | E151: =IF(C52>0,E52," ") | F151: =IF(C52>0,F52," ") | G151: =IF(C52>0,G52," ")
C152: =C53 -> 0 | D152: =IF(C53>0,D53," ") | E152: =IF(C53>0,E53," ") | F152: =IF(C53>0,F53," ") | G152: =IF(C53>0,G53," ")
C153: =C54 -> 0 | D153: =IF(C54>0,D54," ") | E153: =IF(C54>0,E54," ") | F153: =IF(C54>0,F54," ") | G153: =IF(C54>0,G54," ")
C154: =C55 -> 0 | D154: =IF(C55>0,D55," ") | E154: =IF(C55>0,E55," ") | F154: =IF(C55>0,F55," ") | G154: =IF(C55>0,G55," ")
C155: =C56 -> 0 | D155: =IF(C56>0,D56," ") | E155: =IF(C56>0,E56," ") | F155: =IF(C56>0,F56," ") | G155: =IF(C56>0,G56," ")
C156: =C57 -> 0 | D156: =IF(C57>0,D57," ") | E156: =IF(C57>0,E57," ") | F156: =IF(C57>0,F57," ") | G156: =IF(C57>0,G57," ")
C157: =C58 -> 0 | D157: =IF(C58>0,D58," ") | E157: =IF(C58>0,E58," ") | F157: =IF(C58>0,F58," ") | G157: =IF(C58>0,G58," ")
... C187: =C88 -> 0 | D187: =IF(C88>0,D88," ") | E187: =IF(C88>0,E88," ") | F187: =IF(C88>0,F88," ") | G187: =IF(C88>0,G88," ")
D188: =IF(C89>0,D89," ") | F188: =IF(C89>0,F89," ") | G188: =IF(C89>0,G89," ")
D189: =IF(C90>0,D90," ") | F189: =IF(C90>0,F90," ") | G189: =IF(C90>0,G90," ")
F190: =IF(C91>0,F91," ") | G190: =IF(C91>0,G91," ")

Sheet série D
C1: VAL D'OISE TROPHY UFOLEP JEUNES 2026
AF2: =IF(F7=1,SUM(H11:H90),IF(F7=2,SUM(K11:K90),IF(F7=3,SUM(N11:N90),IF(F7=4,SUM(Q11:Q90),IF(F7=5,SUM(T11:T90),IF(F7=6,SUM(W11:W90),IF(F7=7,SUM(Z11:Z90)))))))) -> 42 | AI2: Achères | AJ2: CLASSEMENTS DE CHAQUE MANCHE
AF3: =IF(F7=1,SUM(#REF!),IF(F7=2,SUM(#REF!),IF(F7=3,SUM(#REF!),IF(F7=4,SUM(#REF!),IF(F7=5,SUM(#REF!),IF(F7=6,SUM(#REF!),IF(F7=7,SUM(#REF!)))))))) -> #REF! | AI3: Osny
D4: garçons et filles | F4: 2014-2015 | AI4: Cergy
D5: dossards de 301 à 399 | AI5: Méry
F6: manque 311-314-326-330-333-339-341 | AI6: Bonnières
D7: Manche | E7: N° | F7: 1 | H7: Manche N°1 | K7: Manche N°2 | N7: Manche N°3 | Q7: Manche N°4 | T7: Manche N°5 | W7: Manche N°6 | Z7: Manche N°7 | AC7: Manche N°8 | AI7: Survilliers
C8: =IF(F7<8,AF2,IF(F7=8,SUM(AC11:AC90))) -> 42 | D8: Inscrits | H8: Achères | K8: Osny | N8: Cergy | Q8: Méry | T8: Bonnières | W8: Survilliers | Z8: Marines | AC8: Marly la ville | AI8: Marines
H9: 46053 | K9: 46067 | N9: 46095 | Q9: 46102 | T9: 46109 | W9: 46165 | Z9: 46179 | AC9: 46186 | AI9: Marly la ville
A10: classement | B10: total points | C10: doss | D10: noms+prénoms | E10: Sexe | F10: club | G10: fédé | H10: inscription n° 1 | I10: place épreuve n° 1 | J10: points épreuve n° 1 | K10: inscription n° 2 | L10: place épreuve n° 2 | M10: points épreuve n° 2 | N10: inscription n° 3 | O10: place épreuve n° 3 | P10: points épreuve n° 3 | Q10: inscription n° 4 | R10: place épreuve n° 4 | S10: points épreuve n° 4 | T10: inscription n° 5 | U10: place épreuve n° 5 | V10: points épreuve n° 5 | W10: inscription n° 6 | X10: place épreuve n° 6 | Y10: points épreuve n° 6 | Z10: inscription n° 7 | AA10: place épreuve n° 7 | AB10: points épreuve n° 7 | AC10: inscription n° 8 | AD10: place épreuve n° 8 | AE10: points épreuve n° 8 | AF10: total points | AG10: classement | AH10: total points modulé | AJ10: place épreuve n° 1 | AK10: dossards épreuve n° 1 | AM10: place épreuve n° 2 | AN10: dossards épreuve n° 2 | AP10: place épreuve n° 3 | AQ10: dossards épreuve n° 3 | AS10: place épreuve n° 4 | AT10: dossards épreuve n° 4 | AV10: place épreuve n° 5 | AW10: dossards épreuve n° 5 | AY10: place épreuve n° 6 | AZ10: dossards épreuve n° 6 | BB10: place épreuve n° 7 | BC10: dossards épreuve n° 7 | BE10: place épreuve n° 8 | BF10: dossards épreuve n° 8
A11: 1 | B11: =AF11 -> 50 | C11: 340 | D11: Timo DUMONT ANTONISSEN | E11: H | F11: AC MARINES | H11: 1 | I11: 1 | J11: =IF(I11=" ",0,IF(I11=1,50,IF(I11=2,48,IF(I11=3,46,IF(I11=4,44,IF(I11=5,42,IF(AND(I11>5,I11<45),46-I11,2))))))) -> 50 | L11: =IF(SUMIF(AN$11:AN$97,$C11,AM$11:AM$97)=0," ",SUMIF(AN$11:AN$97,$C11,AM$11:AM$97)) | M11: =IF(L11=" ",0,IF(L11=1,50,IF(L11=2,48,IF(L11=3,46,IF(L11=4,44,IF(L11=5,42,IF(AND(L11>5,L11<45),46-L11,2))))))) -> 0 | O11: =IF(SUMIF(AQ$11:AQ$97,$C11,AP$11:AP$97)=0," ",SUMIF(AQ$11:AQ$97,$C11,AP$11:AP$97)) | P11: =IF(O11=" ",0,IF(O11=1,50,IF(O11=2,48,IF(O11=3,46,IF(O11=4,44,IF(O11=5,42,IF(AND(O11>5,O11<45),46-O11,2))))))) -> 0 | R11: =IF(SUMIF(AT$11:AT$97,$C11,AS$11:AS$97)=0," ",SUMIF(AT$11:AT$97,$C11,AS$11:AS$97)) | S11: =IF(R11=" ",0,IF(R11=1,50,IF(R11=2,48,IF(R11=3,46,IF(R11=4,44,IF(R11=5,42,IF(AND(R11>5,R11<45),46-R11,2))))))) -> 0 | U11: =IF(SUMIF(AW$11:AW$97,$C11,AV$11:AV$97)=0," ",SUMIF(AW$11:AW$97,$C11,AV$11:AV$97)) | V11: =IF(U11=" ",0,IF(U11=1,50,IF(U11=2,48,IF(U11=3,46,IF(U11=4,44,IF(U11=5,42,IF(AND(U11>5,U11<45),46-U11,2))))))) -> 0 | X11: =IF(SUMIF(AZ$11:AZ$97,$C11,AY$11:AY$97)=0," ",SUMIF(AZ$11:AZ$97,$C11,AY$11:AY$97)) | Y11: =IF(X11=" ",0,IF(X11=1,50,IF(X11=2,48,IF(X11=3,46,IF(X11=4,44,IF(X11=5,42,IF(AND(X11>5,X11<45),46-X11,2))))))) -> 0 | AA11: =IF(SUMIF(BC$11:BC$97,$C11,BB$11:BB$97)=0," ",SUMIF(BC$11:BC$97,$C11,BB$11:BB$97)) | AB11: =IF(AA11=" ",0,IF(AA11=1,50,IF(AA11=2,48,IF(AA11=3,46,IF(AA11=4,44,IF(AA11=5,42,IF(AND(AA11>5,AA11<45),46-AA11,2))))))) -> 0 | AD11: =IF(SUMIF(BF$11:BF$97,$C11,BE$11:BE$97)=0," ",SUMIF(BF$11:BF$97,$C11,BE$11:BE$97)) | AE11: =IF(AD11=" ",0,IF(AD11=1,50,IF(AD11=2,48,IF(AD11=3,46,IF(AD11=4,44,IF(AD11=5,42,IF(AND(AD11>5,AD11<45),46-AD11,2))))))) -> 0 | AF11: =J11+M11+P11+S11+V11+Y11+AB11+AE11 -> 50 | AG11: =A11 -> 1 | AH11: =AF11-MIN(J11,M11,P11,S11,V11,Y11,AB11,AE11) -> 50 | AJ11: 1 | AK11: 340 | AM11: 1 | AP11: 1 | AS11: 1 | AV11: 1 | AY11: 1 | BB11: 1 | BE11: 1
A12: 2 | B12: =AF12 -> 48 | C12: 324 | D12: Louis GALOT | E12: H | F12: OC GIF VTT | H12: 1 | I12: 2 | J12: =IF(I12=" ",0,IF(I12=1,50,IF(I12=2,48,IF(I12=3,46,IF(I12=4,44,IF(I12=5,42,IF(AND(I12>5,I12<45),46-I12,2))))))) -> 48 | L12: =IF(SUMIF(AN$11:AN$97,$C12,AM$11:AM$97)=0," ",SUMIF(AN$11:AN$97,$C12,AM$11:AM$97)) | M12: =IF(L12=" ",0,IF(L12=1,50,IF(L12=2,48,IF(L12=3,46,IF(L12=4,44,IF(L12=5,42,IF(AND(L12>5,L12<45),46-L12,2))))))) -> 0 | O12: =IF(SUMIF(AQ$11:AQ$97,$C12,AP$11:AP$97)=0," ",SUMIF(AQ$11:AQ$97,$C12,AP$11:AP$97)) | P12: =IF(O12=" ",0,IF(O12=1,50,IF(O12=2,48,IF(O12=3,46,IF(O12=4,44,IF(O12=5,42,IF(AND(O12>5,O12<45),46-O12,2))))))) -> 0 | R12: =IF(SUMIF(AT$11:AT$97,$C12,AS$11:AS$97)=0," ",SUMIF(AT$11:AT$97,$C12,AS$11:AS$97)) | S12: =IF(R12=" ",0,IF(R12=1,50,IF(R12=2,48,IF(R12=3,46,IF(R12=4,44,IF(R12=5,42,IF(AND(R12>5,R12<45),46-R12,2))))))) -> 0 | U12: =IF(SUMIF(AW$11:AW$97,$C12,AV$11:AV$97)=0," ",SUMIF(AW$11:AW$97,$C12,AV$11:AV$97)) | V12: =IF(U12=" ",0,IF(U12=1,50,IF(U12=2,48,IF(U12=3,46,IF(U12=4,44,IF(U12=5,42,IF(AND(U12>5,U12<45),46-U12,2))))))) -> 0 | X12: =IF(SUMIF(AZ$11:AZ$97,$C12,AY$11:AY$97)=0," ",SUMIF(AZ$11:AZ$97,$C12,AY$11:AY$97)) | Y12: =IF(X12=" ",0,IF(X12=1,50,IF(X12=2,48,IF(X12=3,46,IF(X12=4,44,IF(X12=5,42,IF(AND(X12>5,X12<45),46-X12,2))))))) -> 0 | AA12: =IF(SUMIF(BC$11:BC$97,$C12,BB$11:BB$97)=0," ",SUMIF(BC$11:BC$97,$C12,BB$11:BB$97)) | AB12: =IF(AA12=" ",0,IF(AA12=1,50,IF(AA12=2,48,IF(AA12=3,46,IF(AA12=4,44,IF(AA12=5,42,IF(AND(AA12>5,AA12<45),46-AA12,2))))))) -> 0 | AD12: =IF(SUMIF(BF$11:BF$97,$C12,BE$11:BE$97)=0," ",SUMIF(BF$11:BF$97,$C12,BE$11:BE$97)) | AE12: =IF(AD12=" ",0,IF(AD12=1,50,IF(AD12=2,48,IF(AD12=3,46,IF(AD12=4,44,IF(AD12=5,42,IF(AND(AD12>5,AD12<45),46-AD12,2))))))) -> 0 | AF12: =J12+M12+P12+S12+V12+Y12+AB12+AE12 -> 48 | AG12: =A12 -> 2 | AH12: =AF12-MIN(J12,M12,P12,S12,V12,Y12,AB12,AE12) -> 48 | AJ12: 2 | AK12: 324 | AM12: 2 | AP12: 2 | AS12: 2 | AV12: 2 | AY12: 2 | BB12: 2 | BE12: 2
A13: 3 | B13: =AF13 -> 46 | C13: 335 | D13: Romann FAVREL | E13: H | F13: LA HARDE DE SURVILLIERS | H13: 1 | I13: 3 | J13: =IF(I13=" ",0,IF(I13=1,50,IF(I13=2,48,IF(I13=3,46,IF(I13=4,44,IF(I13=5,42,IF(AND(I13>5,I13<45),46-I13,2))))))) -> 46 | L13: =IF(SUMIF(AN$11:AN$97,$C13,AM$11:AM$97)=0," ",SUMIF(AN$11:AN$97,$C13,AM$11:AM$97)) | M13: =IF(L13=" ",0,IF(L13=1,50,IF(L13=2,48,IF(L13=3,46,IF(L13=4,44,IF(L13=5,42,IF(AND(L13>5,L13<45),46-L13,2))))))) -> 0 | O13: =IF(SUMIF(AQ$11:AQ$97,$C13,AP$11:AP$97)=0," ",SUMIF(AQ$11:AQ$97,$C13,AP$11:AP$97)) | P13: =IF(O13=" ",0,IF(O13=1,50,IF(O13=2,48,IF(O13=3,46,IF(O13=4,44,IF(O13=5,42,IF(AND(O13>5,O13<45),46-O13,2))))))) -> 0 | R13: =IF(SUMIF(AT$11:AT$97,$C13,AS$11:AS$97)=0," ",SUMIF(AT$11:AT$97,$C13,AS$11:AS$97)) | S13: =IF(R13=" ",0,IF(R13=1,50,IF(R13=2,48,IF(R13=3,46,IF(R13=4,44,IF(R13=5,42,IF(AND(R13>5,R13<45),46-R13,2))))))) -> 0 | U13: =IF(SUMIF(AW$11:AW$97,$C13,AV$11:AV$97)=0," ",SUMIF(AW$11:AW$97,$C13,AV$11:AV$97)) | V13: =IF(U13=" ",0,IF(U13=1,50,IF(U13=2,48,IF(U13=3,46,IF(U13=4,44,IF(U13=5,42,IF(AND(U13>5,U13<45),46-U13,2))))))) -> 0 | X13: =IF(SUMIF(AZ$11:AZ$97,$C13,AY$11:AY$97)=0," ",SUMIF(AZ$11:AZ$97,$C13,AY$11:AY$97)) | Y13: =IF(X13=" ",0,IF(X13=1,50,IF(X13=2,48,IF(X13=3,46,IF(X13=4,44,IF(X13=5,42,IF(AND(X13>5,X13<45),46-X13,2))))))) -> 0 | AA13: =IF(SUMIF(BC$11:BC$97,$C13,BB$11:BB$97)=0," ",SUMIF(BC$11:BC$97,$C13,BB$11:BB$97)) | AB13: =IF(AA13=" ",0,IF(AA13=1,50,IF(AA13=2,48,IF(AA13=3,46,IF(AA13=4,44,IF(AA13=5,42,IF(AND(AA13>5,AA13<45),46-AA13,2))))))) -> 0 | AD13: =IF(SUMIF(BF$11:BF$97,$C13,BE$11:BE$97)=0," ",SUMIF(BF$11:BF$97,$C13,BE$11:BE$97)) | AE13: =IF(AD13=" ",0,IF(AD13=1,50,IF(AD13=2,48,IF(AD13=3,46,IF(AD13=4,44,IF(AD13=5,42,IF(AND(AD13>5,AD13<45),46-AD13,2))))))) -> 0 | AF13: =J13+M13+P13+S13+V13+Y13+AB13+AE13 -> 46 | AG13: =A13 -> 3 | AH13: =AF13-MIN(J13,M13,P13,S13,V13,Y13,AB13,AE13) -> 46 | AJ13: 3 | AK13: 335 | AM13: 3 | AP13: 3 | AS13: 3 | AV13: 3 | AY13: 3 | BB13: 3 | BE13: 3
A14: 4 | B14: =AF14 -> 44 | C14: 343 | D14: Augustin FALQUE | E14: H | F14: ORC Epone | H14: 1 | I14: 4 | J14: =IF(I14=" ",0,IF(I14=1,50,IF(I14=2,48,IF(I14=3,46,IF(I14=4,44,IF(I14=5,42,IF(AND(I14>5,I14<45),46-I14,2))))))) -> 44 | L14: =IF(SUMIF(AN$11:AN$97,$C14,AM$11:AM$97)=0," ",SUMIF(AN$11:AN$97,$C14,AM$11:AM$97)) | M14: =IF(L14=" ",0,IF(L14=1,50,IF(L14=2,48,IF(L14=3,46,IF(L14=4,44,IF(L14=5,42,IF(AND(L14>5,L14<45),46-L14,2))))))) -> 0 | O14: =IF(SUMIF(AQ$11:AQ$97,$C14,AP$11:AP$97)=0," ",SUMIF(AQ$11:AQ$97,$C14,AP$11:AP$97)) | P14: =IF(O14=" ",0,IF(O14=1,50,IF(O14=2,48,IF(O14=3,46,IF(O14=4,44,IF(O14=5,42,IF(AND(O14>5,O14<45),46-O14,2))))))) -> 0 | R14: =IF(SUMIF(AT$11:AT$97,$C14,AS$11:AS$97)=0," ",SUMIF(AT$11:AT$97,$C14,AS$11:AS$97)) | S14: =IF(R14=" ",0,IF(R14=1,50,IF(R14=2,48,IF(R14=3,46,IF(R14=4,44,IF(R14=5,42,IF(AND(R14>5,R14<45),46-R14,2))))))) -> 0 | U14: =IF(SUMIF(AW$11:AW$97,$C14,AV$11:AV$97)=0," ",SUMIF(AW$11:AW$97,$C14,AV$11:AV$97)) | V14: =IF(U14=" ",0,IF(U14=1,50,IF(U14=2,48,IF(U14=3,46,IF(U14=4,44,IF(U14=5,42,IF(AND(U14>5,U14<45),46-U14,2))))))) -> 0 | X14: =IF(SUMIF(AZ$11:AZ$97,$C14,AY$11:AY$97)=0," ",SUMIF(AZ$11:AZ$97,$C14,AY$11:AY$97)) | Y14: =IF(X14=" ",0,IF(X14=1,50,IF(X14=2,48,IF(X14=3,46,IF(X14=4,44,IF(X14=5,42,IF(AND(X14>5,X14<45),46-X14,2))))))) -> 0 | AA14: =IF(SUMIF(BC$11:BC$97,$C14,BB$11:BB$97)=0," ",SUMIF(BC$11:BC$97,$C14,BB$11:BB$97)) | AB14: =IF(AA14=" ",0,IF(AA14=1,50,IF(AA14=2,48,IF(AA14=3,46,IF(AA14=4,44,IF(AA14=5,42,IF(AND(AA14>5,AA14<45),46-AA14,2))))))) -> 0 | AD14: =IF(SUMIF(BF$11:BF$97,$C14,BE$11:BE$97)=0," ",SUMIF(BF$11:BF$97,$C14,BE$11:BE$97)) | AE14: =IF(AD14=" ",0,IF(AD14=1,50,IF(AD14=2,48,IF(AD14=3,46,IF(AD14=4,44,IF(AD14=5,42,IF(AND(AD14>5,AD14<45),46-AD14,2))))))) -> 0 | AF14: =J14+M14+P14+S14+V14+Y14+AB14+AE14 -> 44 | AG14: =A14 -> 4 | AH14: =AF14-MIN(J14,M14,P14,S14,V14,Y14,AB14,AE14) -> 44 | AJ14: 4 | AK14: 343 | AM14: 4 | AP14: 4 | AS14: 4 | AV14: 4 | AY14: 4 | BB14: 4 | BE14: 4
A15: 5 | B15: =AF15 -> 42 | C15: 332 | D15: Charlie FRANCOISE | E15: H | F15: ORC EPONE | H15: 1 | I15: 5 | J15: =IF(I15=" ",0,IF(I15=1,50,IF(I15=2,48,IF(I15=3,46,IF(I15=4,44,IF(I15=5,42,IF(AND(I15>5,I15<45),46-I15,2))))))) -> 42 | L15: =IF(SUMIF(AN$11:AN$97,$C15,AM$11:AM$97)=0," ",SUMIF(AN$11:AN$97,$C15,AM$11:AM$97)) | M15: =IF(L15=" ",0,IF(L15=1,50,IF(L15=2,48,IF(L15=3,46,IF(L15=4,44,IF(L15=5,42,IF(AND(L15>5,L15<45),46-L15,2))))))) -> 0 | O15: =IF(SUMIF(AQ$11:AQ$97,$C15,AP$11:AP$97)=0," ",SUMIF(AQ$11:AQ$97,$C15,AP$11:AP$97)) | P15: =IF(O15=" ",0,IF(O15=1,50,IF(O15=2,48,IF(O15=3,46,IF(O15=4,44,IF(O15=5,42,IF(AND(O15>5,O15<45),46-O15,2))))))) -> 0 | R15: =IF(SUMIF(AT$11:AT$97,$C15,AS$11:AS$97)=0," ",SUMIF(AT$11:AT$97,$C15,AS$11:AS$97)) | S15: =IF(R15=" ",0,IF(R15=1,50,IF(R15=2,48,IF(R15=3,46,IF(R15=4,44,IF(R15=5,42,IF(AND(R15>5,R15<45),46-R15,2))))))) -> 0 | U15: =IF(SUMIF(AW$11:AW$97,$C15,AV$11:AV$97)=0," ",SUMIF(AW$11:AW$97,$C15,AV$11:AV$97)) | V15: =IF(U15=" ",0,IF(U15=1,50,IF(U15=2,48,IF(U15=3,46,IF(U15=4,44,IF(U15=5,42,IF(AND(U15>5,U15<45),46-U15,2))))))) -> 0 | X15: =IF(SUMIF(AZ$11:AZ$97,$C15,AY$11:AY$97)=0," ",SUMIF(AZ$11:AZ$97,$C15,AY$11:AY$97)) | Y15: =IF(X15=" ",0,IF(X15=1,50,IF(X15=2,48,IF(X15=3,46,IF(X15=4,44,IF(X15=5,42,IF(AND(X15>5,X15<45),46-X15,2))))))) -> 0 | AA15: =IF(SUMIF(BC$11:BC$97,$C15,BB$11:BB$97)=0," ",SUMIF(BC$11:BC$97,$C15,BB$11:BB$97)) | AB15: =IF(AA15=" ",0,IF(AA15=1,50,IF(AA15=2,48,IF(AA15=3,46,IF(AA15=4,44,IF(AA15=5,42,IF(AND(AA15>5,AA15<45),46-AA15,2))))))) -> 0 | AD15: =IF(SUMIF(BF$11:BF$97,$C15,BE$11:BE$97)=0," ",SUMIF(BF$11:BF$97,$C15,BE$11:BE$97)) | AE15: =IF(AD15=" ",0,IF(AD15=1,50,IF(AD15=2,48,IF(AD15=3,46,IF(AD15=4,44,IF(AD15=5,42,IF(AND(AD15>5,AD15<45),46-AD15,2))))))) -> 0 | AF15: =J15+M15+P15+S15+V15+Y15+AB15+AE15 -> 42 | AG15: =A15 -> 5 | AH15: =AF15-MIN(J15,M15,P15,S15,V15,Y15,AB15,AE15) -> 42 | AJ15: 5 | AK15: 332 | AM15: 5 | AP15: 5 | AS15: 5 | AV15: 5 | AY15: 5 | BB15: 5 | BE15: 5
A16: 6 | B16: =AF16 -> 40 | C16: 336 | D16: Come DELEDICQ | E16: H | F16: ORC Epone | H16: 1 | I16: 6 | J16: =IF(I16=" ",0,IF(I16=1,50,IF(I16=2,48,IF(I16=3,46,IF(I16=4,44,IF(I16=5,42,IF(AND(I16>5,I16<45),46-I16,2))))))) -> 40 | L16: =IF(SUMIF(AN$11:AN$97,$C16,AM$11:AM$97)=0," ",SUMIF(AN$11:AN$97,$C16,AM$11:AM$97)) | M16: =IF(L16=" ",0,IF(L16=1,50,IF(L16=2,48,IF(L16=3,46,IF(L16=4,44,IF(L16=5,42,IF(AND(L16>5,L16<45),46-L16,2))))))) -> 0 | O16: =IF(SUMIF(AQ$11:AQ$97,$C16,AP$11:AP$97)=0," ",SUMIF(AQ$11:AQ$97,$C16,AP$11:AP$97)) | P16: =IF(O16=" ",0,IF(O16=1,50,IF(O16=2,48,IF(O16=3,46,IF(O16=4,44,IF(O16=5,42,IF(AND(O16>5,O16<45),46-O16,2))))))) -> 0 | R16: =IF(SUMIF(AT$11:AT$97,$C16,AS$11:AS$97)=0," ",SUMIF(AT$11:AT$97,$C16,AS$11:AS$97)) | S16: =IF(R16=" ",0,IF(R16=1,50,IF(R16=2,48,IF(R16=3,46,IF(R16=4,44,IF(R16=5,42,IF(AND(R16>5,R16<45),46-R16,2))))))) -> 0 | U16: =IF(SUMIF(AW$11:AW$97,$C16,AV$11:AV$97)=0," ",SUMIF(AW$11:AW$97,$C16,AV$11:AV$97)) | V16: =IF(U16=" ",0,IF(U16=1,50,IF(U16=2,48,IF(U16=3,46,IF(U16=4,44,IF(U16=5,42,IF(AND(U16>5,U16<45),46-U16,2))))))) -> 0 | X16: =IF(SUMIF(AZ$11:AZ$97,$C16,AY$11:AY$97)=0," ",SUMIF(AZ$11:AZ$97,$C16,AY$11:AY$97)) | Y16: =IF(X16=" ",0,IF(X16=1,50,IF(X16=2,48,IF(X16=3,46,IF(X16=4,44,IF(X16=5,42,IF(AND(X16>5,X16<45),46-X16,2))))))) -> 0 | AA16: =IF(SUMIF(BC$11:BC$97,$C16,BB$11:BB$97)=0," ",SUMIF(BC$11:BC$97,$C16,BB$11:BB$97)) | AB16: =IF(AA16=" ",0,IF(AA16=1,50,IF(AA16=2,48,IF(AA16=3,46,IF(AA16=4,44,IF(AA16=5,42,IF(AND(AA16>5,AA16<45),46-AA16,2))))))) -> 0 | AD16: =IF(SUMIF(BF$11:BF$97,$C16,BE$11:BE$97)=0," ",SUMIF(BF$11:BF$97,$C16,BE$11:BE$97)) | AE16: =IF(AD16=" ",0,IF(AD16=1,50,IF(AD16=2,48,IF(AD16=3,46,IF(AD16=4,44,IF(AD16=5,42,IF(AND(AD16>5,AD16<45),46-AD16,2))))))) -> 0 | AF16: =J16+M16+P16+S16+V16+Y16+AB16+AE16 -> 40 | AG16: =A16 -> 6 | AH16: =AF16-MIN(J16,M16,P16,S16,V16,Y16,AB16,AE16) -> 40 | AJ16: 6 | AK16: 336 | AM16: 6 | AP16: 6 | AS16: 6 | AV16: 6 | AY16: 6 | BB16: 6 | BE16: 6
A17: 7 | B17: =AF17 -> 39 | C17: 331 | D17: Malo NEVEU | E17: H | F17: ORC Epone | H17: 1 | I17: 7 | J17: =IF(I17=" ",0,IF(I17=1,50,IF(I17=2,48,IF(I17=3,46,IF(I17=4,44,IF(I17=5,42,IF(AND(I17>5,I17<45),46-I17,2))))))) -> 39 | L17: =IF(SUMIF(AN$11:AN$97,$C17,AM$11:AM$97)=0," ",SUMIF(AN$11:AN$97,$C17,AM$11:AM$97)) | M17: =IF(L17=" ",0,IF(L17=1,50,IF(L17=2,48,IF(L17=3,46,IF(L17=4,44,IF(L17=5,42,IF(AND(L17>5,L17<45),46-L17,2))))))) -> 0 | O17: =IF(SUMIF(AQ$11:AQ$97,$C17,AP$11:AP$97)=0," ",SUMIF(AQ$11:AQ$97,$C17,AP$11:AP$97)) | P17: =IF(O17=" ",0,IF(O17=1,50,IF(O17=2,48,IF(O17=3,46,IF(O17=4,44,IF(O17=5,42,IF(AND(O17>5,O17<45),46-O17,2))))))) -> 0 | R17: =IF(SUMIF(AT$11:AT$97,$C17,AS$11:AS$97)=0," ",SUMIF(AT$11:AT$97,$C17,AS$11:AS$97)) | S17: =IF(R17=" ",0,IF(R17=1,50,IF(R17=2,48,IF(R17=3,46,IF(R17=4,44,IF(R17=5,42,IF(AND(R17>5,R17<45),46-R17,2))))))) -> 0 | U17: =IF(SUMIF(AW$11:AW$97,$C17,AV$11:AV$97)=0," ",SUMIF(AW$11:AW$97,$C17,AV$11:AV$97)) | V17: =IF(U17=" ",0,IF(U17=1,50,IF(U17=2,48,IF(U17=3,46,IF(U17=4,44,IF(U17=5,42,IF(AND(U17>5,U17<45),46-U17,2))))))) -> 0 | X17: =IF(SUMIF(AZ$11:AZ$97,$C17,AY$11:AY$97)=0," ",SUMIF(AZ$11:AZ$97,$C17,AY$11:AY$97)) | Y17: =IF(X17=" ",0,IF(X17=1,50,IF(X17=2,48,IF(X17=3,46,IF(X17=4,44,IF(X17=5,42,IF(AND(X17>5,X17<45),46-X17,2))))))) -> 0 | AA17: =IF(SUMIF(BC$11:BC$97,$C17,BB$11:BB$97)=0," ",SUMIF(BC$11:BC$97,$C17,BB$11:BB$97)) | AB17: =IF(AA17=" ",0,IF(AA17=1,50,IF(AA17=2,48,IF(AA17=3,46,IF(AA17=4,44,IF(AA17=5,42,IF(AND(AA17>5,AA17<45),46-AA17,2))))))) -> 0 | AD17: =IF(SUMIF(BF$11:BF$97,$C17,BE$11:BE$97)=0," ",SUMIF(BF$11:BF$97,$C17,BE$11:BE$97)) | AE17: =IF(AD17=" ",0,IF(AD17=1,50,IF(AD17=2,48,IF(AD17=3,46,IF(AD17=4,44,IF(AD17=5,42,IF(AND(AD17>5,AD17<45),46-AD17,2))))))) -> 0 | AF17: =J17+M17+P17+S17+V17+Y17+AB17+AE17 -> 39 | AG17: =A17 -> 7 | AH17: =AF17-MIN(J17,M17,P17,S17,V17,Y17,AB17,AE17) -> 39 | AJ17: 7 | AK17: 331 | AM17: 7 | AP17: 7 | AS17: 7 | AV17: 7 | AY17: 7 | BB17: 7 | BE17: 7
A18: 8 | B18: =AF18 -> 38 | C18: 318 | D18: Marc TROMMELEN | E18: H | F18: OCVO 95 | H18: 1 | I18: 8 | J18: =IF(I18=" ",0,IF(I18=1,50,IF(I18=2,48,IF(I18=3,46,IF(I18=4,44,IF(I18=5,42,IF(AND(I18>5,I18<45),46-I18,2))))))) -> 38 | L18: =IF(SUMIF(AN$11:AN$97,$C18,AM$11:AM$97)=0," ",SUMIF(AN$11:AN$97,$C18,AM$11:AM$97)) | M18: =IF(L18=" ",0,IF(L18=1,50,IF(L18=2,48,IF(L18=3,46,IF(L18=4,44,IF(L18=5,42,IF(AND(L18>5,L18<45),46-L18,2))))))) -> 0 | O18: =IF(SUMIF(AQ$11:AQ$97,$C18,AP$11:AP$97)=0," ",SUMIF(AQ$11:AQ$97,$C18,AP$11:AP$97)) | P18: =IF(O18=" ",0,IF(O18=1,50,IF(O18=2,48,IF(O18=3,46,IF(O18=4,44,IF(O18=5,42,IF(AND(O18>5,O18<45),46-O18,2))))))) -> 0 | R18: =IF(SUMIF(AT$11:AT$97,$C18,AS$11:AS$97)=0," ",SUMIF(AT$11:AT$97,$C18,AS$11:AS$97)) | S18: =IF(R18=" ",0,IF(R18=1,50,IF(R18=2,48,IF(R18=3,46,IF(R18=4,44,IF(R18=5,42,IF(AND(R18>5,R18<45),46-R18,2))))))) -> 0 | U18: =IF(SUMIF(AW$11:AW$97,$C18,AV$11:AV$97)=0," ",SUMIF(AW$11:AW$97,$C18,AV$11:AV$97)) | V18: =IF(U18=" ",0,IF(U18=1,50,IF(U18=2,48,IF(U18=3,46,IF(U18=4,44,IF(U18=5,42,IF(AND(U18>5,U18<45),46-U18,2))))))) -> 0 | X18: =IF(SUMIF(AZ$11:AZ$97,$C18,AY$11:AY$97)=0," ",SUMIF(AZ$11:AZ$97,$C18,AY$11:AY$97)) | Y18: =IF(X18=" ",0,IF(X18=1,50,IF(X18=2,48,IF(X18=3,46,IF(X18=4,44,IF(X18=5,42,IF(AND(X18>5,X18<45),46-X18,2))))))) -> 0 | AA18: =IF(SUMIF(BC$11:BC$97,$C18,BB$11:BB$97)=0," ",SUMIF(BC$11:BC$97,$C18,BB$11:BB$97)) | AB18: =IF(AA18=" ",0,IF(AA18=1,50,IF(AA18=2,48,IF(AA18=3,46,IF(AA18=4,44,IF(AA18=5,42,IF(AND(AA18>5,AA18<45),46-AA18,2))))))) -> 0 | AD18: =IF(SUMIF(BF$11:BF$97,$C18,BE$11:BE$97)=0," ",SUMIF(BF$11:BF$97,$C18,BE$11:BE$97)) | AE18: =IF(AD18=" ",0,IF(AD18=1,50,IF(AD18=2,48,IF(AD18=3,46,IF(AD18=4,44,IF(AD18=5,42,IF(AND(AD18>5,AD18<45),46-AD18,2))))))) -> 0 | AF18: =J18+M18+P18+S18+V18+Y18+AB18+AE18 -> 38 | AG18: =A18 -> 8 | AH18: =AF18-MIN(J18,M18,P18,S18,V18,Y18,AB18,AE18) -> 38 | AJ18: 8 | AK18: 318 | AM18: 8 | AP18: 8 | AS18: 8 | AV18: 8 | AY18: 8 | BB18: 8 | BE18: 8
A19: 9 | B19: =AF19 -> 37 | C19: 317 | D19: Romain DALBOSCO | E19: H | F19: OCVO | H19: 1 | I19: 9 | J19: =IF(I19=" ",0,IF(I19=1,50,IF(I19=2,48,IF(I19=3,46,IF(I19=4,44,IF(I19=5,42,IF(AND(I19>5,I19<45),46-I19,2))))))) -> 37 | L19: =IF(SUMIF(AN$11:AN$97,$C19,AM$11:AM$97)=0," ",SUMIF(AN$11:AN$97,$C19,AM$11:AM$97)) | M19: =IF(L19=" ",0,IF(L19=1,50,IF(L19=2,48,IF(L19=3,46,IF(L19=4,44,IF(L19=5,42,IF(AND(L19>5,L19<45),46-L19,2))))))) -> 0 | O19: =IF(SUMIF(AQ$11:AQ$97,$C19,AP$11:AP$97)=0," ",SUMIF(AQ$11:AQ$97,$C19,AP$11:AP$97)) | P19: =IF(O19=" ",0,IF(O19=1,50,IF(O19=2,48,IF(O19=3,46,IF(O19=4,44,IF(O19=5,42,IF(AND(O19>5,O19<45),46-O19,2))))))) -> 0 | R19: =IF(SUMIF(AT$11:AT$97,$C19,AS$11:AS$97)=0," ",SUMIF(AT$11:AT$97,$C19,AS$11:AS$97)) | S19: =IF(R19=" ",0,IF(R19=1,50,IF(R19=2,48,IF(R19=3,46,IF(R19=4,44,IF(R19=5,42,IF(AND(R19>5,R19<45),46-R19,2))))))) -> 0 | U19: =IF(SUMIF(AW$11:AW$97,$C19,AV$11:AV$97)=0," ",SUMIF(AW$11:AW$97,$C19,AV$11:AV$97)) | V19: =IF(U19=" ",0,IF(U19=1,50,IF(U19=2,48,IF(U19=3,46,IF(U19=4,44,IF(U19=5,42,IF(AND(U19>5,U19<45),46-U19,2))))))) -> 0 | X19: =IF(SUMIF(AZ$11:AZ$97,$C19,AY$11:AY$97)=0," ",SUMIF(AZ$11:AZ$97,$C19,AY$11:AY$97)) | Y19: =IF(X19=" ",0,IF(X19=1,50,IF(X19=2,48,IF(X19=3,46,IF(X19=4,44,IF(X19=5,42,IF(AND(X19>5,X19<45),46-X19,2))))))) -> 0 | AA19: =IF(SUMIF(BC$11:BC$97,$C19,BB$11:BB$97)=0," ",SUMIF(BC$11:BC$97,$C19,BB$11:BB$97)) | AB19: =IF(AA19=" ",0,IF(AA19=1,50,IF(AA19=2,48,IF(AA19=3,46,IF(AA19=4,44,IF(AA19=5,42,IF(AND(AA19>5,AA19<45),46-AA19,2))))))) -> 0 | AD19: =IF(SUMIF(BF$11:BF$97,$C19,BE$11:BE$97)=0," ",SUMIF(BF$11:BF$97,$C19,BE$11:BE$97)) | AE19: =IF(AD19=" ",0,IF(AD19=1,50,IF(AD19=2,48,IF(AD19=3,46,IF(AD19=4,44,IF(AD19=5,42,IF(AND(AD19>5,AD19<45),46-AD19,2))))))) -> 0 | AF19: =J19+M19+P19+S19+V19+Y19+AB19+AE19 -> 37 | AG19: =A19 -> 9 | AH19: =AF19-MIN(J19,M19,P19,S19,V19,Y19,AB19,AE19) -> 37 | AJ19: 9 | AK19: 317 | AM19: 9 | AP19: 9 | AS19: 9 | AV19: 9 | AY19: 9 | BB19: 9 | BE19: 9
A20: 10 | B20: =AF20 -> 36 | C20: 338 | D20: Alix BERNARD | E20: H | F20: ORC Epone | H20: 1 | I20: 10 | J20: =IF(I20=" ",0,IF(I20=1,50,IF(I20=2,48,IF(I20=3,46,IF(I20=4,44,IF(I20=5,42,IF(AND(I20>5,I20<45),46-I20,2))))))) -> 36 | L20: =IF(SUMIF(AN$11:AN$97,$C20,AM$11:AM$97)=0," ",SUMIF(AN$11:AN$97,$C20,AM$11:AM$97)) | M20: =IF(L20=" ",0,IF(L20=1,50,IF(L20=2,48,IF(L20=3,46,IF(L20=4,44,IF(L20=5,42,IF(AND(L20>5,L20<45),46-L20,2))))))) -> 0 | O20: =IF(SUMIF(AQ$11:AQ$97,$C20,AP$11:AP$97)=0," ",SUMIF(AQ$11:AQ$97,$C20,AP$11:AP$97)) | P20: =IF(O20=" ",0,IF(O20=1,50,IF(O20=2,48,IF(O20=3,46,IF(O20=4,44,IF(O20=5,42,IF(AND(O20>5,O20<45),46-O20,2))))))) -> 0 | R20: =IF(SUMIF(AT$11:AT$97,$C20,AS$11:AS$97)=0," ",SUMIF(AT$11:AT$97,$C20,AS$11:AS$97)) | S20: =IF(R20=" ",0,IF(R20=1,50,IF(R20=2,48,IF(R20=3,46,IF(R20=4,44,IF(R20=5,42,IF(AND(R20>5,R20<45),46-R20,2))))))) -> 0 | U20: =IF(SUMIF(AW$11:AW$97,$C20,AV$11:AV$97)=0," ",SUMIF(AW$11:AW$97,$C20,AV$11:AV$97)) | V20: =IF(U20=" ",0,IF(U20=1,50,IF(U20=2,48,IF(U20=3,46,IF(U20=4,44,IF(U20=5,42,IF(AND(U20>5,U20<45),46-U20,2))))))) -> 0 | X20: =IF(SUMIF(AZ$11:AZ$97,$C20,AY$11:AY$97)=0," ",SUMIF(AZ$11:AZ$97,$C20,AY$11:AY$97)) | Y20: =IF(X20=" ",0,IF(X20=1,50,IF(X20=2,48,IF(X20=3,46,IF(X20=4,44,IF(X20=5,42,IF(AND(X20>5,X20<45),46-X20,2))))))) -> 0 | AA20: =IF(SUMIF(BC$11:BC$97,$C20,BB$11:BB$97)=0," ",SUMIF(BC$11:BC$97,$C20,BB$11:BB$97)) | AB20: =IF(AA20=" ",0,IF(AA20=1,50,IF(AA20=2,48,IF(AA20=3,46,IF(AA20=4,44,IF(AA20=5,42,IF(AND(AA20>5,AA20<45),46-AA20,2))))))) -> 0 | AD20: =IF(SUMIF(BF$11:BF$97,$C20,BE$11:BE$97)=0," ",SUMIF(BF$11:BF$97,$C20,BE$11:BE$97)) | AE20: =IF(AD20=" ",0,IF(AD20=1,50,IF(AD20=2,48,IF(AD20=3,46,IF(AD20=4,44,IF(AD20=5,42,IF(AND(AD20>5,AD20<45),46-AD20,2))))))) -> 0 | AF20: =J20+M20+P20+S20+V20+Y20+AB20+AE20 -> 36 | AG20: =A20 -> 10 | AH20: =AF20-MIN(J20,M20,P20,S20,V20,Y20,AB20,AE20) -> 36 | AJ20: 10 | AK20: 338 | AM20: 10 | AP20: 10 | AS20: 10 | AV20: 10 | AY20: 10 | BB20: 10 | BE20: 10
